BEGIN:VCALENDAR
VERSION:2.0
PRODID:-//Livable Raleigh - ECPv6.15.20//NONSGML v1.0//EN
CALSCALE:GREGORIAN
METHOD:PUBLISH
X-WR-CALNAME:Livable Raleigh
X-ORIGINAL-URL:https://livableraleigh.com
X-WR-CALDESC:Events for Livable Raleigh
REFRESH-INTERVAL;VALUE=DURATION:PT1H
X-Robots-Tag:noindex
X-PUBLISHED-TTL:PT1H
BEGIN:VTIMEZONE
TZID:America/New_York
BEGIN:DAYLIGHT
TZOFFSETFROM:-0500
TZOFFSETTO:-0400
TZNAME:EDT
DTSTART:20240310T070000
END:DAYLIGHT
BEGIN:STANDARD
TZOFFSETFROM:-0400
TZOFFSETTO:-0500
TZNAME:EST
DTSTART:20241103T060000
END:STANDARD
BEGIN:DAYLIGHT
TZOFFSETFROM:-0500
TZOFFSETTO:-0400
TZNAME:EDT
DTSTART:20250309T070000
END:DAYLIGHT
BEGIN:STANDARD
TZOFFSETFROM:-0400
TZOFFSETTO:-0500
TZNAME:EST
DTSTART:20251102T060000
END:STANDARD
BEGIN:DAYLIGHT
TZOFFSETFROM:-0500
TZOFFSETTO:-0400
TZNAME:EDT
DTSTART:20260308T070000
END:DAYLIGHT
BEGIN:STANDARD
TZOFFSETFROM:-0400
TZOFFSETTO:-0500
TZNAME:EST
DTSTART:20261101T060000
END:STANDARD
END:VTIMEZONE
BEGIN:VEVENT
DTSTART;TZID=America/New_York:20251202T110000
DTEND;TZID=America/New_York:20251202T123000
DTSTAMP:20260421T080909
CREATED:20251031T015227Z
LAST-MODIFIED:20251125T205237Z
UID:49145-1764673200-1764678600@livableraleigh.com
SUMMARY:Raleigh Transit Authority Route Committee Meeting -- CANCELLED
DESCRIPTION:This committee studies questions dealing with routes\, services\, passenger amenities. \nFor more information and to view the agenda\, please visit Raleigh Transit Authority.
URL:https://livableraleigh.com/event/raleigh-transit-authority-route-committee-meeting-33/
LOCATION:Raleigh Union Station\, 510 West Martin Street\, Suite 200\, Raleigh\, NC\, 27601
CATEGORIES:Transit Authority
END:VEVENT
BEGIN:VEVENT
DTSTART;TZID=America/New_York:20251113T153000
DTEND;TZID=America/New_York:20251113T170000
DTSTAMP:20260421T080909
CREATED:20250929T210346Z
LAST-MODIFIED:20250929T210346Z
UID:48694-1763047800-1763053200@livableraleigh.com
SUMMARY:Raleigh Transit Authority
DESCRIPTION:This meeting of the Raleigh Transit Authority will be held at 3:30 p.m. and the Public Comment begins at 4 p.m. For more information and to view the agenda\, please visit Raleigh Transit Authority. \nIf you’d like to submit a comment for the upcoming virtual meeting\, please email GoRaleigh@raleighnc.gov. \nThe meeting may be viewed live via RTN 11\, the City’s live stream page\, and YouTube.
URL:https://livableraleigh.com/event/raleigh-transit-authority-31/
LOCATION:Raleigh Municipal Building\, 222 W. Hargett St.\, Raleigh\, NC\, 27601\, United States
CATEGORIES:Transit Authority
END:VEVENT
BEGIN:VEVENT
DTSTART;TZID=America/New_York:20251106T140000
DTEND;TZID=America/New_York:20251106T153000
DTSTAMP:20260421T080909
CREATED:20250929T142035Z
LAST-MODIFIED:20250929T142035Z
UID:48655-1762437600-1762443000@livableraleigh.com
SUMMARY:Raleigh Transit Authority Marketing Committee Meeting
DESCRIPTION:This committee formulates an annual marketing program for Transit Authority approval and monitors program execution by staff. \nFor more information and to view the agenda\, please visit Raleigh Transit Authority.
URL:https://livableraleigh.com/event/raleigh-transit-authority-marketing-committee-meeting-16/
LOCATION:Raleigh Union Station\, 510 West Martin Street\, Suite 200\, Raleigh\, NC\, 27601
CATEGORIES:Transit Authority
END:VEVENT
BEGIN:VEVENT
DTSTART;TZID=America/New_York:20251105T153000
DTEND;TZID=America/New_York:20251105T170000
DTSTAMP:20260421T080909
CREATED:20250929T141723Z
LAST-MODIFIED:20250929T141723Z
UID:48651-1762356600-1762362000@livableraleigh.com
SUMMARY:Raleigh Transit Authority Finance and Policy Committee Meeting
DESCRIPTION:This committee reviews any budget/financial issues referred from the Transit Authority and other sub-committees as well as studies questions/policies related to transit and the GoRaleigh Access program. \nFor more information and to view the agenda\, please visit Raleigh Transit Authority.
URL:https://livableraleigh.com/event/raleigh-transit-authority-finance-and-policy-committee-meeting-26/
LOCATION:Raleigh Union Station\, 510 West Martin Street\, Suite 200\, Raleigh\, NC\, 27601
CATEGORIES:Transit Authority
END:VEVENT
BEGIN:VEVENT
DTSTART;TZID=America/New_York:20251104T110000
DTEND;TZID=America/New_York:20251104T123000
DTSTAMP:20260421T080909
CREATED:20250929T140802Z
LAST-MODIFIED:20250929T140802Z
UID:48637-1762254000-1762259400@livableraleigh.com
SUMMARY:Raleigh Transit Authority Route Committee Meeting
DESCRIPTION:This committee studies questions dealing with routes\, services\, passenger amenities. \nFor more information and to view the agenda\, please visit Raleigh Transit Authority.
URL:https://livableraleigh.com/event/raleigh-transit-authority-route-committee-meeting-32/
LOCATION:Raleigh Union Station\, 510 West Martin Street\, Suite 200\, Raleigh\, NC\, 27601
CATEGORIES:Transit Authority
END:VEVENT
BEGIN:VEVENT
DTSTART;TZID=America/New_York:20251009T153000
DTEND;TZID=America/New_York:20251009T170000
DTSTAMP:20260421T080909
CREATED:20250912T145825Z
LAST-MODIFIED:20250912T145825Z
UID:48104-1760023800-1760029200@livableraleigh.com
SUMMARY:Raleigh Transit Authority
DESCRIPTION:This meeting of the Raleigh Transit Authority will be held at 3:30 p.m. and the Public Comment begins at 4 p.m. For more information and to view the agenda\, please visit Raleigh Transit Authority. \nIf you’d like to submit a comment for the upcoming virtual meeting\, please email GoRaleigh@raleighnc.gov. \nThe meeting may be viewed live via RTN 11\, the City’s live stream page\, and YouTube.
URL:https://livableraleigh.com/event/raleigh-transit-authority-30/
LOCATION:Raleigh Municipal Building\, 222 W. Hargett St.\, Raleigh\, NC\, 27601\, United States
CATEGORIES:Transit Authority
END:VEVENT
BEGIN:VEVENT
DTSTART;TZID=America/New_York:20251002T140000
DTEND;TZID=America/New_York:20251002T153000
DTSTAMP:20260421T080909
CREATED:20250830T214512Z
LAST-MODIFIED:20250925T155303Z
UID:47661-1759413600-1759419000@livableraleigh.com
SUMMARY:Raleigh Transit Authority Marketing Committee Meeting - canceled
DESCRIPTION:This committee formulates an annual marketing program for Transit Authority approval and monitors program execution by staff. \nFor more information and to view the agenda\, please visit Raleigh Transit Authority.
URL:https://livableraleigh.com/event/raleigh-transit-authority-marketing-committee-meeting-15/
LOCATION:Raleigh Union Station\, 510 West Martin Street\, Suite 200\, Raleigh\, NC\, 27601
CATEGORIES:Transit Authority
END:VEVENT
BEGIN:VEVENT
DTSTART;TZID=America/New_York:20251001T153000
DTEND;TZID=America/New_York:20251001T170000
DTSTAMP:20260421T080909
CREATED:20250830T214216Z
LAST-MODIFIED:20250830T214216Z
UID:47657-1759332600-1759338000@livableraleigh.com
SUMMARY:Raleigh Transit Authority Finance and Policy Committee Meeting
DESCRIPTION:This committee reviews any budget/financial issues referred from the Transit Authority and other sub-committees as well as studies questions/policies related to transit and the GoRaleigh Access program. \nFor more information and to view the agenda\, please visit Raleigh Transit Authority.
URL:https://livableraleigh.com/event/raleigh-transit-authority-finance-and-policy-committee-meeting-25/
LOCATION:Raleigh Union Station\, 510 West Martin Street\, Suite 200\, Raleigh\, NC\, 27601
CATEGORIES:Transit Authority
END:VEVENT
BEGIN:VEVENT
DTSTART;TZID=America/New_York:20250930T110000
DTEND;TZID=America/New_York:20250930T123000
DTSTAMP:20260421T080909
CREATED:20250726T172347Z
LAST-MODIFIED:20250726T172347Z
UID:47000-1759230000-1759235400@livableraleigh.com
SUMMARY:Raleigh Transit Authority Route Committee Meeting
DESCRIPTION:This committee studies questions dealing with routes\, services\, passenger amenities. \nFor more information and to view the agenda\, please visit Raleigh Transit Authority.
URL:https://livableraleigh.com/event/raleigh-transit-authority-route-committee-meeting-31/
LOCATION:Raleigh Union Station\, 510 West Martin Street\, Suite 200\, Raleigh\, NC\, 27601
CATEGORIES:Transit Authority
END:VEVENT
BEGIN:VEVENT
DTSTART;TZID=America/New_York:20250911T153000
DTEND;TZID=America/New_York:20250911T170000
DTSTAMP:20260421T080909
CREATED:20250726T164200Z
LAST-MODIFIED:20250726T164200Z
UID:46954-1757604600-1757610000@livableraleigh.com
SUMMARY:Raleigh Transit Authority
DESCRIPTION:This meeting of the Raleigh Transit Authority will be held at 3:30 p.m. and the Public Comment begins at 4 p.m. For more information and to view the agenda\, please visit Raleigh Transit Authority. \nIf you’d like to submit a comment for the upcoming virtual meeting\, please email GoRaleigh@raleighnc.gov. \nThe meeting may be viewed live via RTN 11\, the City’s live stream page\, and YouTube.
URL:https://livableraleigh.com/event/raleigh-transit-authority-28/
LOCATION:Raleigh Municipal Building\, 222 W. Hargett St.\, Raleigh\, NC\, 27601\, United States
CATEGORIES:Transit Authority
END:VEVENT
BEGIN:VEVENT
DTSTART;TZID=America/New_York:20250904T140000
DTEND;TZID=America/New_York:20250904T153000
DTSTAMP:20260421T080909
CREATED:20250726T161149Z
LAST-MODIFIED:20250726T161149Z
UID:46925-1756994400-1756999800@livableraleigh.com
SUMMARY:Raleigh Transit Authority Marketing Committee Meeting
DESCRIPTION:This committee formulates an annual marketing program for Transit Authority approval and monitors program execution by staff. \nFor more information and to view the agenda\, please visit Raleigh Transit Authority.
URL:https://livableraleigh.com/event/raleigh-transit-authority-marketing-committee-meeting-14/
LOCATION:Raleigh Union Station\, 510 West Martin Street\, Suite 200\, Raleigh\, NC\, 27601
CATEGORIES:Transit Authority
END:VEVENT
BEGIN:VEVENT
DTSTART;TZID=America/New_York:20250903T153000
DTEND;TZID=America/New_York:20250903T170000
DTSTAMP:20260421T080909
CREATED:20250726T160927Z
LAST-MODIFIED:20250726T160927Z
UID:46921-1756913400-1756918800@livableraleigh.com
SUMMARY:Raleigh Transit Authority Finance and Policy Committee Meeting
DESCRIPTION:This committee reviews any budget/financial issues referred from the Transit Authority and other sub-committees as well as studies questions/policies related to transit and the GoRaleigh Access program. \nFor more information and to view the agenda\, please visit Raleigh Transit Authority.
URL:https://livableraleigh.com/event/raleigh-transit-authority-finance-and-policy-committee-meeting-24/
LOCATION:Raleigh Union Station\, 510 West Martin Street\, Suite 200\, Raleigh\, NC\, 27601
CATEGORIES:Transit Authority
END:VEVENT
BEGIN:VEVENT
DTSTART;TZID=America/New_York:20250902T110000
DTEND;TZID=America/New_York:20250902T123000
DTSTAMP:20260421T080909
CREATED:20250726T155931Z
LAST-MODIFIED:20250924T100601Z
UID:46909-1756810800-1756816200@livableraleigh.com
SUMMARY:Raleigh Transit Authority Route Committee Meeting
DESCRIPTION:This committee studies questions dealing with routes\, services\, passenger amenities. \nFor more information and to view the agenda\, please visit Raleigh Transit Authority.
URL:https://livableraleigh.com/event/raleigh-transit-authority-route-committee-meeting-30/
LOCATION:Raleigh Union Station\, 510 West Martin Street\, Suite 200\, Raleigh\, NC\, 27601
CATEGORIES:Transit Authority
END:VEVENT
BEGIN:VEVENT
DTSTART;TZID=America/New_York:20250814T153000
DTEND;TZID=America/New_York:20250814T170000
DTSTAMP:20260421T080909
CREATED:20250627T003812Z
LAST-MODIFIED:20250627T003812Z
UID:46307-1755185400-1755190800@livableraleigh.com
SUMMARY:Raleigh Transit Authority
DESCRIPTION:This meeting of the Raleigh Transit Authority will be held at 3:30 p.m. and the Public Comment begins at 4 p.m. For more information and to view the agenda\, please visit Raleigh Transit Authority. \nIf you’d like to submit a comment for the upcoming virtual meeting\, please email GoRaleigh@raleighnc.gov. \nThe meeting may be viewed live via RTN 11\, the City’s live stream page\, and YouTube.
URL:https://livableraleigh.com/event/raleigh-transit-authority-29/
LOCATION:Raleigh Municipal Building\, 222 W. Hargett St.\, Raleigh\, NC\, 27601\, United States
CATEGORIES:Transit Authority
END:VEVENT
BEGIN:VEVENT
DTSTART;TZID=America/New_York:20250807T140000
DTEND;TZID=America/New_York:20250807T150000
DTSTAMP:20260421T080909
CREATED:20250724T142031Z
LAST-MODIFIED:20250724T142031Z
UID:46897-1754575200-1754578800@livableraleigh.com
SUMMARY:Raleigh Transit Authority Marketing Committee Meeting
DESCRIPTION:This committee formulates an annual marketing program for Transit Authority approval and monitors program execution by staff. \nFor more information and to view the agenda\, please visit Raleigh Transit Authority.
URL:https://livableraleigh.com/event/raleigh-transit-authority-marketing-committee-meeting-13/
LOCATION:Raleigh Union Station\, 510 West Martin Street\, Suite 200\, Raleigh\, NC\, 27601
CATEGORIES:Engagement Filter,Transit Authority
END:VEVENT
BEGIN:VEVENT
DTSTART;TZID=America/New_York:20250806T153000
DTEND;TZID=America/New_York:20250806T170000
DTSTAMP:20260421T080909
CREATED:20250627T001953Z
LAST-MODIFIED:20250627T001953Z
UID:46283-1754494200-1754499600@livableraleigh.com
SUMMARY:Raleigh Transit Authority Finance and Policy Committee Meeting
DESCRIPTION:This committee reviews any budget/financial issues referred from the Transit Authority and other sub-committees as well as studies questions/policies related to transit and the GoRaleigh Access program. \nFor more information and to view the agenda\, please visit Raleigh Transit Authority.
URL:https://livableraleigh.com/event/raleigh-transit-authority-finance-and-policy-committee-meeting-23/
LOCATION:Raleigh Union Station\, 510 West Martin Street\, Suite 200\, Raleigh\, NC\, 27601
CATEGORIES:Transit Authority
END:VEVENT
BEGIN:VEVENT
DTSTART;TZID=America/New_York:20250805T110000
DTEND;TZID=America/New_York:20250805T123000
DTSTAMP:20260421T080909
CREATED:20250626T231428Z
LAST-MODIFIED:20250626T231428Z
UID:46275-1754391600-1754397000@livableraleigh.com
SUMMARY:Raleigh Transit Authority Route Committee Meeting
DESCRIPTION:This committee studies questions dealing with routes\, services\, passenger amenities. \nFor more information and to view the agenda\, please visit Raleigh Transit Authority.
URL:https://livableraleigh.com/event/raleigh-transit-authority-route-committee-meeting-29/
LOCATION:Raleigh Union Station\, 510 West Martin Street\, Suite 200\, Raleigh\, NC\, 27601
CATEGORIES:Transit Authority
END:VEVENT
BEGIN:VEVENT
DTSTART;TZID=America/New_York:20250702T153000
DTEND;TZID=America/New_York:20250702T170000
DTSTAMP:20260421T080909
CREATED:20250530T032839Z
LAST-MODIFIED:20250530T032839Z
UID:45827-1751470200-1751475600@livableraleigh.com
SUMMARY:Raleigh Transit Authority Finance and Policy Committee Meeting
DESCRIPTION:This committee reviews any budget/financial issues referred from the Transit Authority and other sub-committees as well as studies questions/policies related to transit and the GoRaleigh Access program. \nFor more information and to view the agenda\, please visit Raleigh Transit Authority.
URL:https://livableraleigh.com/event/raleigh-transit-authority-finance-and-policy-committee-meeting-22/
LOCATION:Raleigh Union Station\, 510 West Martin Street\, Suite 200\, Raleigh\, NC\, 27601
CATEGORIES:Transit Authority
END:VEVENT
BEGIN:VEVENT
DTSTART;TZID=America/New_York:20250701T110000
DTEND;TZID=America/New_York:20250701T123000
DTSTAMP:20260421T080909
CREATED:20250530T032135Z
LAST-MODIFIED:20250530T032135Z
UID:45815-1751367600-1751373000@livableraleigh.com
SUMMARY:Raleigh Transit Authority Route Committee Meeting
DESCRIPTION:This committee studies questions dealing with routes\, services\, passenger amenities. \nFor more information and to view the agenda\, please visit Raleigh Transit Authority.
URL:https://livableraleigh.com/event/raleigh-transit-authority-route-committee-meeting-28/
LOCATION:Raleigh Union Station\, 510 West Martin Street\, Suite 200\, Raleigh\, NC\, 27601
CATEGORIES:Transit Authority
END:VEVENT
BEGIN:VEVENT
DTSTART;TZID=America/New_York:20250612T153000
DTEND;TZID=America/New_York:20250612T170000
DTSTAMP:20260421T080909
CREATED:20250502T162448Z
LAST-MODIFIED:20250502T162514Z
UID:45118-1749742200-1749747600@livableraleigh.com
SUMMARY:Raleigh Transit Authority
DESCRIPTION:This meeting of the Raleigh Transit Authority will be held at 3:30 p.m. and the Public Comment begins at 4 p.m. For more information and to view the agenda\, please visit Raleigh Transit Authority. \nIf you’d like to submit a comment for the upcoming virtual meeting\, please email GoRaleigh@raleighnc.gov. \nThe meeting may be viewed live via RTN 11\, the City’s live stream page\, and YouTube.
URL:https://livableraleigh.com/event/raleigh-transit-authority-27/
LOCATION:Raleigh Municipal Building\, 222 W. Hargett St.\, Raleigh\, NC\, 27601\, United States
CATEGORIES:Transit Authority
END:VEVENT
BEGIN:VEVENT
DTSTART;TZID=America/New_York:20250604T153000
DTEND;TZID=America/New_York:20250604T170000
DTSTAMP:20260421T080909
CREATED:20250502T153015Z
LAST-MODIFIED:20250502T153015Z
UID:45076-1749051000-1749056400@livableraleigh.com
SUMMARY:Raleigh Transit Authority Finance and Policy Committee Meeting
DESCRIPTION:This committee reviews any budget/financial issues referred from the Transit Authority and other sub-committees as well as studies questions/policies related to transit and the GoRaleigh Access program. \nFor more information and to view the agenda\, please visit Raleigh Transit Authority.
URL:https://livableraleigh.com/event/raleigh-transit-authority-finance-and-policy-committee-meeting-21/
LOCATION:Raleigh Union Station\, 510 West Martin Street\, Suite 200\, Raleigh\, NC\, 27601
CATEGORIES:Transit Authority
END:VEVENT
BEGIN:VEVENT
DTSTART;TZID=America/New_York:20250603T110000
DTEND;TZID=America/New_York:20250603T123000
DTSTAMP:20260421T080909
CREATED:20250502T152358Z
LAST-MODIFIED:20250529T144931Z
UID:45064-1748948400-1748953800@livableraleigh.com
SUMMARY:Raleigh Transit Authority Route Committee Meeting -- Cancelled
DESCRIPTION:This committee studies questions dealing with routes\, services\, passenger amenities. \nFor more information and to view the agenda\, please visit Raleigh Transit Authority.
URL:https://livableraleigh.com/event/raleigh-transit-authority-route-committee-meeting-27/
LOCATION:Raleigh Union Station\, 510 West Martin Street\, Suite 200\, Raleigh\, NC\, 27601
CATEGORIES:Transit Authority
END:VEVENT
BEGIN:VEVENT
DTSTART;TZID=America/New_York:20250508T153000
DTEND;TZID=America/New_York:20250508T170000
DTSTAMP:20260421T080909
CREATED:20250404T003441Z
LAST-MODIFIED:20250404T003441Z
UID:44565-1746718200-1746723600@livableraleigh.com
SUMMARY:Raleigh Transit Authority
DESCRIPTION:This meeting of the Raleigh Transit Authority will be held at 3:30 p.m. and the Public Comment begins at 4 p.m. For more information and to view the agenda\, please visit Raleigh Transit Authority. \nIf you’d like to submit a comment for the upcoming virtual meeting\, please email GoRaleigh@raleighnc.gov. \nThe meeting may be viewed live via RTN 11\, the City’s live stream page\, and YouTube.
URL:https://livableraleigh.com/event/raleigh-transit-authority-26/
LOCATION:Raleigh Municipal Building\, 222 W. Hargett St.\, Raleigh\, NC\, 27601\, United States
CATEGORIES:Transit Authority
END:VEVENT
BEGIN:VEVENT
DTSTART;TZID=America/New_York:20250430T153000
DTEND;TZID=America/New_York:20250430T170000
DTSTAMP:20260421T080909
CREATED:20250302T024045Z
LAST-MODIFIED:20250424T123759Z
UID:43947-1746027000-1746032400@livableraleigh.com
SUMMARY:Raleigh Transit Authority Finance and Policy Committee Meeting -- CANCELLED
DESCRIPTION:This committee reviews any budget/financial issues referred from the Transit Authority and other sub-committees as well as studies questions/policies related to transit and the GoRaleigh Access program. \nFor more information and to view the agenda\, please visit Raleigh Transit Authority.
URL:https://livableraleigh.com/event/raleigh-transit-authority-finance-and-policy-committee-meeting-20/
LOCATION:Raleigh Union Station\, 510 West Martin Street\, Suite 200\, Raleigh\, NC\, 27601
CATEGORIES:Transit Authority
END:VEVENT
BEGIN:VEVENT
DTSTART;TZID=America/New_York:20250429T110000
DTEND;TZID=America/New_York:20250429T123000
DTSTAMP:20260421T080909
CREATED:20250302T023844Z
LAST-MODIFIED:20250424T123623Z
UID:43943-1745924400-1745929800@livableraleigh.com
SUMMARY:Raleigh Transit Authority Route Committee Meeting -- cancelled
DESCRIPTION:This committee studies questions dealing with routes\, services\, passenger amenities. \nFor more information and to view the agenda\, please visit Raleigh Transit Authority.
URL:https://livableraleigh.com/event/raleigh-transit-authority-route-committee-meeting-26/
LOCATION:Raleigh Union Station\, 510 West Martin Street\, Suite 200\, Raleigh\, NC\, 27601
CATEGORIES:Transit Authority
END:VEVENT
BEGIN:VEVENT
DTSTART;TZID=America/New_York:20250410T153000
DTEND;TZID=America/New_York:20250410T170000
DTSTAMP:20260421T080909
CREATED:20250302T003821Z
LAST-MODIFIED:20250302T003821Z
UID:43895-1744299000-1744304400@livableraleigh.com
SUMMARY:Raleigh Transit Authority
DESCRIPTION:This meeting of the Raleigh Transit Authority will be held at 3:30 p.m. and the Public Comment begins at 4 p.m. For more information and to view the agenda\, please visit Raleigh Transit Authority. \nIf you’d like to submit a comment for the upcoming virtual meeting\, please email GoRaleigh@raleighnc.gov. \nThe meeting may be viewed live via RTN 11\, the City’s live stream page\, and YouTube.
URL:https://livableraleigh.com/event/raleigh-transit-authority-24/
LOCATION:Raleigh Municipal Building\, 222 W. Hargett St.\, Raleigh\, NC\, 27601\, United States
CATEGORIES:Transit Authority
END:VEVENT
BEGIN:VEVENT
DTSTART;TZID=America/New_York:20250408T140000
DTEND;TZID=America/New_York:20250408T153000
DTSTAMP:20260421T080909
CREATED:20250315T033755Z
LAST-MODIFIED:20250403T103034Z
UID:44237-1744120800-1744126200@livableraleigh.com
SUMMARY:Raleigh Transit Authority Marketing Meeting
DESCRIPTION:1. Preliminary Matters\n\n\nA. Call to Order\n\n\nB. Approval of January Summary Notes\nThis Agenda Item Contains an Attachment.\n\nC. Revisions or Additions to the Agenda\n\n\n\n\n\n\n2. Action Items\n\n\nA. None\n\n\n\n\n\n\n3. Information Items\n\n\nA. Marketing Metrics\n\n\nB. Bike Month\n\n\nC. Million Milers\n\n\nD. Bus Signage Promotion\n\n\nE. Dreamville Promotion\n\n\nF. Engagement Events Update\n\n\nG. Influencer Campaign\n\n\n\n\n\n\n4. Concluding Remarks\n\n\n\n5. Adjournment\n\nThis committee formulates an annual marketing program for Transit Authority approval and monitors program execution by staff. \nFor more information and to view the agenda\, please visit Raleigh Transit Authority.
URL:https://livableraleigh.com/event/raleigh-transit-authority-marketing-meeting-2/
LOCATION:Raleigh Union Station\, 510 West Martin Street\, Suite 200\, Raleigh\, NC\, 27601
CATEGORIES:Transit Authority
END:VEVENT
BEGIN:VEVENT
DTSTART;TZID=America/New_York:20250402T153000
DTEND;TZID=America/New_York:20250402T170000
DTSTAMP:20260421T080909
CREATED:20250302T001150Z
LAST-MODIFIED:20250302T001150Z
UID:43863-1743607800-1743613200@livableraleigh.com
SUMMARY:Raleigh Transit Authority Finance and Policy Committee Meeting
DESCRIPTION:This committee reviews any budget/financial issues referred from the Transit Authority and other sub-committees as well as studies questions/policies related to transit and the GoRaleigh Access program. \nFor more information and to view the agenda\, please visit Raleigh Transit Authority.
URL:https://livableraleigh.com/event/raleigh-transit-authority-finance-and-policy-committee-meeting-19/
LOCATION:Raleigh Union Station\, 510 West Martin Street\, Suite 200\, Raleigh\, NC\, 27601
CATEGORIES:Transit Authority
END:VEVENT
BEGIN:VEVENT
DTSTART;TZID=America/New_York:20250401T110000
DTEND;TZID=America/New_York:20250401T123000
DTSTAMP:20260421T080909
CREATED:20250301T235339Z
LAST-MODIFIED:20250301T235339Z
UID:43853-1743505200-1743510600@livableraleigh.com
SUMMARY:Raleigh Transit Authority Route Committee Meeting
DESCRIPTION:This committee studies questions dealing with routes\, services\, passenger amenities. \nFor more information and to view the agenda\, please visit Raleigh Transit Authority.
URL:https://livableraleigh.com/event/raleigh-transit-authority-route-committee-meeting-25/
LOCATION:Raleigh Union Station\, 510 West Martin Street\, Suite 200\, Raleigh\, NC\, 27601
CATEGORIES:Transit Authority
END:VEVENT
BEGIN:VEVENT
DTSTART;TZID=America/New_York:20250313T153000
DTEND;TZID=America/New_York:20250313T170000
DTSTAMP:20260421T080909
CREATED:20250202T184302Z
LAST-MODIFIED:20250202T184333Z
UID:43355-1741879800-1741885200@livableraleigh.com
SUMMARY:Raleigh Transit Authority
DESCRIPTION:This meeting of the Raleigh Transit Authority will be held at 3:30 p.m. and the Public Comment begins at 4 p.m. For more information and to view the agenda\, please visit Raleigh Transit Authority. \nIf you’d like to submit a comment for the upcoming virtual meeting\, please email GoRaleigh@raleighnc.gov. \nThe meeting may be viewed live via RTN 11\, the City’s live stream page\, and YouTube.
URL:https://livableraleigh.com/event/43355/
LOCATION:Raleigh Municipal Building\, 222 W. Hargett St.\, Raleigh\, NC\, 27601\, United States
CATEGORIES:Transit Authority
END:VEVENT
END:VCALENDAR