BEGIN:VCALENDAR
VERSION:2.0
PRODID:-//Livable Raleigh - ECPv6.15.20//NONSGML v1.0//EN
CALSCALE:GREGORIAN
METHOD:PUBLISH
X-ORIGINAL-URL:https://livableraleigh.com
X-WR-CALDESC:Events for Livable Raleigh
REFRESH-INTERVAL;VALUE=DURATION:PT1H
X-Robots-Tag:noindex
X-PUBLISHED-TTL:PT1H
BEGIN:VTIMEZONE
TZID:America/New_York
BEGIN:DAYLIGHT
TZOFFSETFROM:-0500
TZOFFSETTO:-0400
TZNAME:EDT
DTSTART:20220313T070000
END:DAYLIGHT
BEGIN:STANDARD
TZOFFSETFROM:-0400
TZOFFSETTO:-0500
TZNAME:EST
DTSTART:20221106T060000
END:STANDARD
BEGIN:DAYLIGHT
TZOFFSETFROM:-0500
TZOFFSETTO:-0400
TZNAME:EDT
DTSTART:20230312T070000
END:DAYLIGHT
BEGIN:STANDARD
TZOFFSETFROM:-0400
TZOFFSETTO:-0500
TZNAME:EST
DTSTART:20231105T060000
END:STANDARD
BEGIN:DAYLIGHT
TZOFFSETFROM:-0500
TZOFFSETTO:-0400
TZNAME:EDT
DTSTART:20240310T070000
END:DAYLIGHT
BEGIN:STANDARD
TZOFFSETFROM:-0400
TZOFFSETTO:-0500
TZNAME:EST
DTSTART:20241103T060000
END:STANDARD
END:VTIMEZONE
BEGIN:VEVENT
DTSTART;TZID=America/New_York:20230406T140000
DTEND;TZID=America/New_York:20230406T153000
DTSTAMP:20260423T153747
CREATED:20230309T235506Z
LAST-MODIFIED:20230309T235506Z
UID:28393-1680789600-1680795000@livableraleigh.com
SUMMARY:Raleigh Transit Authority Marketing Committee Meeting
DESCRIPTION:This committee formulates an annual marketing program for Transit Authority approval and monitors program execution by staff. \nMembers: \nTolulope Omokaiye – Ex-Officio\nKaren Rindge – Chair\nLaPonda Edmonson \nFor more information and to view the agenda\, please visit Raleigh Transit Authority.
URL:https://livableraleigh.com/event/raleigh-transit-authority-marketing-committee-meeting/
LOCATION:Raleigh Union Station\, 510 West Martin Street\, Suite 200\, Raleigh\, NC\, 27601
CATEGORIES:Transit Authority
END:VEVENT
BEGIN:VEVENT
DTSTART;TZID=America/New_York:20230405T153000
DTEND;TZID=America/New_York:20230405T170000
DTSTAMP:20260423T153747
CREATED:20230220T173233Z
LAST-MODIFIED:20230220T173233Z
UID:27820-1680708600-1680714000@livableraleigh.com
SUMMARY:Raleigh Transit Authority Finance and Policy Committee Meeting
DESCRIPTION:This committee reviews any budget/financial issues referred from the Transit Authority and other sub-committees as well as studies questions/policies related to transit and the GoRaleigh Access program. \nMembers: \nTolulope Omokaiye – Ex-Officio\nTBD – Chair\nJoshua Gill\nLatonia Williams\nLinda Davis \nFor more information and to view the agenda\, please visit Raleigh Transit Authority.
URL:https://livableraleigh.com/event/raleigh-transit-authority-finance-and-policy-committee-meeting-2/
LOCATION:Raleigh Union Station\, 510 West Martin Street\, Suite 200\, Raleigh\, NC\, 27601
CATEGORIES:Transit Authority
END:VEVENT
BEGIN:VEVENT
DTSTART;TZID=America/New_York:20230404T140000
DTEND;TZID=America/New_York:20230404T153000
DTSTAMP:20260423T153747
CREATED:20230330T194823Z
LAST-MODIFIED:20230330T194823Z
UID:28944-1680616800-1680622200@livableraleigh.com
SUMMARY:Raleigh Transit Authority Route Committee Meeting
DESCRIPTION:This committee formulates an annual marketing program for Transit Authority approval and monitors program execution by staff. \nMembers: \nTolulope Omokaiye – Ex-Officio\nKaren Rindge – Chair\nLaPonda Edmonson
URL:https://livableraleigh.com/event/raleigh-transit-authority-route-committee-meeting-2/
LOCATION:NC
CATEGORIES:Transit Authority
END:VEVENT
BEGIN:VEVENT
DTSTART;TZID=America/New_York:20230309T153000
DTEND;TZID=America/New_York:20230309T170000
DTSTAMP:20260423T153747
CREATED:20230215T011418Z
LAST-MODIFIED:20230302T222433Z
UID:27507-1678375800-1678381200@livableraleigh.com
SUMMARY:Raleigh Transit Authority Annual Retreat
DESCRIPTION:This meeting of the Raleigh Transit Authority will be held at 3:30 p.m. and the Public Comment begins at 4 p.m. For more information and to view the agenda\, please visit Raleigh Transit Authority. \nIf you’d like to submit a comment for the upcoming virtual meeting\, please email GoRaleigh@raleighnc.gov no later than noon on March 9.  \nThe meeting may be viewed live via RTN 11\, the City’s live stream page\, and YouTube. \nALL TIMES WITHIN THE MEETING ARE SUBJECT TO CHANGE\n12:00 P.M. – 5:00 P.M\nJohn Chavis Memorial Park Community Center\n505 Martin Luther King Jr. Blvd Rm. 2\, Raleigh\, NC 27601 \nPublic Comment at 4 p.m. (Comments received by email no later than noon on 12/8 will be acknowledged. Email comments to goraleigh@raleighnc.gov) \n\n1. Preliminary Matters\n\nA. Boards and Commission Training / Working Lunch \n\n\nB. Annual Report & Work Plan Affirmation and Changes \n\n\nC. Transit Oriented Development Overlay & Affordable Housing Initiatives \n\n\nD. RTA Meeting Begins with Introduction of Information Items \n\n\nE. Public Comments at 4 p.m. (Comments received by e-mail will be acknowledged at 4:00 p.m.) \n\n\n\n\n\n2. Staff Action\n\n\n\n3. Staff Information\n\nA. Introduction of RTAP – Dev Staff \n\n\n\n\n\n4. Committee Reports\n\n\n\n5. Performance Reports\n\n\n\n6. Concluding Remarks\n\nA. Authority Members \n\n\nB. Staff \n\n\nC. Chairperson \n\n\n\n\n\n7. Adjournment
URL:https://livableraleigh.com/event/raleigh-transit-authority-2/
LOCATION:Raleigh Municipal Building\, 222 W. Hargett St.\, Raleigh\, NC\, 27601\, United States
CATEGORIES:Transit Authority
END:VEVENT
BEGIN:VEVENT
DTSTART;TZID=America/New_York:20230301T153000
DTEND;TZID=America/New_York:20230301T170000
DTSTAMP:20260423T153747
CREATED:20230215T004105Z
LAST-MODIFIED:20230225T151540Z
UID:27483-1677684600-1677690000@livableraleigh.com
SUMMARY:Raleigh Transit Authority Finance and Policy Committee Meeting
DESCRIPTION:3:30 p.m.\nRaleigh Municipal Building\nCity Council Chambers\, Room 201\n222 West Hargett Street\nRaleigh\, North Carolina 27601 \n\n1. Preliminary Matters\n\nA. Call to Order \n\n\nB. Approval of October Summary Notes \n\n\nC. Revisions or Additions to the Agenda \n\n\n\n\n\n2. Action Items\n\nA. None \n\n\n\n\n\n3. Information Items\n\nA. 5310 Call for Projects \n\n\nB. FY2024 Budget \n\n\nC. November Financials \n\n\n\n\n\n4. Concluding Remarks\n\n\n\n5. Adjournment\n\nThis committee reviews any budget/financial issues referred from the Transit Authority and other sub-committees as well as studies questions/policies related to transit and the GoRaleigh Access program. \nMembers: \nTolulope Omokaiye – Ex-Officio\nTBD – Chair\nJoshua Gill\nLatonia Williams\nLinda Davis \nFor more information and to view the agenda\, please visit Raleigh Transit Authority.
URL:https://livableraleigh.com/event/raleigh-transit-authority-finance-and-policy-committee-meeting/
LOCATION:Raleigh Union Station\, 510 West Martin Street\, Suite 200\, Raleigh\, NC\, 27601
CATEGORIES:Transit Authority
END:VEVENT
BEGIN:VEVENT
DTSTART;TZID=America/New_York:20230228T110000
DTEND;TZID=America/New_York:20230228T123000
DTSTAMP:20260423T153747
CREATED:20230215T002404Z
LAST-MODIFIED:20230220T173527Z
UID:27470-1677582000-1677587400@livableraleigh.com
SUMMARY:Raleigh Transit Authority Route Committee Meeting
DESCRIPTION:This committee studies questions dealing with routes\, services\, passenger amenities. \nMembers: \nNathan Spencer – Chair\nSara Prado\nTolulope Omokaiye – Ex-Officio \nFor more information and to view the agenda\, please visit Raleigh Transit Authority.
URL:https://livableraleigh.com/event/raleigh-transit-authority-route-committee-meeting/
LOCATION:Raleigh Union Station\, 510 West Martin Street\, Suite 200\, Raleigh\, NC\, 27601
CATEGORIES:Transit Authority
END:VEVENT
BEGIN:VEVENT
DTSTART;TZID=America/New_York:20230209T153000
DTEND;TZID=America/New_York:20230209T170000
DTSTAMP:20260423T153747
CREATED:20230120T020853Z
LAST-MODIFIED:20230120T020853Z
UID:26906-1675956600-1675962000@livableraleigh.com
SUMMARY:Raleigh Transit Authority
DESCRIPTION:This meeting of the Raleigh Transit Authority will be held at 3:30 p.m. and the Public Comment begins at 4 p.m. For more information and to view the agenda\, please visit Raleigh Transit Authority. \nIf you’d like to submit a comment for the upcoming virtual meeting\, please email GoRaleigh@raleighnc.gov no later than noon on Feb 9.  \nThe meeting may be viewed live via RTN 11\, the City’s live stream page\, and YouTube.
URL:https://livableraleigh.com/event/raleigh-transit-authority/
LOCATION:Raleigh Municipal Building\, 222 W. Hargett St.\, Raleigh\, NC\, 27601\, United States
CATEGORIES:Transit Authority
END:VEVENT
END:VCALENDAR