BEGIN:VCALENDAR
VERSION:2.0
PRODID:-//Livable Raleigh - ECPv6.15.20//NONSGML v1.0//EN
CALSCALE:GREGORIAN
METHOD:PUBLISH
X-WR-CALNAME:Livable Raleigh
X-ORIGINAL-URL:https://livableraleigh.com
X-WR-CALDESC:Events for Livable Raleigh
REFRESH-INTERVAL;VALUE=DURATION:PT1H
X-Robots-Tag:noindex
X-PUBLISHED-TTL:PT1H
BEGIN:VTIMEZONE
TZID:America/New_York
BEGIN:DAYLIGHT
TZOFFSETFROM:-0500
TZOFFSETTO:-0400
TZNAME:EDT
DTSTART:20240310T070000
END:DAYLIGHT
BEGIN:STANDARD
TZOFFSETFROM:-0400
TZOFFSETTO:-0500
TZNAME:EST
DTSTART:20241103T060000
END:STANDARD
BEGIN:DAYLIGHT
TZOFFSETFROM:-0500
TZOFFSETTO:-0400
TZNAME:EDT
DTSTART:20250309T070000
END:DAYLIGHT
BEGIN:STANDARD
TZOFFSETFROM:-0400
TZOFFSETTO:-0500
TZNAME:EST
DTSTART:20251102T060000
END:STANDARD
BEGIN:DAYLIGHT
TZOFFSETFROM:-0500
TZOFFSETTO:-0400
TZNAME:EDT
DTSTART:20260308T070000
END:DAYLIGHT
BEGIN:STANDARD
TZOFFSETFROM:-0400
TZOFFSETTO:-0500
TZNAME:EST
DTSTART:20261101T060000
END:STANDARD
END:VTIMEZONE
BEGIN:VEVENT
DTSTART;TZID=America/New_York:20250115T180000
DTEND;TZID=America/New_York:20250115T193000
DTSTAMP:20260424T090158
CREATED:20250109T170644Z
LAST-MODIFIED:20250109T170754Z
UID:42941-1736964000-1736969400@livableraleigh.com
SUMMARY:Transit Rider Focus Group for Wake Transit Plan Update
DESCRIPTION:Transit Rider Focus Group for Wake Transit Plan Update \nIn 2016\, Wake County voters approved a half-cent sales tax referendum dedicated to expanding and strengthening transit services in Wake County. The Wake Transit Plan (WTP) is the county-wide transit investment program that decides how those funds will be spent on services and projects to shape the future of transit service across Wake County. Every four years\, the Wake Transit Plan is updated to revisit and confirm the region’s ten-year transit investment strategy. This plan will decide how to invest nearly $1 billion over the next 10 years to make it easier for people in Wake County to use public transportation. \nWake Transit staff is currently sharing ideas for how to improve transit access across the region. These ideas are part of what we are sharing now and are helping us develop an investment strategy that will: \n·       Create fast\, reliable connections between Raleigh and Durham with bus rapid transit (BRT) \n·       Make regional rail options better for traveling between major destinations like Durham\, Raleigh\, Cary\, and Wake Forest \n·       Expand the programmed bus rapid transit (BRT) network \n·       Expand frequent local bus service (every 15-minutes or better) \n·       Build mobility hubs across Wake County to enhance multimodal connections \n·       Provide safe access to transit with ADA-accessible stops\, sidewalk connections\, and signalized crossings. \nWe need input from transit riders to tell us what you think about these new ideas for regional connections\, and which projects should come first. Regular transit riders are invited to join Wake Transit staff for a focus group discussion. See below for meeting details: \nDoodle | Sign-up Sheet \n\n\n\n\nDate \n\n\nJanuary 15th \n\n\n\n\nTime \n\n\n6 pm – 7:30 pm \n\n\n\n\nLocation \n\n\nRaleigh Union Station \n2nd Floor Conference Room \n510 W Martin St \n\n\n\n\nDoodle | Sign-up Sheet \nPlease email questions to: \nMary Kate Morookain – marykate.morookian@kimley-horn.com \nAndrea Epstein – andrea.epstein@raleighnc.gov \n\n\n\n\nTrack your bus in real-time. \nVisit: www.GoRaleighLive.org 
URL:https://livableraleigh.com/event/transit-rider-focus-group-for-wake-transit-plan-upda/
LOCATION:Raleigh Union Station\, 510 West Martin Street\, Suite 200\, Raleigh\, NC\, 27601
CATEGORIES:Engagement Filter,Transit Authority
END:VEVENT
END:VCALENDAR