BEGIN:VCALENDAR
VERSION:2.0
PRODID:-//Livable Raleigh - ECPv6.15.20//NONSGML v1.0//EN
CALSCALE:GREGORIAN
METHOD:PUBLISH
X-ORIGINAL-URL:https://livableraleigh.com
X-WR-CALDESC:Events for Livable Raleigh
REFRESH-INTERVAL;VALUE=DURATION:PT1H
X-Robots-Tag:noindex
X-PUBLISHED-TTL:PT1H
BEGIN:VTIMEZONE
TZID:America/New_York
BEGIN:DAYLIGHT
TZOFFSETFROM:-0500
TZOFFSETTO:-0400
TZNAME:EDT
DTSTART:20230312T070000
END:DAYLIGHT
BEGIN:STANDARD
TZOFFSETFROM:-0400
TZOFFSETTO:-0500
TZNAME:EST
DTSTART:20231105T060000
END:STANDARD
BEGIN:DAYLIGHT
TZOFFSETFROM:-0500
TZOFFSETTO:-0400
TZNAME:EDT
DTSTART:20240310T070000
END:DAYLIGHT
BEGIN:STANDARD
TZOFFSETFROM:-0400
TZOFFSETTO:-0500
TZNAME:EST
DTSTART:20241103T060000
END:STANDARD
BEGIN:DAYLIGHT
TZOFFSETFROM:-0500
TZOFFSETTO:-0400
TZNAME:EDT
DTSTART:20250309T070000
END:DAYLIGHT
BEGIN:STANDARD
TZOFFSETFROM:-0400
TZOFFSETTO:-0500
TZNAME:EST
DTSTART:20251102T060000
END:STANDARD
END:VTIMEZONE
BEGIN:VEVENT
DTSTART;TZID=America/New_York:20240702T110000
DTEND;TZID=America/New_York:20240702T123000
DTSTAMP:20260425T095115
CREATED:20240601T210156Z
LAST-MODIFIED:20240627T194917Z
UID:38474-1719918000-1719923400@livableraleigh.com
SUMMARY:Raleigh Transit Authority Route Committee Meeting -- Cancelled
DESCRIPTION:This committee studies questions dealing with routes\, services\, passenger amenities. \nMembers: \nLatonia Williams (Chair)Sara PradoJennifer Truman – Ex-Officio \nFor more information and to view the agenda\, please visit Raleigh Transit Authority.
URL:https://livableraleigh.com/event/raleigh-transit-authority-route-committee-meeting-17/
LOCATION:Raleigh Union Station\, 510 West Martin Street\, Suite 200\, Raleigh\, NC\, 27601
CATEGORIES:Transit Authority
END:VEVENT
END:VCALENDAR