BEGIN:VCALENDAR
VERSION:2.0
PRODID:-//Livable Raleigh - ECPv6.15.20//NONSGML v1.0//EN
CALSCALE:GREGORIAN
METHOD:PUBLISH
X-WR-CALNAME:Livable Raleigh
X-ORIGINAL-URL:https://livableraleigh.com
X-WR-CALDESC:Events for Livable Raleigh
REFRESH-INTERVAL;VALUE=DURATION:PT1H
X-Robots-Tag:noindex
X-PUBLISHED-TTL:PT1H
BEGIN:VTIMEZONE
TZID:America/New_York
BEGIN:DAYLIGHT
TZOFFSETFROM:-0500
TZOFFSETTO:-0400
TZNAME:EDT
DTSTART:20230312T070000
END:DAYLIGHT
BEGIN:STANDARD
TZOFFSETFROM:-0400
TZOFFSETTO:-0500
TZNAME:EST
DTSTART:20231105T060000
END:STANDARD
BEGIN:DAYLIGHT
TZOFFSETFROM:-0500
TZOFFSETTO:-0400
TZNAME:EDT
DTSTART:20240310T070000
END:DAYLIGHT
BEGIN:STANDARD
TZOFFSETFROM:-0400
TZOFFSETTO:-0500
TZNAME:EST
DTSTART:20241103T060000
END:STANDARD
BEGIN:DAYLIGHT
TZOFFSETFROM:-0500
TZOFFSETTO:-0400
TZNAME:EDT
DTSTART:20250309T070000
END:DAYLIGHT
BEGIN:STANDARD
TZOFFSETFROM:-0400
TZOFFSETTO:-0500
TZNAME:EST
DTSTART:20251102T060000
END:STANDARD
END:VTIMEZONE
BEGIN:VEVENT
DTSTART;TZID=America/New_York:20240304T110000
DTEND;TZID=America/New_York:20240304T123000
DTSTAMP:20260425T191358
CREATED:20240202T202852Z
LAST-MODIFIED:20240301T192846Z
UID:36142-1709550000-1709555400@livableraleigh.com
SUMMARY:Raleigh Transit Authority Route Committee Meeting
DESCRIPTION:1. Preliminary Matters\n\n\nA. Call to Order\n\n\nB. Approval of February Summary Notes\nThis Agenda Item Contains an Attachment.\n\nC. Revisions or Additions to the Agenda\n\n\n\n\n\n\n2. Action Items\n\n\nA. None\n\n\n\n\n\n\n3. Information Items\n\n\nA. Blount St./Bike Lane\n\n\nB. GoRaleigh Access Report Development\n\n\nC. FY25 Draft Work Plan\n\n\nD. System Map Review\n\n\nE. Performance Reports\n\n\n\n\n\n\n4. Concluding Remarks\n\n\n\n5. Adjournment\n\nThis committee studies questions dealing with routes\, services\, passenger amenities. \nMembers: \nLatonia Williams (Chair)Sara PradoJennifer Truman – Ex-Officio \nFor more information and to view the agenda\, please visit Raleigh Transit Authority.
URL:https://livableraleigh.com/event/raleigh-transit-authority-route-committee-meeting-13/
LOCATION:Raleigh Union Station\, 510 West Martin Street\, Suite 200\, Raleigh\, NC\, 27601
CATEGORIES:Transit Authority
END:VEVENT
END:VCALENDAR