BEGIN:VCALENDAR
VERSION:2.0
PRODID:-//Livable Raleigh - ECPv6.15.20//NONSGML v1.0//EN
CALSCALE:GREGORIAN
METHOD:PUBLISH
X-WR-CALNAME:Livable Raleigh
X-ORIGINAL-URL:https://livableraleigh.com
X-WR-CALDESC:Events for Livable Raleigh
REFRESH-INTERVAL;VALUE=DURATION:PT1H
X-Robots-Tag:noindex
X-PUBLISHED-TTL:PT1H
BEGIN:VTIMEZONE
TZID:America/New_York
BEGIN:DAYLIGHT
TZOFFSETFROM:-0500
TZOFFSETTO:-0400
TZNAME:EDT
DTSTART:20230312T070000
END:DAYLIGHT
BEGIN:STANDARD
TZOFFSETFROM:-0400
TZOFFSETTO:-0500
TZNAME:EST
DTSTART:20231105T060000
END:STANDARD
BEGIN:DAYLIGHT
TZOFFSETFROM:-0500
TZOFFSETTO:-0400
TZNAME:EDT
DTSTART:20240310T070000
END:DAYLIGHT
BEGIN:STANDARD
TZOFFSETFROM:-0400
TZOFFSETTO:-0500
TZNAME:EST
DTSTART:20241103T060000
END:STANDARD
BEGIN:DAYLIGHT
TZOFFSETFROM:-0500
TZOFFSETTO:-0400
TZNAME:EDT
DTSTART:20250309T070000
END:DAYLIGHT
BEGIN:STANDARD
TZOFFSETFROM:-0400
TZOFFSETTO:-0500
TZNAME:EST
DTSTART:20251102T060000
END:STANDARD
END:VTIMEZONE
BEGIN:VEVENT
DTSTART;TZID=America/New_York:20240104T140000
DTEND;TZID=America/New_York:20240104T153000
DTSTAMP:20260425T230705
CREATED:20231222T183601Z
LAST-MODIFIED:20231223T111252Z
UID:35079-1704376800-1704382200@livableraleigh.com
SUMMARY:Raleigh Transit Authority Marketing Committee Meeting
DESCRIPTION:1. Preliminary Matters\n\n\nA. Call to Order\n\n\nB. Approval of October Summary Notes\n\n\nC. Revisions or Additions to the Agenda\n\n\n\n\n\n\n2. Action Items\n\n\nA. None\n\n\n\n\n\n\n3. Information Items\n\n\nA. Buspoloy Metrics\n\n\nB. Buspoloy Gameplay\n\n\nC. New Year Commute Campaign\n\n\nD. High School Outreach Update\n\n\n\n\n\n\n4. Concluding Remarks\n\n\n\n5. Adjournment
URL:https://livableraleigh.com/event/raleigh-transit-authority-marketing-committee-meeting-8/
LOCATION:Raleigh Union Station\, 510 West Martin Street\, Suite 200\, Raleigh\, NC\, 27601
CATEGORIES:Transit Authority
END:VEVENT
END:VCALENDAR