BEGIN:VCALENDAR
VERSION:2.0
PRODID:-//Livable Raleigh - ECPv6.15.20//NONSGML v1.0//EN
CALSCALE:GREGORIAN
METHOD:PUBLISH
X-ORIGINAL-URL:https://livableraleigh.com
X-WR-CALDESC:Events for Livable Raleigh
REFRESH-INTERVAL;VALUE=DURATION:PT1H
X-Robots-Tag:noindex
X-PUBLISHED-TTL:PT1H
BEGIN:VTIMEZONE
TZID:America/New_York
BEGIN:DAYLIGHT
TZOFFSETFROM:-0500
TZOFFSETTO:-0400
TZNAME:EDT
DTSTART:20240310T070000
END:DAYLIGHT
BEGIN:STANDARD
TZOFFSETFROM:-0400
TZOFFSETTO:-0500
TZNAME:EST
DTSTART:20241103T060000
END:STANDARD
BEGIN:DAYLIGHT
TZOFFSETFROM:-0500
TZOFFSETTO:-0400
TZNAME:EDT
DTSTART:20250309T070000
END:DAYLIGHT
BEGIN:STANDARD
TZOFFSETFROM:-0400
TZOFFSETTO:-0500
TZNAME:EST
DTSTART:20251102T060000
END:STANDARD
BEGIN:DAYLIGHT
TZOFFSETFROM:-0500
TZOFFSETTO:-0400
TZNAME:EDT
DTSTART:20260308T070000
END:DAYLIGHT
BEGIN:STANDARD
TZOFFSETFROM:-0400
TZOFFSETTO:-0500
TZNAME:EST
DTSTART:20261101T060000
END:STANDARD
END:VTIMEZONE
BEGIN:VEVENT
DTSTART;TZID=America/New_York:20250805T110000
DTEND;TZID=America/New_York:20250805T123000
DTSTAMP:20260423T184034
CREATED:20250626T231428Z
LAST-MODIFIED:20250626T231428Z
UID:46275-1754391600-1754397000@livableraleigh.com
SUMMARY:Raleigh Transit Authority Route Committee Meeting
DESCRIPTION:This committee studies questions dealing with routes\, services\, passenger amenities. \nFor more information and to view the agenda\, please visit Raleigh Transit Authority.
URL:https://livableraleigh.com/event/raleigh-transit-authority-route-committee-meeting-29/
LOCATION:Raleigh Union Station\, 510 West Martin Street\, Suite 200\, Raleigh\, NC\, 27601
CATEGORIES:Transit Authority
END:VEVENT
BEGIN:VEVENT
DTSTART;TZID=America/New_York:20250806T153000
DTEND;TZID=America/New_York:20250806T170000
DTSTAMP:20260423T184034
CREATED:20250627T001953Z
LAST-MODIFIED:20250627T001953Z
UID:46283-1754494200-1754499600@livableraleigh.com
SUMMARY:Raleigh Transit Authority Finance and Policy Committee Meeting
DESCRIPTION:This committee reviews any budget/financial issues referred from the Transit Authority and other sub-committees as well as studies questions/policies related to transit and the GoRaleigh Access program. \nFor more information and to view the agenda\, please visit Raleigh Transit Authority.
URL:https://livableraleigh.com/event/raleigh-transit-authority-finance-and-policy-committee-meeting-23/
LOCATION:Raleigh Union Station\, 510 West Martin Street\, Suite 200\, Raleigh\, NC\, 27601
CATEGORIES:Transit Authority
END:VEVENT
BEGIN:VEVENT
DTSTART;TZID=America/New_York:20250807T140000
DTEND;TZID=America/New_York:20250807T150000
DTSTAMP:20260423T184034
CREATED:20250724T142031Z
LAST-MODIFIED:20250724T142031Z
UID:46897-1754575200-1754578800@livableraleigh.com
SUMMARY:Raleigh Transit Authority Marketing Committee Meeting
DESCRIPTION:This committee formulates an annual marketing program for Transit Authority approval and monitors program execution by staff. \nFor more information and to view the agenda\, please visit Raleigh Transit Authority.
URL:https://livableraleigh.com/event/raleigh-transit-authority-marketing-committee-meeting-13/
LOCATION:Raleigh Union Station\, 510 West Martin Street\, Suite 200\, Raleigh\, NC\, 27601
CATEGORIES:Engagement Filter,Transit Authority
END:VEVENT
BEGIN:VEVENT
DTSTART;TZID=America/New_York:20250814T153000
DTEND;TZID=America/New_York:20250814T170000
DTSTAMP:20260423T184034
CREATED:20250627T003812Z
LAST-MODIFIED:20250627T003812Z
UID:46307-1755185400-1755190800@livableraleigh.com
SUMMARY:Raleigh Transit Authority
DESCRIPTION:This meeting of the Raleigh Transit Authority will be held at 3:30 p.m. and the Public Comment begins at 4 p.m. For more information and to view the agenda\, please visit Raleigh Transit Authority. \nIf you’d like to submit a comment for the upcoming virtual meeting\, please email GoRaleigh@raleighnc.gov. \nThe meeting may be viewed live via RTN 11\, the City’s live stream page\, and YouTube.
URL:https://livableraleigh.com/event/raleigh-transit-authority-29/
LOCATION:Raleigh Municipal Building\, 222 W. Hargett St.\, Raleigh\, NC\, 27601\, United States
CATEGORIES:Transit Authority
END:VEVENT
END:VCALENDAR