BEGIN:VCALENDAR
VERSION:2.0
PRODID:-//Livable Raleigh - ECPv6.15.20//NONSGML v1.0//EN
CALSCALE:GREGORIAN
METHOD:PUBLISH
X-ORIGINAL-URL:https://livableraleigh.com
X-WR-CALDESC:Events for Livable Raleigh
REFRESH-INTERVAL;VALUE=DURATION:PT1H
X-Robots-Tag:noindex
X-PUBLISHED-TTL:PT1H
BEGIN:VTIMEZONE
TZID:America/New_York
BEGIN:DAYLIGHT
TZOFFSETFROM:-0500
TZOFFSETTO:-0400
TZNAME:EDT
DTSTART:20230312T070000
END:DAYLIGHT
BEGIN:STANDARD
TZOFFSETFROM:-0400
TZOFFSETTO:-0500
TZNAME:EST
DTSTART:20231105T060000
END:STANDARD
BEGIN:DAYLIGHT
TZOFFSETFROM:-0500
TZOFFSETTO:-0400
TZNAME:EDT
DTSTART:20240310T070000
END:DAYLIGHT
BEGIN:STANDARD
TZOFFSETFROM:-0400
TZOFFSETTO:-0500
TZNAME:EST
DTSTART:20241103T060000
END:STANDARD
BEGIN:DAYLIGHT
TZOFFSETFROM:-0500
TZOFFSETTO:-0400
TZNAME:EDT
DTSTART:20250309T070000
END:DAYLIGHT
BEGIN:STANDARD
TZOFFSETFROM:-0400
TZOFFSETTO:-0500
TZNAME:EST
DTSTART:20251102T060000
END:STANDARD
END:VTIMEZONE
BEGIN:VEVENT
DTSTART;TZID=America/New_York:20240604T110000
DTEND;TZID=America/New_York:20240604T123000
DTSTAMP:20260425T112048
CREATED:20240427T132706Z
LAST-MODIFIED:20240427T132706Z
UID:37777-1717498800-1717504200@livableraleigh.com
SUMMARY:Raleigh Transit Authority Route Committee Meeting
DESCRIPTION:This committee studies questions dealing with routes\, services\, passenger amenities. \nMembers: \nLatonia Williams (Chair)Sara PradoJennifer Truman – Ex-Officio \nFor more information and to view the agenda\, please visit Raleigh Transit Authority.
URL:https://livableraleigh.com/event/raleigh-transit-authority-route-committee-meeting-16/
LOCATION:Raleigh Union Station\, 510 West Martin Street\, Suite 200\, Raleigh\, NC\, 27601
CATEGORIES:Transit Authority
END:VEVENT
BEGIN:VEVENT
DTSTART;TZID=America/New_York:20240613T153000
DTEND;TZID=America/New_York:20240613T170000
DTSTAMP:20260425T112048
CREATED:20240504T202950Z
LAST-MODIFIED:20240610T221356Z
UID:37889-1718292600-1718298000@livableraleigh.com
SUMMARY:Raleigh Transit Authority
DESCRIPTION:1. Preliminary Matters\n\n\nA. Call to Order\nThis Agenda Item Contains an Attachment.\n\nB. Introductions\n\n\nC. Approval of May Minutes\n\n\nD. Revisions or Additions to the Agenda\n\n\nE. Public Comments at 4 p.m. (Comments received by e-mail will be acknowledged at 4:00 p.m.)\n\n\n\n\n\n\n2. Staff Action\n\n\nA. None\n\n\n\n\n\n\n3. Staff Information\n\n\nA. TOD – Southern Western\n\n\nB. New Bern Avenue Update\n\n\nC. RATP Dev – Year in Review\n\n\nD. RTA FY25 Meeting Schedule\nThis Agenda Item Contains an Attachment.\n\nE. Rolesville Micro-Transit\n\n\n\n\n\n\n4. Committee Reports\n\n\nA. Route Committee – Did Not Meet\n\n\nB. Finance & Policy Committee – Did Not Meet\n\n\nC. Marketing Committee – Did Not Meet\n\n\n\n\n\n\n5. General Manager’s Report\n\n\nA. General Manager’s Report\n\n\n\n\n\n\n6. Performance Reports\n\n\nA. Marketing Metrics\nThis Agenda Item Contains an Attachment.\n\nB. Operating Statistics\nThis Agenda Item Contains an Attachment.\n\n\n\n\n\n7. Concluding Remarks\n\n\nA. Authority Members\n\n\nB. Staff\n\n\nC. Chairperson\n\n\n\n\n\n\n8. Adjournment\n\nThis meeting of the Raleigh Transit Authority will be held at 3:30 p.m. and the Public Comment begins at 4 p.m. For more information and to view the agenda\, please visit Raleigh Transit Authority. \nIf you’d like to submit a comment for the upcoming virtual meeting\, please email GoRaleigh@raleighnc.gov. \nThe meeting may be viewed live via RTN 11\, the City’s live stream page\, and YouTube.
URL:https://livableraleigh.com/event/raleigh-transit-authority-17/
LOCATION:Raleigh Municipal Building\, 222 W. Hargett St.\, Raleigh\, NC\, 27601\, United States
CATEGORIES:Transit Authority
END:VEVENT
END:VCALENDAR