BEGIN:VCALENDAR
VERSION:2.0
PRODID:-//Livable Raleigh - ECPv6.15.20//NONSGML v1.0//EN
CALSCALE:GREGORIAN
METHOD:PUBLISH
X-ORIGINAL-URL:https://livableraleigh.com
X-WR-CALDESC:Events for Livable Raleigh
REFRESH-INTERVAL;VALUE=DURATION:PT1H
X-Robots-Tag:noindex
X-PUBLISHED-TTL:PT1H
BEGIN:VTIMEZONE
TZID:America/New_York
BEGIN:DAYLIGHT
TZOFFSETFROM:-0500
TZOFFSETTO:-0400
TZNAME:EDT
DTSTART:20230312T070000
END:DAYLIGHT
BEGIN:STANDARD
TZOFFSETFROM:-0400
TZOFFSETTO:-0500
TZNAME:EST
DTSTART:20231105T060000
END:STANDARD
BEGIN:DAYLIGHT
TZOFFSETFROM:-0500
TZOFFSETTO:-0400
TZNAME:EDT
DTSTART:20240310T070000
END:DAYLIGHT
BEGIN:STANDARD
TZOFFSETFROM:-0400
TZOFFSETTO:-0500
TZNAME:EST
DTSTART:20241103T060000
END:STANDARD
BEGIN:DAYLIGHT
TZOFFSETFROM:-0500
TZOFFSETTO:-0400
TZNAME:EDT
DTSTART:20250309T070000
END:DAYLIGHT
BEGIN:STANDARD
TZOFFSETFROM:-0400
TZOFFSETTO:-0500
TZNAME:EST
DTSTART:20251102T060000
END:STANDARD
END:VTIMEZONE
BEGIN:VEVENT
DTSTART;TZID=America/New_York:20240402T110000
DTEND;TZID=America/New_York:20240402T123000
DTSTAMP:20260425T175658
CREATED:20240302T171229Z
LAST-MODIFIED:20240328T180321Z
UID:36710-1712055600-1712061000@livableraleigh.com
SUMMARY:Raleigh Transit Authority Route Committee Meeting -- Cancelled
DESCRIPTION:This committee studies questions dealing with routes\, services\, passenger amenities. \nMembers: \nLatonia Williams (Chair)Sara PradoJennifer Truman – Ex-Officio \nFor more information and to view the agenda\, please visit Raleigh Transit Authority.
URL:https://livableraleigh.com/event/raleigh-transit-authority-route-committee-meeting-14/
LOCATION:Raleigh Union Station\, 510 West Martin Street\, Suite 200\, Raleigh\, NC\, 27601
CATEGORIES:Transit Authority
END:VEVENT
BEGIN:VEVENT
DTSTART;TZID=America/New_York:20240404T140000
DTEND;TZID=America/New_York:20240404T150000
DTSTAMP:20260425T175658
CREATED:20240403T105231Z
LAST-MODIFIED:20240403T105231Z
UID:37315-1712239200-1712242800@livableraleigh.com
SUMMARY:Raleigh Transit Authority Marketing Committee
DESCRIPTION:1. Preliminary Matters\n\n\nA. Call to Order\n\n\nB. Approval of March Summary Notes\nThis Agenda Item Contains an Attachment.\n\nC. Revisions or Additions to the Agenda\n\n\n\n\n\n\n2. Action Items\n\n\nA. None\n\n\n\n\n\n\n3. Information Items\n\n\nA. SWAT Analysis\n\n\nB. Budget Discussion\n\n\nC. Bike Month\n\n\nD. Maps/Schedules\n\n\n\n\n\n\n4. Concluding Remarks\n\n\n\n5. Adjournment
URL:https://livableraleigh.com/event/raleigh-transit-authority-marketing-committee-2/
LOCATION:Raleigh Union Station\, 510 West Martin Street\, Suite 200\, Raleigh\, NC\, 27601
CATEGORIES:Transit Authority
END:VEVENT
BEGIN:VEVENT
DTSTART;TZID=America/New_York:20240411T153000
DTEND;TZID=America/New_York:20240411T170000
DTSTAMP:20260425T175658
CREATED:20240302T190519Z
LAST-MODIFIED:20240406T101910Z
UID:36754-1712849400-1712854800@livableraleigh.com
SUMMARY:Raleigh Transit Authority
DESCRIPTION:1. Preliminary Matters\n\n\nA. Call to Order\n\n\nB. Introductions\n\n\nC. Approval of March Minutes\n\n\nD. Revisions or Additions to the Agenda\n\n\nE. Public Comments at 4 p.m. (Comments received by e-mail will be acknowledged at 4:00 p.m.)\n\n\n\n\n\n\n2. Staff Action\n\n\nA. FY25 Budget\n\n\nB. Set a Public Hearing Date for Return to Fares\n\n\n\n\n\n\n3. Staff Information\n\n\nA. None\n\n\n\n\n\n\n4. Committee Reports\n\n\nA. Marketing Committee – (Report of the Chair)\n\n\nB. Finance & Policy Committee – Did Not Meet\n\n\nC. Route Committee – Did Not Meet\n\n\n\n\n\n\n5. General Manager’s Report\n\n\nA. General Manager’s Report\n\n\n\n\n\n\n6. Performance Reports\n\n\nA. Marketing Metrics (March)\nThis Agenda Item Contains an Attachment.\n\nB. Operating Statistics\nThis Agenda Item Contains an Attachment.\n\n\n\n\n\n7. Concluding Remarks\n\n\nA. Authority Members\n\n\nB. Staff\n\n\nC. Chairperson\n\n\n\n\n\n\n8. Adjournment\n\nThis meeting of the Raleigh Transit Authority will be held at 3:30 p.m. and the Public Comment begins at 4 p.m. For more information and to view the agenda\, please visit Raleigh Transit Authority. \nIf you’d like to submit a comment for the upcoming virtual meeting\, please email GoRaleigh@raleighnc.gov. \nThe meeting may be viewed live via RTN 11\, the City’s live stream page\, and YouTube.
URL:https://livableraleigh.com/event/raleigh-transit-authority-15/
LOCATION:Raleigh Municipal Building\, 222 W. Hargett St.\, Raleigh\, NC\, 27601\, United States
CATEGORIES:Transit Authority
END:VEVENT
BEGIN:VEVENT
DTSTART;TZID=America/New_York:20240430T110000
DTEND;TZID=America/New_York:20240430T123000
DTSTAMP:20260425T175658
CREATED:20240302T215303Z
LAST-MODIFIED:20240426T150356Z
UID:36807-1714474800-1714480200@livableraleigh.com
SUMMARY:Raleigh Transit Authority Route Committee Meeting
DESCRIPTION:1. Preliminary Matters\n\n\nA. Call to Order\n\n\nB. Approval of March Summary Notes\nThis Agenda Item Contains an Attachment.\n\nC. Revisions or Additions to the Agenda\n\n\n\n\n\n\n2. Action Items\n\n\nA. None\n\n\n\n\n\n\n3. Information Items\n\n\nA. Micro-Transit Update\n\n\nB. FY25 Recommended Work Plan – Update\n\n\nC. Performance Reports\n\n\n\n\n\n\n4. Concluding Remarks\n\n\n\n5. Adjournment\n\nThis committee studies questions dealing with routes\, services\, passenger amenities. \nMembers: \nLatonia Williams (Chair)Sara PradoJennifer Truman – Ex-Officio \nFor more information and to view the agenda\, please visit Raleigh Transit Authority.
URL:https://livableraleigh.com/event/raleigh-transit-authority-route-committee-meeting-15/
LOCATION:Raleigh Union Station\, 510 West Martin Street\, Suite 200\, Raleigh\, NC\, 27601
CATEGORIES:Transit Authority
END:VEVENT
END:VCALENDAR