BEGIN:VCALENDAR
VERSION:2.0
PRODID:-//Livable Raleigh - ECPv6.15.20//NONSGML v1.0//EN
CALSCALE:GREGORIAN
METHOD:PUBLISH
X-WR-CALNAME:Livable Raleigh
X-ORIGINAL-URL:https://livableraleigh.com
X-WR-CALDESC:Events for Livable Raleigh
REFRESH-INTERVAL;VALUE=DURATION:PT1H
X-Robots-Tag:noindex
X-PUBLISHED-TTL:PT1H
BEGIN:VTIMEZONE
TZID:America/New_York
BEGIN:DAYLIGHT
TZOFFSETFROM:-0500
TZOFFSETTO:-0400
TZNAME:EDT
DTSTART:20230312T070000
END:DAYLIGHT
BEGIN:STANDARD
TZOFFSETFROM:-0400
TZOFFSETTO:-0500
TZNAME:EST
DTSTART:20231105T060000
END:STANDARD
BEGIN:DAYLIGHT
TZOFFSETFROM:-0500
TZOFFSETTO:-0400
TZNAME:EDT
DTSTART:20240310T070000
END:DAYLIGHT
BEGIN:STANDARD
TZOFFSETFROM:-0400
TZOFFSETTO:-0500
TZNAME:EST
DTSTART:20241103T060000
END:STANDARD
BEGIN:DAYLIGHT
TZOFFSETFROM:-0500
TZOFFSETTO:-0400
TZNAME:EDT
DTSTART:20250309T070000
END:DAYLIGHT
BEGIN:STANDARD
TZOFFSETFROM:-0400
TZOFFSETTO:-0500
TZNAME:EST
DTSTART:20251102T060000
END:STANDARD
END:VTIMEZONE
BEGIN:VEVENT
DTSTART;TZID=America/New_York:20240304T110000
DTEND;TZID=America/New_York:20240304T123000
DTSTAMP:20260425T175626
CREATED:20240202T202852Z
LAST-MODIFIED:20240301T192846Z
UID:36142-1709550000-1709555400@livableraleigh.com
SUMMARY:Raleigh Transit Authority Route Committee Meeting
DESCRIPTION:1. Preliminary Matters\n\n\nA. Call to Order\n\n\nB. Approval of February Summary Notes\nThis Agenda Item Contains an Attachment.\n\nC. Revisions or Additions to the Agenda\n\n\n\n\n\n\n2. Action Items\n\n\nA. None\n\n\n\n\n\n\n3. Information Items\n\n\nA. Blount St./Bike Lane\n\n\nB. GoRaleigh Access Report Development\n\n\nC. FY25 Draft Work Plan\n\n\nD. System Map Review\n\n\nE. Performance Reports\n\n\n\n\n\n\n4. Concluding Remarks\n\n\n\n5. Adjournment\n\nThis committee studies questions dealing with routes\, services\, passenger amenities. \nMembers: \nLatonia Williams (Chair)Sara PradoJennifer Truman – Ex-Officio \nFor more information and to view the agenda\, please visit Raleigh Transit Authority.
URL:https://livableraleigh.com/event/raleigh-transit-authority-route-committee-meeting-13/
LOCATION:Raleigh Union Station\, 510 West Martin Street\, Suite 200\, Raleigh\, NC\, 27601
CATEGORIES:Transit Authority
END:VEVENT
BEGIN:VEVENT
DTSTART;TZID=America/New_York:20240306T153000
DTEND;TZID=America/New_York:20240306T170000
DTSTAMP:20260425T175626
CREATED:20240301T193043Z
LAST-MODIFIED:20240305T150926Z
UID:36690-1709739000-1709744400@livableraleigh.com
SUMMARY:Raleigh Transit Authority Finance & Policy Committee
DESCRIPTION:1. Preliminary Matters\n\n\nA. Call to Order\n\n\nB. Approval of February Summary Notes\nThis Agenda Item Contains an Attachment.\n\nC. Revisions or Additions to the Agenda\n\n\n\n\n\n\n2. Action Items\n\n\nA. Return to Fares Strategy\n\n\n\n\n\n\n3. Information Items\n\n\nA. FY25 Budget\nThis Agenda Item Contains an Attachment.\n\nB. Micro-Transit Fare\n\n\nC. Low Income Fare Program\n\n\nD. GoRaleigh Access Report Development\n\n\nE. RTA Bylaws\n\n\nF. Financials\nThis Agenda Item Contains an Attachment.\n\n\n\n\n\n4. Concluding Remarks\n\n\n\n5. Adjournment
URL:https://livableraleigh.com/event/raleigh-transit-authority-finance-policy-committee/
LOCATION:Raleigh Union Station\, 510 West Martin Street\, Suite 200\, Raleigh\, NC\, 27601
CATEGORIES:Transit Authority
END:VEVENT
BEGIN:VEVENT
DTSTART;TZID=America/New_York:20240307T140000
DTEND;TZID=America/New_York:20240307T153000
DTSTAMP:20260425T175626
CREATED:20240301T193214Z
LAST-MODIFIED:20240301T193214Z
UID:36692-1709820000-1709825400@livableraleigh.com
SUMMARY:Raleigh Transit Authority Marketing Committee
DESCRIPTION:1. Preliminary Matters\n\n\nA. Call to Order\n\n\nB. Approval of February Summary Notes\nThis Agenda Item Contains an Attachment.\n\nC. Revisions or Additions to the Agenda\n\n\n\n\n\n\n2. Action Items\n\n\nA. None\n\n\n\n\n\n\n3. Information Items\n\n\nA. BRT Southern Artist-In-Residence\n\n\nB. High School Outreach Metrics\n\n\nC. Busopoly Metrics February\n\n\nD. FY25 Marketing Campaign Budget\n\n\n\n\n\n\n4. Concluding Remarks\n\n\n\n5. Adjournment
URL:https://livableraleigh.com/event/raleigh-transit-authority-marketing-committee/
LOCATION:Raleigh Union Station\, 510 West Martin Street\, Suite 200\, Raleigh\, NC\, 27601
CATEGORIES:Transit Authority
END:VEVENT
BEGIN:VEVENT
DTSTART;TZID=America/New_York:20240314T153000
DTEND;TZID=America/New_York:20240314T170000
DTSTAMP:20260425T175626
CREATED:20240203T012954Z
LAST-MODIFIED:20240309T115055Z
UID:36188-1710430200-1710435600@livableraleigh.com
SUMMARY:Raleigh Transit Authority
DESCRIPTION:1. Preliminary Matters\n\n\nA. Call to Order\n\n\nB. Introductions\n\n\nC. Approval of February Minutes\n\n\nD. Revisions or Additions to the Agenda\n\n\nE. Public Comments at 4 p.m. (Comments received by e-mail will be acknowledged at 4:00 p.m.)\n\n\n\n\n\n\n2. Staff Action\n\n\nA. Origin/Destination Survey Overview\n\n\n\n\n\n\n3. Staff Information\n\n\nA. None\n\n\n\n\n\n\n4. Committee Reports\n\n\nA. Marketing Committee – (Report of the Chair)\n\n\nB. Finance & Policy Committee (Report of Chair)\n\n\nC. Route Committee (Report of Chair)\n\n\n\n\n\n\n5. General Manager’s Report\n\n\nA. General Manager’s Report\n\n\n\n\n\n\n6. Performance Reports\n\n\nA. Marketing Metrics (February)\nThis Agenda Item Contains an Attachment.\n\nB. Operating Statistics\n\n\n\n\n\n\n7. Concluding Remarks\n\n\nA. Authority Members\n\n\nB. Staff\n\n\nC. Chairperson\n\n\n\n\n\n\n8. Adjournment\n\nThis meeting of the Raleigh Transit Authority will be held at 3:30 p.m. and the Public Comment begins at 4 p.m. For more information and to view the agenda\, please visit Raleigh Transit Authority. \nIf you’d like to submit a comment for the upcoming virtual meeting\, please email GoRaleigh@raleighnc.gov. \nThe meeting may be viewed live via RTN 11\, the City’s live stream page\, and YouTube.
URL:https://livableraleigh.com/event/raleigh-transit-authority-14/
LOCATION:Raleigh Municipal Building\, 222 W. Hargett St.\, Raleigh\, NC\, 27601\, United States
CATEGORIES:Transit Authority
END:VEVENT
END:VCALENDAR