BEGIN:VCALENDAR
VERSION:2.0
PRODID:-//Livable Raleigh - ECPv6.15.20//NONSGML v1.0//EN
CALSCALE:GREGORIAN
METHOD:PUBLISH
X-WR-CALNAME:Livable Raleigh
X-ORIGINAL-URL:https://livableraleigh.com
X-WR-CALDESC:Events for Livable Raleigh
REFRESH-INTERVAL;VALUE=DURATION:PT1H
X-Robots-Tag:noindex
X-PUBLISHED-TTL:PT1H
BEGIN:VTIMEZONE
TZID:America/New_York
BEGIN:DAYLIGHT
TZOFFSETFROM:-0500
TZOFFSETTO:-0400
TZNAME:EDT
DTSTART:20240310T070000
END:DAYLIGHT
BEGIN:STANDARD
TZOFFSETFROM:-0400
TZOFFSETTO:-0500
TZNAME:EST
DTSTART:20241103T060000
END:STANDARD
BEGIN:DAYLIGHT
TZOFFSETFROM:-0500
TZOFFSETTO:-0400
TZNAME:EDT
DTSTART:20250309T070000
END:DAYLIGHT
BEGIN:STANDARD
TZOFFSETFROM:-0400
TZOFFSETTO:-0500
TZNAME:EST
DTSTART:20251102T060000
END:STANDARD
BEGIN:DAYLIGHT
TZOFFSETFROM:-0500
TZOFFSETTO:-0400
TZNAME:EDT
DTSTART:20260308T070000
END:DAYLIGHT
BEGIN:STANDARD
TZOFFSETFROM:-0400
TZOFFSETTO:-0500
TZNAME:EST
DTSTART:20261101T060000
END:STANDARD
BEGIN:DAYLIGHT
TZOFFSETFROM:-0500
TZOFFSETTO:-0400
TZNAME:EDT
DTSTART:20270314T070000
END:DAYLIGHT
BEGIN:STANDARD
TZOFFSETFROM:-0400
TZOFFSETTO:-0500
TZNAME:EST
DTSTART:20271107T060000
END:STANDARD
END:VTIMEZONE
BEGIN:VEVENT
DTSTART;TZID=America/New_York:20250717T180000
DTEND;TZID=America/New_York:20250717T190000
DTSTAMP:20260423T021333
CREATED:20250625T193102Z
LAST-MODIFIED:20250625T193102Z
UID:46258-1752775200-1752778800@livableraleigh.com
SUMMARY:Big Branch Greenway Connector Trail
DESCRIPTION:Big Branch Greenway Connector Trail- Phase 2 Survey Results and Upcoming Meetings\nOver the past year\, the City has conducted outreach for four segments of the Big Branch Greenway Connector Trail. Hundreds of residents shared ideas at open houses\, pop-up events\, and through online surveys. In the most recent survey\, over 1\,600 people participated. Now that outreach efforts are complete\, project overview and recommendations will be presented to the following: \nGreenway Committee: July 14\, 2025 – 4 p.m.\nRaleigh Municipal Building\n222 W Hargett St\, Room 303\nRaleigh\, NC 27601 \nParks\, Recreation and Greenway Advisory Board: July 17\, 2025 – 6 p.m.\nRaleigh Municipal Building\n222 W Hargett St\, City Council Chambers\nRaleigh\, NC 27601 \nCity Council: August 19\, 2025 – 1 pm\n222 W Hargett St\, City Council Chambers\nRaleigh\, NC 27601 \nFor more details on these upcoming meetings or to view the results of the Big Branch Greenway Connector trail Phase 2 online survey\, please\, visit the Big Branch Greenway Connector project page.
URL:https://livableraleigh.com/event/big-branch-greenway-connector-trail-2/
LOCATION:Raleigh Municipal Building\, 222 W. Hargett St.\, Raleigh\, NC\, 27601\, United States
CATEGORIES:Engagement Filter,Parks Rec & Greenway Adv Board
END:VEVENT
BEGIN:VEVENT
DTSTART;TZID=America/New_York:20250821T180000
DTEND;TZID=America/New_York:20250821T190000
DTSTAMP:20260423T021333
CREATED:20250627T152952Z
LAST-MODIFIED:20250627T152952Z
UID:46325-1755799200-1755802800@livableraleigh.com
SUMMARY:Parks\, Recreation\, and Greenway Advisory Board
DESCRIPTION:The Parks\, Recreation and Greenway Advisory Board (PRGAB) will meet in person in the Raleigh Council Chambers\, 222 W. Hargett Street at 6:00 p.m. \nThe Raleigh Parks\, Recreation\, and Greenway Advisory Board meetings are open to the public. \nThis meeting will be streamed for public viewing – watch meeting. \nThe PRGAB meets on the third Thursday of each month.
URL:https://livableraleigh.com/event/parks-recreation-and-greenway-advisory-board-23/
LOCATION:Raleigh Municipal Building\, 222 W. Hargett St.\, Raleigh\, NC\, 27601\, United States
CATEGORIES:Parks Rec & Greenway Adv Board
END:VEVENT
BEGIN:VEVENT
DTSTART;TZID=America/New_York:20250908T160000
DTEND;TZID=America/New_York:20250908T170000
DTSTAMP:20260423T021333
CREATED:20250726T161830Z
LAST-MODIFIED:20250726T161830Z
UID:46937-1757347200-1757350800@livableraleigh.com
SUMMARY:Greenway Committee
DESCRIPTION:The Greenways Committee\, a standing committee of the Parks\, Recreation and Greenway Advisory Board\, will meet in the Raleigh Municipal Building Conference Room 303 every second Monday at 4 p.m.
URL:https://livableraleigh.com/event/greenway-committee-30/
LOCATION:Raleigh Municipal Building\, 222 W. Hargett St.\, Raleigh\, NC\, 27601\, United States
CATEGORIES:Greenway Committee,Parks Rec & Greenway Adv Board
END:VEVENT
BEGIN:VEVENT
DTSTART;TZID=America/New_York:20250911T180000
DTEND;TZID=America/New_York:20250911T190000
DTSTAMP:20260423T021333
CREATED:20250726T164400Z
LAST-MODIFIED:20250726T164400Z
UID:46958-1757613600-1757617200@livableraleigh.com
SUMMARY:Parks\, Recreation\, and Greenway Advisory Board
DESCRIPTION:The Parks\, Recreation and Greenway Advisory Board (PRGAB) will meet in-person in the Raleigh Council Chambers\, 222 W. Hargett Street\, at 6:00 p.m. \nThe Raleigh Parks\, Recreation\, and Greenway Advisory Board meetings are open to the public. \nThis meeting will be streamed for public viewing – watch meeting. \nThe PRGAB normally meets on the third Thursday of each month.
URL:https://livableraleigh.com/event/parks-recreation-and-greenway-advisory-board-24/
LOCATION:Raleigh Municipal Building\, 222 W. Hargett St.\, Raleigh\, NC\, 27601\, United States
CATEGORIES:Parks Rec & Greenway Adv Board
END:VEVENT
BEGIN:VEVENT
DTSTART;TZID=America/New_York:20251016T180000
DTEND;TZID=America/New_York:20251016T190000
DTSTAMP:20260423T021333
CREATED:20250912T152207Z
LAST-MODIFIED:20250912T152207Z
UID:48138-1760637600-1760641200@livableraleigh.com
SUMMARY:Parks\, Recreation\, and Greenway Advisory Board
DESCRIPTION:The Parks\, Recreation and Greenway Advisory Board (PRGAB) will meet in-person in the Raleigh Council Chambers\, 222 W. Hargett Street at 6:00 p.m. \nThe Raleigh Parks\, Recreation\, and Greenway Advisory Board meetings are open to the public. \nThis meeting will be streamed for public viewing – watch meeting. \nThe PRGAB meets on the third Thursday of each month.
URL:https://livableraleigh.com/event/parks-recreation-and-greenway-advisory-board-25/
LOCATION:Raleigh Municipal Building\, 222 W. Hargett St.\, Raleigh\, NC\, 27601\, United States
CATEGORIES:Open Houses and Public Hearings,Parks Rec & Greenway Adv Board
END:VEVENT
BEGIN:VEVENT
DTSTART;TZID=America/New_York:20251120T180000
DTEND;TZID=America/New_York:20251120T190000
DTSTAMP:20260423T021333
CREATED:20250929T212056Z
LAST-MODIFIED:20250929T212056Z
UID:48718-1763661600-1763665200@livableraleigh.com
SUMMARY:Parks\, Recreation\, and Greenway Advisory Board
DESCRIPTION:The Parks\, Recreation and Greenway Advisory Board (PRGAB) will meet in-person in the Raleigh Council Chambers\, 222 W. Hargett Street at 6:00 p.m. \nThe Raleigh Parks\, Recreation\, and Greenway Advisory Board meetings are open to the public. \nThis meeting will be streamed for public viewing – watch meeting. \nThe PRGAB meets on the third Thursday of each month.
URL:https://livableraleigh.com/event/parks-recreation-and-greenway-advisory-board-26/
LOCATION:Raleigh Municipal Building\, 222 W. Hargett St.\, Raleigh\, NC\, 27601\, United States
CATEGORIES:Open Houses and Public Hearings,Parks Rec & Greenway Adv Board
END:VEVENT
BEGIN:VEVENT
DTSTART;TZID=America/New_York:20260219T180000
DTEND;TZID=America/New_York:20260219T190000
DTSTAMP:20260423T021333
CREATED:20260214T131704Z
LAST-MODIFIED:20260214T131704Z
UID:51572-1771524000-1771527600@livableraleigh.com
SUMMARY:Parks\, Recreation and Greenway Advisory Board
DESCRIPTION:The Parks\, Recreation and Greenway Advisory Board (PRGAB) will meet in-person in the Raleigh Council Chambers\, 222 W. Hargett Street at 6 p.m. \nThe Raleigh Parks\, Recreation\, and Greenway Advisory Board meetings are open to the public. \nThis meeting will be streamed for public viewing – watch meeting. \nThe PRGAB meets on the third Thursday of each month.
URL:https://livableraleigh.com/event/parks-recreation-and-greenway-advisory-board-27/
LOCATION:Raleigh Municipal Building\, 222 W. Hargett St.\, Raleigh\, NC\, 27601\, United States
CATEGORIES:Parks Rec & Greenway Adv Board,Virtual
END:VEVENT
BEGIN:VEVENT
DTSTART;TZID=America/New_York:20260309T160000
DTEND;TZID=America/New_York:20260309T170000
DTSTAMP:20260423T021333
CREATED:20260214T135301Z
LAST-MODIFIED:20260214T135301Z
UID:51582-1773072000-1773075600@livableraleigh.com
SUMMARY:Greenway Committee
DESCRIPTION:The Greenways Committee\, a standing committee of the Parks\, Recreation and Greenway Advisory Board\, will meet in the Raleigh Municipal Building Conference Room 303 every second Monday at 4 p.m.
URL:https://livableraleigh.com/event/greenway-committee-33/
LOCATION:Raleigh Municipal Building\, 222 W. Hargett St.\, Raleigh\, NC\, 27601\, United States
CATEGORIES:Greenway Committee,Parks Rec & Greenway Adv Board
END:VEVENT
BEGIN:VEVENT
DTSTART;TZID=America/New_York:20260319T180000
DTEND;TZID=America/New_York:20260319T190000
DTSTAMP:20260423T021333
CREATED:20260214T140231Z
LAST-MODIFIED:20260214T140231Z
UID:51592-1773943200-1773946800@livableraleigh.com
SUMMARY:Parks\, Recreation and Greenway Advisory Board
DESCRIPTION:The Parks\, Recreation and Greenway Advisory Board (PRGAB) will meet in-person in the Raleigh Council Chambers\, 222 W. Hargett Street at 6:00 p.m. \nThe Raleigh Parks\, Recreation\, and Greenway Advisory Board meetings are open to the public. \nThis meeting will be streamed for public viewing – watch meeting. \nThe PRGAB meets on the third Thursday of each month.
URL:https://livableraleigh.com/event/parks-recreation-and-greenway-advisory-board-28/
LOCATION:Raleigh Municipal Building\, 222 W. Hargett St.\, Raleigh\, NC\, 27601\, United States
CATEGORIES:Greenway Committee,Parks Rec & Greenway Adv Board,Virtual
END:VEVENT
BEGIN:VEVENT
DTSTART;TZID=America/New_York:20260416T180000
DTEND;TZID=America/New_York:20260416T190000
DTSTAMP:20260423T021333
CREATED:20260301T123554Z
LAST-MODIFIED:20260301T123554Z
UID:52026-1776362400-1776366000@livableraleigh.com
SUMMARY:Parks\, Recreation and Greenway Advisory Board
DESCRIPTION:The Parks\, Recreation and Greenway Advisory Board (PRGAB) will meet in-person in the Raleigh Council Chambers\, 222 W. Hargett Street at 6:00 p.m. \nThe Raleigh Parks\, Recreation\, and Greenway Advisory Board meetings are open to the public. \nThis meeting will be streamed for public viewing – watch meeting. \nThe PRGAB meets on the third Thursday of each month.
URL:https://livableraleigh.com/event/parks-recreation-and-greenway-advisory-board-29/
LOCATION:Raleigh Municipal Building\, 222 W. Hargett St.\, Raleigh\, NC\, 27601\, United States
CATEGORIES:Parks Rec & Greenway Adv Board,Virtual
END:VEVENT
BEGIN:VEVENT
DTSTART;TZID=America/New_York:20260521T180000
DTEND;TZID=America/New_York:20260521T190000
DTSTAMP:20260423T021333
CREATED:20260404T163649Z
LAST-MODIFIED:20260404T163649Z
UID:53243-1779386400-1779390000@livableraleigh.com
SUMMARY:Parks\, Recreation and Greenway Advisory Board
DESCRIPTION:The Parks\, Recreation and Greenway Advisory Board (PRGAB) will meet in-person in the Raleigh Council Chambers\, 222 W. Hargett Street at 6:00 p.m. \nThe Raleigh Parks\, Recreation\, and Greenway Advisory Board meetings are open to the public. \nThis meeting will be streamed for public viewing – watch meeting. \nThe PRGAB meets on the third Thursday of each month.
URL:https://livableraleigh.com/event/parks-recreation-and-greenway-advisory-board-30/
LOCATION:Raleigh Municipal Building\, 222 W. Hargett St.\, Raleigh\, NC\, 27601\, United States
CATEGORIES:Parks Rec & Greenway Adv Board,Virtual
END:VEVENT
END:VCALENDAR