BEGIN:VCALENDAR
VERSION:2.0
PRODID:-//Livable Raleigh - ECPv6.15.20//NONSGML v1.0//EN
CALSCALE:GREGORIAN
METHOD:PUBLISH
X-ORIGINAL-URL:https://livableraleigh.com
X-WR-CALDESC:Events for Livable Raleigh
REFRESH-INTERVAL;VALUE=DURATION:PT1H
X-Robots-Tag:noindex
X-PUBLISHED-TTL:PT1H
BEGIN:VTIMEZONE
TZID:America/New_York
BEGIN:DAYLIGHT
TZOFFSETFROM:-0500
TZOFFSETTO:-0400
TZNAME:EDT
DTSTART:20240310T070000
END:DAYLIGHT
BEGIN:STANDARD
TZOFFSETFROM:-0400
TZOFFSETTO:-0500
TZNAME:EST
DTSTART:20241103T060000
END:STANDARD
BEGIN:DAYLIGHT
TZOFFSETFROM:-0500
TZOFFSETTO:-0400
TZNAME:EDT
DTSTART:20250309T070000
END:DAYLIGHT
BEGIN:STANDARD
TZOFFSETFROM:-0400
TZOFFSETTO:-0500
TZNAME:EST
DTSTART:20251102T060000
END:STANDARD
BEGIN:DAYLIGHT
TZOFFSETFROM:-0500
TZOFFSETTO:-0400
TZNAME:EDT
DTSTART:20260308T070000
END:DAYLIGHT
BEGIN:STANDARD
TZOFFSETFROM:-0400
TZOFFSETTO:-0500
TZNAME:EST
DTSTART:20261101T060000
END:STANDARD
END:VTIMEZONE
BEGIN:VEVENT
DTSTART;TZID=America/New_York:20251125T090000
DTEND;TZID=America/New_York:20251125T110000
DTSTAMP:20260421T093614
CREATED:20250929T212730Z
LAST-MODIFIED:20251121T160229Z
UID:48727-1764061200-1764068400@livableraleigh.com
SUMMARY:Planning Commission
DESCRIPTION:Public Meeting – November 25\, 2025\n\n\n\n\n\n\n\n\n\n\n\n\nThe City of Raleigh Planning Commission will conduct a public meeting on Tuesday\, November 25 at 9 a.m. at the Raleigh Municipal Building\, 222 West Hargett Street in the City Council Chamber. Planning Commission meetings can be viewed on the city’s websiteand RTN 11. \nFor more information about the meeting\, please contact Bynum Walter or visit the Planning Commission webpage. \n\n\n\nA.\n\nCall to Order\n\n\n\n\n\n\n\n\n\n\n\n\n\n\n\n\n\n\n\n\n\n\n\nB.\n\nPublic Comment\n\n\n\n\n\n\n\n\n\n\n\n\n\n\n\n\n\n\n\n\n\n\n\nC.\n\nConsent Agenda\n\n\n\n\n\n\n\n\n\n\n\n\n\n\n\n\n\n\n\n\n\n\n\nC.1\n\nApproval of Minutes\n\n\n\n\n\n\n\n\n\n\n\n\n\n\n\n\n\n\n\n\n\n\nRequesting approval of draft minutes from October 28\, 2025 Planning Commission Meeting \nRequesting approval of draft minutes from November 12\, 2025 Planning Commission Meeting \n\n\n\n\n\n\n\n\n\n\n\nD.\n\nNew Business\n\n\n\n\n\n\n\n\n\n\n\n\n\n\n\n\n\n\n\n\n\n\n\nD.1\n\nRezoning Z-29-25: Trailwood Drive\, south of the intersection of Trailwood Drive and Avent Ferry Road (District D upon annexation)\n\n\n\n\n\n\n\n\n\n\n\n\n\n\n\n\n\n\n\n\n\n\nJacob Hunt\, Planning and Development\n.\nThis is a request to rezone the properties at 1116 and 1126 Trailwood Drive from Residential-4 w/ Special Residential Parking Overlay District to Residential-10-Conditional Use w/ Special Residential Parking Overlay District.\n.\nThe deadline for Planning Commission action is January 24\, 2026\n\n\n\n\n\n\n\n\n\n\n\nE.\n\nOther Business\n\n\n\n\n\n\n\n\n\n\n\n\n\n\n\n\n\n\n\n\n\n\n\nE.1\n\nReport of the Chair\n\n\n\n\n\n\n\n\n\n\n\n\n\n\n\n\n\n\n\n\n\n\n\nE.2\n\nReport of the Members\n\n\n\n\n\n\n\n\n\n\n\n\n\n\n\n\n\n\n\n\n\n\n\nE.3\n\nReport of the Assistant Director\n\n\n\n\n\n\n\n\n\n\n\n\n\n\n\n\n\n\n\n\n\n\n\nE.3.a\n\nReport of the Assistant Director\n\n\n\n\n\n\n\n\n\n\n\n\n\n\n\n\n\n\n\n\n\nReceive as information.\n\n\n\n\n\n\n\n\n\n\n\n\nF.\n\nAdjournment\n\n\n\n\n\n\n\n\n\n\n\n\n\n\n\n\n\n\n\n\nThe Commission typically meets on the second and fourth Tuesdays of each month at 9 a.m. The meetings are held at the Raleigh Municipal Building (RMB)\, located at 222 West Hargett Street. Upcoming meeting agendas for the Planning Commission can be found on our City Council\, Boards and Commissions Agendas and Minutes page. Planning Commission public meetings are broadcast live on RTN 11 and our live streaming webpage. The Planning Commission subcommittee meetings are not broadcast live. To watch past meetings\, visit our video services page.
URL:https://livableraleigh.com/event/planning-commission-58/
LOCATION:Raleigh Municipal Building\, 222 W. Hargett St.\, Raleigh\, NC\, 27601\, United States
CATEGORIES:Planning Commission
END:VEVENT
END:VCALENDAR