BEGIN:VCALENDAR
VERSION:2.0
PRODID:-//Livable Raleigh - ECPv6.15.20//NONSGML v1.0//EN
CALSCALE:GREGORIAN
METHOD:PUBLISH
X-WR-CALNAME:Livable Raleigh
X-ORIGINAL-URL:https://livableraleigh.com
X-WR-CALDESC:Events for Livable Raleigh
REFRESH-INTERVAL;VALUE=DURATION:PT1H
X-Robots-Tag:noindex
X-PUBLISHED-TTL:PT1H
BEGIN:VTIMEZONE
TZID:America/New_York
BEGIN:DAYLIGHT
TZOFFSETFROM:-0500
TZOFFSETTO:-0400
TZNAME:EDT
DTSTART:20240310T070000
END:DAYLIGHT
BEGIN:STANDARD
TZOFFSETFROM:-0400
TZOFFSETTO:-0500
TZNAME:EST
DTSTART:20241103T060000
END:STANDARD
BEGIN:DAYLIGHT
TZOFFSETFROM:-0500
TZOFFSETTO:-0400
TZNAME:EDT
DTSTART:20250309T070000
END:DAYLIGHT
BEGIN:STANDARD
TZOFFSETFROM:-0400
TZOFFSETTO:-0500
TZNAME:EST
DTSTART:20251102T060000
END:STANDARD
BEGIN:DAYLIGHT
TZOFFSETFROM:-0500
TZOFFSETTO:-0400
TZNAME:EDT
DTSTART:20260308T070000
END:DAYLIGHT
BEGIN:STANDARD
TZOFFSETFROM:-0400
TZOFFSETTO:-0500
TZNAME:EST
DTSTART:20261101T060000
END:STANDARD
END:VTIMEZONE
BEGIN:VEVENT
DTSTART;TZID=America/New_York:20251028T090000
DTEND;TZID=America/New_York:20251028T110000
DTSTAMP:20260419T101227
CREATED:20250912T161120Z
LAST-MODIFIED:20251024T140231Z
UID:48184-1761642000-1761649200@livableraleigh.com
SUMMARY:Planning Commission
DESCRIPTION:The City of Raleigh Planning Commission will conduct a public meeting on Tuesday\, October 28 at 9 a.m. at the Raleigh Municipal Building\, 222 West Hargett Street in the City Council Chamber. Planning Commission meetings can be viewed on the city’s website and RTN 11. \nFor more information about the meeting\, please contact Bynum Walter or visit the Planning Commission webpage. \n\n\n\nA.\n\nCall to Order\n\n\n\n\n\n\n\nB.\n\nPublic Comment\n\n\n\n\n\n\n\nC.\n\nConsent Agenda\n\n\n\n\n\n\n\nC.1\n\nApproval of Minutes\n\n\n\n\n\n\n\n\n\nRequesting approval of draft minutes from October 14\, 2025 Planning Commission Meeting \n\n\n\n\n\n\n\n\n\n\n\nD.\n\nReport of Committees\n\n\n\n\n\n\n\n\n\n\n\n\n\n\nD.1\n\nRezoning Z-20-25: Brier Creek Town Center PD\, at the intersection of Arco Corporate Drive and Macaw Street (District E)\n\n\n\n\n\n\n\n\n\n\n\n\n\n\n\n\nRoberta Fox\, Committee of the Whole Chair\n.\nThe following item was included on the October 23\, 2025\, Committee of the Whole agenda for discussion:\n.\nZ-20-25 Brier Creek Town Center PD\n.\nIf the item is voted out of committee\, it would be eligible for Planning Commission discussion and action.\n\n\n\n\n\n\n\n\n\nD.2\n\nTC-3-24 Historic Preservation and RHDC\n\n\n\n\n\n\n\n\n\n\nDwight Otwell\, Text Change Committee Chair \nThe following item was discussed during the October 15\, 2025 Text Change Committee meeting: \nTC-3-25 Historic Preservation and RHDC \nAmendments to State Law and a staff review of the Unified Development Ordinance (UDO) identified issues in the code that warrant further review and correction. To ensure continuous improvement of the city’s land development regulations and align with State Law\, the language of the historic preservation related sections of the UDO are proposed to be updated \nThe committee voted unanimously (4-0) to recommend approval of the text change. \n\n\n\n\n\n\n\n—\nE.\n\n\n\n\n\n\n\n\n\n\n\nOld Business\n\n\n\n\n\n\n\n\n\n\nF.\n\nNew Business\n\n\n\n\n\n\n\n\n\n\nF.1\n\nTC-1-25 Omnibus 2023 2024 Readoption\n\n\n\n\n\n\n\n\n\n\n\n\n\n\n\n\n\nJustin Bucher\, Planning and Development\nThis amendment updates the Part 10 Unified Development Ordinance to correct errors\, clarify procedures\, and advance policy goals. It also seeks to reintegrate parts of two previously adopted text changes (TC-2-24 and TC-5-23) that remain valid after recent changes in state law (Session Law 2024-57)\, which had nullified those prior updates.\n\n\n\n\n\n\n\n—\n\n\n\n\n\n\n\n\nF.2\n\nRezoning Z-31-25 516 North Blount Street\, North of Polk Street Intersection (Council District C)\n\n\n\n\n\n\n\n\n\n\n\n\n\n\n\n\n\nHiram Marziano\, Planning and Development\n.\nThe proposed request would allow for use of the property – with some restrictions – as indoor and outdoor recreation.\n.\nThe deadline for Planning Commission action is December 27\, 2025.\n\n\n\n\n\n\n\n\n\nF.3\n\nTCZ-32-25 Jeffreys Grove School Road Assemblage\, west of the intersection of Jeffreys Grove School Road & Creedmoor Road (District A) \n\n\n\n\n\n\n\n\n\n\n\n\n\n\n\n\n\n\n\n\n\n\nArthur Cashwell IV\, Planning and Development\n.\nThe rezoning request would increase allowed building height to three stories and 45 feet.\n.\nThe deadline for Planning Commission action is December 27\, 2025.\n\n\n\n\n\n\n\n—\n\nRecommended Action: N/A\n\n\n\n\n\n\n\n\n\n\nG.\n\nOther Business\n\n\n\n\n\n\n\n\n\n\n\n\n\n\nG.1\n\nReport of the Chair\n\n\n\n\n\n\n\n\n\n\n\n\n\n\nG.2\n\nReport of the Members\n\n\n\n\n\n\n\n\n\n\nG.3\n\nReport of the Assistant Director\n\n\n\n\n\n\n\n\n\n\n\n\n\n\n\nG.3.a\n\nReport of the Assistant Planning Director\n\n\n\n\n\n\n\n\n\n\n\n\n\n\n\n\n\n\n\n\nReceive as information.\n\n\n\n\n\n\n\n\n\n\n\n\nH.\n\nAdjournment\n\n\n\n\n\n\n\n\nThe Commission typically meets on the second and fourth Tuesday of each month at 9 a.m. The meetings are held at the Raleigh Municipal Building (RMB)\, located at 222 West Hargett Street. Meeting agendas are added to the BoardDocs agenda management portal on the Thursday before the meeting date. Planning Commission public meetings are broadcast live on RTN 11 and on our live streaming webpage. The Planning Commission subcommittee meetings are not broadcast live. To watch past meetings\, visit our video services page.
URL:https://livableraleigh.com/event/planning-commission-57/
LOCATION:Raleigh Municipal Building\, 222 W. Hargett St.\, Raleigh\, NC\, 27601\, United States
CATEGORIES:Planning Commission
END:VEVENT
END:VCALENDAR