BEGIN:VCALENDAR
VERSION:2.0
PRODID:-//Livable Raleigh - ECPv6.15.20//NONSGML v1.0//EN
CALSCALE:GREGORIAN
METHOD:PUBLISH
X-WR-CALNAME:Livable Raleigh
X-ORIGINAL-URL:https://livableraleigh.com
X-WR-CALDESC:Events for Livable Raleigh
REFRESH-INTERVAL;VALUE=DURATION:PT1H
X-Robots-Tag:noindex
X-PUBLISHED-TTL:PT1H
BEGIN:VTIMEZONE
TZID:America/New_York
BEGIN:DAYLIGHT
TZOFFSETFROM:-0500
TZOFFSETTO:-0400
TZNAME:EDT
DTSTART:20250309T070000
END:DAYLIGHT
BEGIN:STANDARD
TZOFFSETFROM:-0400
TZOFFSETTO:-0500
TZNAME:EST
DTSTART:20251102T060000
END:STANDARD
BEGIN:DAYLIGHT
TZOFFSETFROM:-0500
TZOFFSETTO:-0400
TZNAME:EDT
DTSTART:20260308T070000
END:DAYLIGHT
BEGIN:STANDARD
TZOFFSETFROM:-0400
TZOFFSETTO:-0500
TZNAME:EST
DTSTART:20261101T060000
END:STANDARD
BEGIN:DAYLIGHT
TZOFFSETFROM:-0500
TZOFFSETTO:-0400
TZNAME:EDT
DTSTART:20270314T070000
END:DAYLIGHT
BEGIN:STANDARD
TZOFFSETFROM:-0400
TZOFFSETTO:-0500
TZNAME:EST
DTSTART:20271107T060000
END:STANDARD
END:VTIMEZONE
BEGIN:VEVENT
DTSTART;TZID=America/New_York:20260514T190000
DTEND;TZID=America/New_York:20260514T210000
DTSTAMP:20260425T094825
CREATED:20260425T125337Z
LAST-MODIFIED:20260425T125337Z
UID:53686-1778785200-1778792400@livableraleigh.com
SUMMARY:Live After 5
DESCRIPTION:We’re excited to welcome select Live After 5 performances to Moore Square as part of Downtown Raleigh’s summer concert series\, presented by Downtown Raleigh Alliance.\nJoin us for free live music\, food trucks\, and an unforgettable evening downtown. Shows begin at 7 p.m. \nLive After 5 Moore Square Dates and Lineup\n\nMay 14: Fireside Collective\nJune 4: River Shook\nJuly 30: Fancy Gap\nAugust 13: Harvey Street\n\nLearn more about Live After 5 \nDetails\nLocation: Moore Square Park\nDates and Time: Select Thursdays at 7 p.m.\nAges: Family-friendly\nCost: Free
URL:https://livableraleigh.com/event/live-after-5/
LOCATION:Moore Square\, 200 S. Blount St.\, Raleigh\, NC\, 27601
CATEGORIES:Parks & Rec
END:VEVENT
BEGIN:VEVENT
DTSTART;TZID=America/New_York:20260517T140000
DTEND;TZID=America/New_York:20260517T153000
DTSTAMP:20260425T094825
CREATED:20260425T125612Z
LAST-MODIFIED:20260425T125612Z
UID:53690-1779026400-1779031800@livableraleigh.com
SUMMARY:Shakespeare in the Parks: As You Like It - Sunday
DESCRIPTION:Free outdoor Shakespeare comes to Raleigh!\nAll the world’s a stage! This fourth annual free-to-the-public event brings Shakespeare’s madcap story of love\, mistaken identity\, and finding oneself\, As You Like It\, to five locations around the Triangle. When the spirited Rosalind is exiled by her usurping uncle\, she dons a male disguise and flees to the forest\, only to find it crawling with fellow refugees—including her crush\, the farmer-poet Orlando. \nWhat follows is a masterclass in romantic chaos as Rosalind\, acting as “Ganymede\,” mentors a lovesick Orlando in the art of wooing while juggling mismatched shepherds and searching for her long-lost father. Through wit\, bad poetry\, and high-stakes matchmaking\, the group of outcasts proves that reconciliation is possible\, and that finding love is the greatest adventure of all. Set in a fictionalized North Carolina and infused with local music\, this abridged version is the perfect way to experience the magic of Shakespeare under the open sky or on your busy schedule. \nTickets are free but reservations are recommended. \nLocation: Fred Fletcher Park\nPerformance Time: 2 p.m.\nAges: All\nCost: Tickets are free\, but reservations are recommended.\nReserve Your Tickets
URL:https://livableraleigh.com/event/shakespeare-in-the-parks-as-you-like-it-sunday/
LOCATION:Fred Fletcher Park\, 820 Clay St\, Raleigh\, NC\, 27605
CATEGORIES:Parks & Rec
END:VEVENT
BEGIN:VEVENT
DTSTART;TZID=America/New_York:20260517T150000
DTEND;TZID=America/New_York:20260517T180000
DTSTAMP:20260425T094825
CREATED:20260404T161903Z
LAST-MODIFIED:20260404T161903Z
UID:53219-1779030000-1779040800@livableraleigh.com
SUMMARY:Top Greene’s “Adornment of Grace” Hat Show Contest
DESCRIPTION:Come out and show off your best hat at Top Greene. This special Hat Show honors and celebrates Black culture and the rich tradition of hat-wearing through style\, creativity\, and self-expression.\nPlease join us for The Hat Show Contest\, a celebratory event honoring creativity\, style\, and cultural expression on Sunday\, May 17\, from 3 – 6 p.m. \nWe will feature a special guest\, Dr. Donna Corbett\, and The Mary Corbett Hat Collection will showcase a timeless collection of her mother’s vintage hats\, highlighting the enduring elegance and cultural influence of classic millinery. \nFrom refined silhouettes to bold statements\, this presentation honors the legacy of style passed from one generation to the next\, and Erica Kendrick\, a ceramic artist\, sculptor\, and educator \nBest Hat Contest\nEveryone who attends will be entered into the contest and have the opportunity to showcase their hat for a chance to win a FREE 3-hour rental at Top Greene. \nBring your confidence\, your culture\, and your crown — because the hat makes the statement. Come out\, show love\, and help us make this a night to remember! \n\n\n\nDetails\nLocation: John P. Top Greene African American Cultural Center\nAges: All\nCost: $15 (All attendees are automatically entered into the contest)\nBuy tickets on RecLink
URL:https://livableraleigh.com/event/top-greenes-adornment-of-grace-hat-show-contest/
LOCATION:John P. (Top) Greene\, 401 MLK Jr Blvd\, Raleigh
CATEGORIES:Parks & Rec
END:VEVENT
BEGIN:VEVENT
DTSTART;TZID=America/New_York:20260523T110000
DTEND;TZID=America/New_York:20260523T130000
DTSTAMP:20260425T094825
CREATED:20260418T183813Z
LAST-MODIFIED:20260418T183813Z
UID:53477-1779534000-1779541200@livableraleigh.com
SUMMARY:Plant Swap
DESCRIPTION:Calling all plant lovers! Join us for an exciting plant swap event.\nBring your favorite house and garden plants or homegrown vegetables to trade with fellow plant enthusiasts. We ask that you bring only healthy\, pest-free plants to ensure everyone’s enjoyment. This event is free and open to the public! \nDetails\nLocation: City of Raleigh Museum\nDate: Saturday\, May 23\nTime: 11 a.m. – 1 p.m.\nAges: All\nCost: Free
URL:https://livableraleigh.com/event/plant-swap-3/
LOCATION:City of Raleigh Museum\, 220 Fayetteville St\, Raleigh\, NC\, 27601
CATEGORIES:Parks & Rec
END:VEVENT
BEGIN:VEVENT
DTSTART;TZID=America/New_York:20260529T190000
DTEND;TZID=America/New_York:20260529T220000
DTSTAMP:20260425T094825
CREATED:20260425T130305Z
LAST-MODIFIED:20260425T130305Z
UID:53698-1780081200-1780092000@livableraleigh.com
SUMMARY:Big Screen Bash
DESCRIPTION:Bring you game face\, your lawn chair\, and your summer spirit-let’s make memories under the summer sky at our Big Screen Bash!\nFamilies will enjoy a variety of competitive and carnival-style games\, including tug-of-war\, relay races\, classic carnival games\, and bingo. \nAs the sun sets\, folks will gather in the gym for a showing of Zootopia 2 on the big screen\, complete with drinks and snacks to close out the evening in comfort and style! \nBe sure to bring chairs\, blankets\, and your own food and beverages. Drinks and snacks provided will be limited. Spots are limited! \nDetails\nLocation: Lions Park Community Center\nAge: All\nCost: $5\nRegister on RecLink
URL:https://livableraleigh.com/event/big-screen-bash/
LOCATION:Lions Park Community Center\, 516 Dennis Avenue\, Raleigh\, 27604
CATEGORIES:Parks & Rec
END:VEVENT
BEGIN:VEVENT
DTSTART;TZID=America/New_York:20260530T100000
DTEND;TZID=America/New_York:20260530T153000
DTSTAMP:20260425T094825
CREATED:20260410T173614Z
LAST-MODIFIED:20260410T173614Z
UID:53386-1780135200-1780155000@livableraleigh.com
SUMMARY:Annual International Children's Day
DESCRIPTION:oin us for the 4th Annual International Children’s Day! Enjoy books\, crafts\, and performances!\nLearn more about the Annual International Children’s Day! \nLocation: City of Raleigh Museum\nAges: All\nCost: Free
URL:https://livableraleigh.com/event/annual-international-childrens-day/
LOCATION:City of Raleigh Museum\, 220 Fayetteville St\, Raleigh\, NC\, 27601
CATEGORIES:Parks & Rec
END:VEVENT
BEGIN:VEVENT
DTSTART;TZID=America/New_York:20260530T140000
DTEND;TZID=America/New_York:20260530T180000
DTSTAMP:20260425T094825
CREATED:20260425T130425Z
LAST-MODIFIED:20260425T130425Z
UID:53700-1780149600-1780164000@livableraleigh.com
SUMMARY:A New Nash Bash
DESCRIPTION:Big Ideas\, Big Party\, and Big Opportunity to shape the future of Raleigh’s Historic Nash Square – Join Us!\nRaleigh’s historic Nash Square is receiving new love and attention through the Nash Square Public Realm planning project. \nJoin us at Nash Square on Saturday\, May 30\, from 2 to 6 p.m. for a family-friendly public block party\, where you can review initial design concepts based on public engagement to date and provide feedback on the future of this vital public space. \nThe City’s design team\, led by Raleigh Parks staff and consultant Reed Hilderbrand\, is developing a long-range plan to guide the future of the park and its surrounding edges. The team brings together a wide variety of subject matter experts\, city departments\, local partners\, and communities to envision the future of this shared space. \nOur goal is to hear from as many Raleigh residents as possible that live\, work\, or play in and around Nash Square!  \nDetails\nLocation: Nash Square & Whiskey Kitchen\nDate: Saturday\, May 30\nTime: 2 – 6 p.m.\nAges: All\nCost: Free \nLearn more about a New Nash Bash
URL:https://livableraleigh.com/event/a-new-nash-bash/
LOCATION:Nash Square\, 200 S McDowell St\, Raleigh\, 27601\, United States
CATEGORIES:Parks & Rec
END:VEVENT
BEGIN:VEVENT
DTSTART;TZID=America/New_York:20260531T180000
DTEND;TZID=America/New_York:20260531T200000
DTSTAMP:20260425T094825
CREATED:20260404T164843Z
LAST-MODIFIED:20260404T164843Z
UID:53267-1780250400-1780257600@livableraleigh.com
SUMMARY:Summer Concert Series
DESCRIPTION:Join us for this installment of the Pullen and Fletcher Park free summer concert series!\nEach summer\, local artists donate their talent and time to put on a great free show for the community. On select Sundays from now until Aug. 16\, we will host groups performing a variety of different genres that will help set the tone for an awesome evening at these two beautiful facilities. \nFred Fletcher Park\n805 Washington Street\, Raleigh\, NC\nMay 31 – SWAG\nJune 7 – Blue Notes Jazz Band\nJuly 12 – Invitation\nJuly 19 – Thelonius\nJuly 26 – Capital\nAug. 2 – The Holly Springs Community Band\nAug. 9 – Triangle Sax Ensemble\nAug. 23 – Carpe Diem Saxophone Quartet \nPullen Park\n520 Ashe Ave\, Raleigh\, NC\nJune 21 – Eat a Peach\nJune 28 – Triangle Taiko\nAug. 16  – Bull City Trio \nDetails\nSunday Evenings\nTime: 6 – 8 p.m.\nAges: All\nCost: Free \nKnow Before You Go\n\nPlease bring your own blanket or chair\nPerformers may change without notice\nConcerts are free\, but tips are encouraged\nAt Pullen Park\, food will be available for purchase at the cafe\nAt Fletcher Park\, please bring your own food and beverages\nPullen Park Amusements are open until 8 p.m.\nIt may be canceled for inclement weather. For updates\, contact 919-996-6468
URL:https://livableraleigh.com/event/summer-concert-series-24/
LOCATION:Fred Fletcher Park\, 820 Clay St\, Raleigh\, NC\, 27605
CATEGORIES:Parks & Rec
END:VEVENT
END:VCALENDAR