BEGIN:VCALENDAR
VERSION:2.0
PRODID:-//Livable Raleigh - ECPv6.15.20//NONSGML v1.0//EN
CALSCALE:GREGORIAN
METHOD:PUBLISH
X-WR-CALNAME:Livable Raleigh
X-ORIGINAL-URL:https://livableraleigh.com
X-WR-CALDESC:Events for Livable Raleigh
REFRESH-INTERVAL;VALUE=DURATION:PT1H
X-Robots-Tag:noindex
X-PUBLISHED-TTL:PT1H
BEGIN:VTIMEZONE
TZID:America/New_York
BEGIN:DAYLIGHT
TZOFFSETFROM:-0500
TZOFFSETTO:-0400
TZNAME:EDT
DTSTART:20240310T070000
END:DAYLIGHT
BEGIN:STANDARD
TZOFFSETFROM:-0400
TZOFFSETTO:-0500
TZNAME:EST
DTSTART:20241103T060000
END:STANDARD
BEGIN:DAYLIGHT
TZOFFSETFROM:-0500
TZOFFSETTO:-0400
TZNAME:EDT
DTSTART:20250309T070000
END:DAYLIGHT
BEGIN:STANDARD
TZOFFSETFROM:-0400
TZOFFSETTO:-0500
TZNAME:EST
DTSTART:20251102T060000
END:STANDARD
BEGIN:DAYLIGHT
TZOFFSETFROM:-0500
TZOFFSETTO:-0400
TZNAME:EDT
DTSTART:20260308T070000
END:DAYLIGHT
BEGIN:STANDARD
TZOFFSETFROM:-0400
TZOFFSETTO:-0500
TZNAME:EST
DTSTART:20261101T060000
END:STANDARD
END:VTIMEZONE
BEGIN:VEVENT
DTSTART;TZID=America/New_York:20251110T130000
DTEND;TZID=America/New_York:20251110T143000
DTSTAMP:20260421T053016
CREATED:20250929T145010Z
LAST-MODIFIED:20250929T145010Z
UID:48675-1762779600-1762785000@livableraleigh.com
SUMMARY:Active Adults Poetry Workshop - Anne Gordon Center
DESCRIPTION:Join public artist Austen Camille for a creative poetry workshop at the Anne Gorden Center for Active Adults. Together\, we’ll explore the unique habitat of the River Cane Wetland\, reflecting on what makes it a shared home for so many species. Guided writing prompts will help you craft your own poem\, and your words will become part of the inspiration for upcoming public art at the new River Cane Wetland Park. \nRegister for the workshop. \nLearn more about Public Art at River Cane Wetland Park.
URL:https://livableraleigh.com/event/active-adults-poetry-workshop-anne-gordon-center/
LOCATION:Anne Gordon Center for Active Adults\, 1901 Spring Forest Road\, Raleigh\, North Carolina\, 27615
CATEGORIES:Arts & Entertainment,Parks & Rec
END:VEVENT
END:VCALENDAR