BEGIN:VCALENDAR
VERSION:2.0
PRODID:-//Livable Raleigh - ECPv6.15.20//NONSGML v1.0//EN
CALSCALE:GREGORIAN
METHOD:PUBLISH
X-WR-CALNAME:Livable Raleigh
X-ORIGINAL-URL:https://livableraleigh.com
X-WR-CALDESC:Events for Livable Raleigh
REFRESH-INTERVAL;VALUE=DURATION:PT1H
X-Robots-Tag:noindex
X-PUBLISHED-TTL:PT1H
BEGIN:VTIMEZONE
TZID:America/New_York
BEGIN:DAYLIGHT
TZOFFSETFROM:-0500
TZOFFSETTO:-0400
TZNAME:EDT
DTSTART:20240310T070000
END:DAYLIGHT
BEGIN:STANDARD
TZOFFSETFROM:-0400
TZOFFSETTO:-0500
TZNAME:EST
DTSTART:20241103T060000
END:STANDARD
BEGIN:DAYLIGHT
TZOFFSETFROM:-0500
TZOFFSETTO:-0400
TZNAME:EDT
DTSTART:20250309T070000
END:DAYLIGHT
BEGIN:STANDARD
TZOFFSETFROM:-0400
TZOFFSETTO:-0500
TZNAME:EST
DTSTART:20251102T060000
END:STANDARD
BEGIN:DAYLIGHT
TZOFFSETFROM:-0500
TZOFFSETTO:-0400
TZNAME:EDT
DTSTART:20260308T070000
END:DAYLIGHT
BEGIN:STANDARD
TZOFFSETFROM:-0400
TZOFFSETTO:-0500
TZNAME:EST
DTSTART:20261101T060000
END:STANDARD
END:VTIMEZONE
BEGIN:VEVENT
DTSTART;TZID=America/New_York:20251109T130000
DTEND;TZID=America/New_York:20251109T153000
DTSTAMP:20260419T084056
CREATED:20251024T145117Z
LAST-MODIFIED:20251024T145117Z
UID:49102-1762693200-1762702200@livableraleigh.com
SUMMARY:Piedmont Grassland and Environmental Art Event
DESCRIPTION:Learn about the Triangle’s historic grasslands and help install a mini Piedmont Prairie at Durant Nature Preserve. The new grasslands will surround Nature Preserves Artist-in-Residence Scott Hazard’s sculpture\, which creates habitat for chimney swifts. Starting at 1 p.m.\, Justin Robinson and Tara Mei Smith from Extra Terrestrial Projects will share insights on grassland ecology and guide participants in planting cool-season species that will bloom in spring. \nJoin this hands-on event to support biodiversity\, explore public art\, and contribute to the ongoing evolution of this 237-acre nature preserve. \nRegister for the workshop.
URL:https://livableraleigh.com/event/piedmont-grassland-and-environmental-art-event/
LOCATION:Durant Nature Preserve\, 3237 Spottswood Street\, Raleigh\, 27615
CATEGORIES:Arts & Entertainment,Festivals & Special Events,Parks & Rec
END:VEVENT
END:VCALENDAR