BEGIN:VCALENDAR
VERSION:2.0
PRODID:-//Livable Raleigh - ECPv6.15.20//NONSGML v1.0//EN
CALSCALE:GREGORIAN
METHOD:PUBLISH
X-ORIGINAL-URL:https://livableraleigh.com
X-WR-CALDESC:Events for Livable Raleigh
REFRESH-INTERVAL;VALUE=DURATION:PT1H
X-Robots-Tag:noindex
X-PUBLISHED-TTL:PT1H
BEGIN:VTIMEZONE
TZID:America/New_York
BEGIN:DAYLIGHT
TZOFFSETFROM:-0500
TZOFFSETTO:-0400
TZNAME:EDT
DTSTART:20240310T070000
END:DAYLIGHT
BEGIN:STANDARD
TZOFFSETFROM:-0400
TZOFFSETTO:-0500
TZNAME:EST
DTSTART:20241103T060000
END:STANDARD
BEGIN:DAYLIGHT
TZOFFSETFROM:-0500
TZOFFSETTO:-0400
TZNAME:EDT
DTSTART:20250309T070000
END:DAYLIGHT
BEGIN:STANDARD
TZOFFSETFROM:-0400
TZOFFSETTO:-0500
TZNAME:EST
DTSTART:20251102T060000
END:STANDARD
BEGIN:DAYLIGHT
TZOFFSETFROM:-0500
TZOFFSETTO:-0400
TZNAME:EDT
DTSTART:20260308T070000
END:DAYLIGHT
BEGIN:STANDARD
TZOFFSETFROM:-0400
TZOFFSETTO:-0500
TZNAME:EST
DTSTART:20261101T060000
END:STANDARD
END:VTIMEZONE
BEGIN:VEVENT
DTSTART;TZID=America/New_York:20251030T160000
DTEND;TZID=America/New_York:20251030T180000
DTSTAMP:20260421T081633
CREATED:20251010T205040Z
LAST-MODIFIED:20251010T205040Z
UID:48929-1761840000-1761847200@livableraleigh.com
SUMMARY:Trunk-or-Treat at Lions Park
DESCRIPTION:Get ready for a spooky good time!\nJoin us for Trunk or Treat\, a family-friendly fall celebration filled with music\, arts and crafts\, costumes\, decorated trunks\, and of course—treats! \nCommunity partners\, local businesses\, and City staff will be there to help make the evening extra special. Don’t miss out on this festive fall fun — everyone is welcome! \nLocation: Lions Park\nAges: 12 and under\nCost: Free\nNo Registration Required
URL:https://livableraleigh.com/event/trunk-or-treat-at-lions-park/
LOCATION:Lions Park Community Center\, 516 Dennis Avenue\, Raleigh\, 27604
CATEGORIES:Festivals & Special Events,Parks & Rec
END:VEVENT
BEGIN:VEVENT
DTSTART;TZID=America/New_York:20251030T183000
DTEND;TZID=America/New_York:20251030T193000
DTSTAMP:20260421T081633
CREATED:20250928T190925Z
LAST-MODIFIED:20250928T190925Z
UID:48616-1761849000-1761852600@livableraleigh.com
SUMMARY:Lake Lynn First Tee Trunk-Or-Treat
DESCRIPTION:Join the City of Raleigh and First Tee for a spooktacular Trunk-or-Treat event at Lake Lynn Community Center! Registration is encouraged\, but not required. \nIf interested in hosting a decorated car and handing out candy\, it must be packaged and store-bought. Please reach out to julia.egler@raleighnc.gov and amanda.holton@raleighnc.gov. \nLocation: Lake Lynn Park\nAges: All\nCost: Free
URL:https://livableraleigh.com/event/lake-lynn-first-tee-trunk-or-treat/
LOCATION:Lake Lynn Community Center\, 7921 Ray Road\, Raleigh\, NC\, 27613\, United States
CATEGORIES:Parks & Rec
END:VEVENT
BEGIN:VEVENT
DTSTART;TZID=America/New_York:20251030T200000
DTEND;TZID=America/New_York:20251030T220000
DTSTAMP:20260421T081633
CREATED:20251016T234727Z
LAST-MODIFIED:20251016T234727Z
UID:49026-1761854400-1761861600@livableraleigh.com
SUMMARY:The Haunted at the Pines
DESCRIPTION:Come out\, if you dare\, for a haunted night at the Pines.\nEach ghoul-themed room will have frightful music for the perfect Halloween thrill! Enter at your own risk! \nAll event proceeds will go to Raleigh Parks’ Play it Forward Financial Assistance Fund. \nAges: 10 and older\nCost: $5 per person\nRegister on RecLink\nAttendees will travel through the haunted house in groups of four.
URL:https://livableraleigh.com/event/the-haunted-at-the-pines-3/
LOCATION:Carolina Pines Community Center\, 2305 Lake Wheeler Road\, Raleigh\, NC\, 27603\, United States
CATEGORIES:Festivals & Special Events,Parks & Rec
END:VEVENT
END:VCALENDAR