BEGIN:VCALENDAR
VERSION:2.0
PRODID:-//Livable Raleigh - ECPv6.15.20//NONSGML v1.0//EN
CALSCALE:GREGORIAN
METHOD:PUBLISH
X-ORIGINAL-URL:https://livableraleigh.com
X-WR-CALDESC:Events for Livable Raleigh
REFRESH-INTERVAL;VALUE=DURATION:PT1H
X-Robots-Tag:noindex
X-PUBLISHED-TTL:PT1H
BEGIN:VTIMEZONE
TZID:America/New_York
BEGIN:DAYLIGHT
TZOFFSETFROM:-0500
TZOFFSETTO:-0400
TZNAME:EDT
DTSTART:20240310T070000
END:DAYLIGHT
BEGIN:STANDARD
TZOFFSETFROM:-0400
TZOFFSETTO:-0500
TZNAME:EST
DTSTART:20241103T060000
END:STANDARD
BEGIN:DAYLIGHT
TZOFFSETFROM:-0500
TZOFFSETTO:-0400
TZNAME:EDT
DTSTART:20250309T070000
END:DAYLIGHT
BEGIN:STANDARD
TZOFFSETFROM:-0400
TZOFFSETTO:-0500
TZNAME:EST
DTSTART:20251102T060000
END:STANDARD
BEGIN:DAYLIGHT
TZOFFSETFROM:-0500
TZOFFSETTO:-0400
TZNAME:EDT
DTSTART:20260308T070000
END:DAYLIGHT
BEGIN:STANDARD
TZOFFSETFROM:-0400
TZOFFSETTO:-0500
TZNAME:EST
DTSTART:20261101T060000
END:STANDARD
END:VTIMEZONE
BEGIN:VEVENT
DTSTART;TZID=America/New_York:20251004T100000
DTEND;TZID=America/New_York:20251004T120000
DTSTAMP:20260419T101418
CREATED:20250926T203118Z
LAST-MODIFIED:20250926T203118Z
UID:48507-1759572000-1759579200@livableraleigh.com
SUMMARY:Art On The Greenway Ride Series - Ride 2
DESCRIPTION:Ride Information\nSaturday\, Oct. 4 at 10 a.m.\n16 miles – North Carolina Museum of Art to Shelley Lake and back. \nView route information \nOur second ride will be a little longer starting at the North Carolina Museum of Art. From there\, we will ride together north toward Shelley Lake\, making a couple of stops along the way to imagine where and how public art could be added to this section of the greenway. The pace will be fun and social. Expect to maintain an average of 10 mph.
URL:https://livableraleigh.com/event/art-on-the-greenway-ride-series-ride-2-2/
LOCATION:NC Museum of Art\, 2110 Blue Ridge Rd\, Raleigh\, NC\, 27617
CATEGORIES:Community Engagement,Parks & Rec
END:VEVENT
BEGIN:VEVENT
DTSTART;TZID=America/New_York:20251004T110000
DTEND;TZID=America/New_York:20251004T130000
DTSTAMP:20260419T101418
CREATED:20250926T203427Z
LAST-MODIFIED:20250926T203427Z
UID:48511-1759575600-1759582800@livableraleigh.com
SUMMARY:Grab Your Fans\, We're Dancing Again!
DESCRIPTION:Please join us for Biltmore Hills second annual Dance for the Cure\, in celebration of all Cancer survivors and warriors who are still in the fight.\nThis family-friendly event will offer fun and exciting line dances\, vendors\, food\, and more. Whether you want to join in the dancing or support from the sidelines\, this is an event you won’t want to miss here at Biltmore Hills! \nLocation: Biltmore Hills Park\nAge: All\nCost: $5\nRegister on RecLink
URL:https://livableraleigh.com/event/grab-your-fans-were-dancing-again/
LOCATION:Biltmore Hills Park\, 2615 Fitzgerald Drive\, Raleigh\, NC\, 27610
CATEGORIES:Parks & Rec
END:VEVENT
BEGIN:VEVENT
DTSTART;TZID=America/New_York:20251004T110000
DTEND;TZID=America/New_York:20251004T180000
DTSTAMP:20260419T101418
CREATED:20250926T203306Z
LAST-MODIFIED:20250926T203306Z
UID:48509-1759575600-1759600800@livableraleigh.com
SUMMARY:Falling for Local
DESCRIPTION:With live music from local talent and loads of FREE fall fun – including hay rides\, inflatables\, lawn games\, kids activities\, seasonal photo ops\, and a pumpkin patch – you don’t want to miss this family-friendly event! \n\nDine from 50+ local food trucks\nShop with 100+ makers and independent businesses\nSample NC craft beer and ciders\nRaleigh Fire will be in attendance\, celebrating Fire Prevention Week\nFor the live music lineup and list of vendors\, follow the link below.\n\nMore event details \nDate: Saturday\, Oct. 4\nTime: 11 a.m. to 6 p.m.\nLocation: The Big Field at Dorthea Dix Park
URL:https://livableraleigh.com/event/falling-for-local/
LOCATION:Dorothea Dix Park\, 1030 Richardson Drive\, Raleigh\, NC\, 27603
CATEGORIES:Community and Workshops,Festivals & Special Events,Parks & Rec
END:VEVENT
BEGIN:VEVENT
DTSTART;TZID=America/New_York:20251004T120000
DTEND;TZID=America/New_York:20251004T150000
DTSTAMP:20260419T101418
CREATED:20250926T203543Z
LAST-MODIFIED:20250926T203543Z
UID:48513-1759579200-1759590000@livableraleigh.com
SUMMARY:The Gospel Program at Raleigh Wide Open Festival
DESCRIPTION:The Gospel program at Raleigh Wide Open brings the sounds\, stories\, and spirit of gospel music to life through dynamic talks at the City of Raleigh Museum.\nCultural producer Cardo Grant curates the Gospel Radio Lab\, a three-part series tracing gospel radio from its Piedmont roots\, through its role in the Civil Rights era\, and into its digital-age future. Together\, these sessions honor gospel’s enduring power to shape culture\, strengthen community\, and inspire across generations. \nPresented by the North Carolina Folklife Institute in partnership with PineCone\, with support from the National Endowment for the Arts and the North Carolina Arts Council. \nLocation: City of Raleigh Museum\nDate: Saturday\, Oct. 4\nTime: 12 – 3 p.m.\nAges: All\nCost: Free
URL:https://livableraleigh.com/event/the-gospel-program-at-raleigh-wide-open-festival/
LOCATION:City of Raleigh Museum\, 220 Fayetteville St\, Raleigh\, NC\, 27601
CATEGORIES:Festivals & Special Events,Parks & Rec
END:VEVENT
END:VCALENDAR