BEGIN:VCALENDAR
VERSION:2.0
PRODID:-//Livable Raleigh - ECPv6.15.20//NONSGML v1.0//EN
CALSCALE:GREGORIAN
METHOD:PUBLISH
X-ORIGINAL-URL:https://livableraleigh.com
X-WR-CALDESC:Events for Livable Raleigh
REFRESH-INTERVAL;VALUE=DURATION:PT1H
X-Robots-Tag:noindex
X-PUBLISHED-TTL:PT1H
BEGIN:VTIMEZONE
TZID:America/New_York
BEGIN:DAYLIGHT
TZOFFSETFROM:-0500
TZOFFSETTO:-0400
TZNAME:EDT
DTSTART:20240310T070000
END:DAYLIGHT
BEGIN:STANDARD
TZOFFSETFROM:-0400
TZOFFSETTO:-0500
TZNAME:EST
DTSTART:20241103T060000
END:STANDARD
BEGIN:DAYLIGHT
TZOFFSETFROM:-0500
TZOFFSETTO:-0400
TZNAME:EDT
DTSTART:20250309T070000
END:DAYLIGHT
BEGIN:STANDARD
TZOFFSETFROM:-0400
TZOFFSETTO:-0500
TZNAME:EST
DTSTART:20251102T060000
END:STANDARD
BEGIN:DAYLIGHT
TZOFFSETFROM:-0500
TZOFFSETTO:-0400
TZNAME:EDT
DTSTART:20260308T070000
END:DAYLIGHT
BEGIN:STANDARD
TZOFFSETFROM:-0400
TZOFFSETTO:-0500
TZNAME:EST
DTSTART:20261101T060000
END:STANDARD
END:VTIMEZONE
BEGIN:VEVENT
DTSTART;TZID=America/New_York:20250927T100000
DTEND;TZID=America/New_York:20250927T120000
DTSTAMP:20260420T010505
CREATED:20250815T185950Z
LAST-MODIFIED:20250815T185950Z
UID:47266-1758967200-1758974400@livableraleigh.com
SUMMARY:Art On The Greenway Ride Series - Ride #2
DESCRIPTION:Join Oaks and Spokes and Raleigh Arts for three fun and social group rides to help shape the future of public art on Raleigh’s greenway system. These rides are part of an ongoing effort to identify where and what kinds of art could be added to make our greenways more vibrant\, welcoming\, and reflective of our community. \nAlong the way\, we will visit or discuss several potential locations listed in the City of Raleigh Greenway Master Plan as priority sites for public art. These include sections of the Reedy Creek\, Crabtree Creek\, Little Rock\, and Walnut Creek Trails. At each location\, you can share your ideas about what types of public art you would like to see\, such as tunnel murals\, sculptures\, wayfinding features\, decorative fencing\, infrastructure murals\, or pathway art. \nYou do not have to pre-register to participate. Just arrive at the starting location by the posted start time for each ride. \nThe pilot list of locations includes areas like the North Carolina Museum of Art Blue Loop to Blue Ridge Road\, Industrial Drive to Atlantic Avenue\, and the Little Rock Trail between Davie and Cabarrus Streets\, among others. These sites were chosen for their visibility\, community connections\, and potential to create unique experiences along the trail. \nWhether you ride the greenway daily or visit it occasionally\, this is a chance to explore it in a new way\, imagine how art could enhance the space\, and contribute to decisions that will help shape the greenway’s future. \nWater and snacks will be provided\, but participants should come prepared with their own water\, sunscreen\, and clothing suited to the weather. Please bring a safe and working bike\, scooter\, Onewheel\, or other personal electric vehicle if you plan to ride. \n\n \nRide Information\nSaturday\, September 27th at 10am\n16 miles – North Carolina Museum of Art to Shelley Lake and back. \nView route information \nOur second ride will be a little longer starting at the North Carolina Museum of Art. From there\, we will ride together north toward Shelley Lake\, making a couple of stops along the way to imagine where and how public art could be added to this section of the greenway. The pace will be fun and social. Expect to maintain an average of 10 mph.
URL:https://livableraleigh.com/event/art-on-the-greenway-ride-series-ride-2/
LOCATION:NC Museum of Art\, 2110 Blue Ridge Rd\, Raleigh\, NC\, 27617
CATEGORIES:Community Engagement,Parks & Rec
END:VEVENT
END:VCALENDAR