BEGIN:VCALENDAR
VERSION:2.0
PRODID:-//Livable Raleigh - ECPv6.15.20//NONSGML v1.0//EN
CALSCALE:GREGORIAN
METHOD:PUBLISH
X-WR-CALNAME:Livable Raleigh
X-ORIGINAL-URL:https://livableraleigh.com
X-WR-CALDESC:Events for Livable Raleigh
REFRESH-INTERVAL;VALUE=DURATION:PT1H
X-Robots-Tag:noindex
X-PUBLISHED-TTL:PT1H
BEGIN:VTIMEZONE
TZID:America/New_York
BEGIN:DAYLIGHT
TZOFFSETFROM:-0500
TZOFFSETTO:-0400
TZNAME:EDT
DTSTART:20240310T070000
END:DAYLIGHT
BEGIN:STANDARD
TZOFFSETFROM:-0400
TZOFFSETTO:-0500
TZNAME:EST
DTSTART:20241103T060000
END:STANDARD
BEGIN:DAYLIGHT
TZOFFSETFROM:-0500
TZOFFSETTO:-0400
TZNAME:EDT
DTSTART:20250309T070000
END:DAYLIGHT
BEGIN:STANDARD
TZOFFSETFROM:-0400
TZOFFSETTO:-0500
TZNAME:EST
DTSTART:20251102T060000
END:STANDARD
BEGIN:DAYLIGHT
TZOFFSETFROM:-0500
TZOFFSETTO:-0400
TZNAME:EDT
DTSTART:20260308T070000
END:DAYLIGHT
BEGIN:STANDARD
TZOFFSETFROM:-0400
TZOFFSETTO:-0500
TZNAME:EST
DTSTART:20261101T060000
END:STANDARD
END:VTIMEZONE
BEGIN:VEVENT
DTSTART;TZID=America/New_York:20250830T110000
DTEND;TZID=America/New_York:20250830T130000
DTSTAMP:20260421T112149
CREATED:20250822T203544Z
LAST-MODIFIED:20250822T203544Z
UID:47425-1756551600-1756558800@livableraleigh.com
SUMMARY:Sanderford Road Pickleball Grand Opening!
DESCRIPTION:Join us at Sanderford Road Park for the grand opening of our brand-new pickleball courts!\nCome learn the fastest-growing sport in the country with a live demo and free instruction. Whether you’re brand new or already a fan\, this is a great chance\nto try it out and connect with others in the community. Bring your friends\, bring your family—don’t miss it! \nLocation: Sanderford Road Park\nAges: All\nCost: Free\nNo Registration Required\, and Equipment will be provided
URL:https://livableraleigh.com/event/sanderford-road-pickleball-grand-opening/
LOCATION:Sanderford Road Community Center\, 2623 Sanderford Rd\, Raleigh\, NC\, 27610
CATEGORIES:Parks & Rec
END:VEVENT
END:VCALENDAR