BEGIN:VCALENDAR
VERSION:2.0
PRODID:-//Livable Raleigh - ECPv6.15.20//NONSGML v1.0//EN
CALSCALE:GREGORIAN
METHOD:PUBLISH
X-ORIGINAL-URL:https://livableraleigh.com
X-WR-CALDESC:Events for Livable Raleigh
REFRESH-INTERVAL;VALUE=DURATION:PT1H
X-Robots-Tag:noindex
X-PUBLISHED-TTL:PT1H
BEGIN:VTIMEZONE
TZID:America/New_York
BEGIN:DAYLIGHT
TZOFFSETFROM:-0500
TZOFFSETTO:-0400
TZNAME:EDT
DTSTART:20240310T070000
END:DAYLIGHT
BEGIN:STANDARD
TZOFFSETFROM:-0400
TZOFFSETTO:-0500
TZNAME:EST
DTSTART:20241103T060000
END:STANDARD
BEGIN:DAYLIGHT
TZOFFSETFROM:-0500
TZOFFSETTO:-0400
TZNAME:EDT
DTSTART:20250309T070000
END:DAYLIGHT
BEGIN:STANDARD
TZOFFSETFROM:-0400
TZOFFSETTO:-0500
TZNAME:EST
DTSTART:20251102T060000
END:STANDARD
BEGIN:DAYLIGHT
TZOFFSETFROM:-0500
TZOFFSETTO:-0400
TZNAME:EDT
DTSTART:20260308T070000
END:DAYLIGHT
BEGIN:STANDARD
TZOFFSETFROM:-0400
TZOFFSETTO:-0500
TZNAME:EST
DTSTART:20261101T060000
END:STANDARD
END:VTIMEZONE
BEGIN:VEVENT
DTSTART;TZID=America/New_York:20250819T180000
DTEND;TZID=America/New_York:20250819T193000
DTSTAMP:20260423T074054
CREATED:20250718T195404Z
LAST-MODIFIED:20250718T195404Z
UID:46637-1755626400-1755631800@livableraleigh.com
SUMMARY:Dix Park Community Committee Meeting
DESCRIPTION:The Dix Park Community Committee is an advisory committee designed to represent the diversity of the community and bring a broad range of experiences and expertise to the Dorothea Dix Park project. This committee provides guidance and recommendations to the Dix Park Leadership Committee on matters related to park development\, programming\, and engagement. \nView Meeting Agendas and Minutes
URL:https://livableraleigh.com/event/dix-park-community-committee-meeting-6/
LOCATION:DIX Park\, 1030 Richardson Dr\, Raleigh\, NC\, 27603
CATEGORIES:Parks & Rec
END:VEVENT
END:VCALENDAR