BEGIN:VCALENDAR
VERSION:2.0
PRODID:-//Livable Raleigh - ECPv6.15.20//NONSGML v1.0//EN
CALSCALE:GREGORIAN
METHOD:PUBLISH
X-WR-CALNAME:Livable Raleigh
X-ORIGINAL-URL:https://livableraleigh.com
X-WR-CALDESC:Events for Livable Raleigh
REFRESH-INTERVAL;VALUE=DURATION:PT1H
X-Robots-Tag:noindex
X-PUBLISHED-TTL:PT1H
BEGIN:VTIMEZONE
TZID:America/New_York
BEGIN:DAYLIGHT
TZOFFSETFROM:-0500
TZOFFSETTO:-0400
TZNAME:EDT
DTSTART:20240310T070000
END:DAYLIGHT
BEGIN:STANDARD
TZOFFSETFROM:-0400
TZOFFSETTO:-0500
TZNAME:EST
DTSTART:20241103T060000
END:STANDARD
BEGIN:DAYLIGHT
TZOFFSETFROM:-0500
TZOFFSETTO:-0400
TZNAME:EDT
DTSTART:20250309T070000
END:DAYLIGHT
BEGIN:STANDARD
TZOFFSETFROM:-0400
TZOFFSETTO:-0500
TZNAME:EST
DTSTART:20251102T060000
END:STANDARD
BEGIN:DAYLIGHT
TZOFFSETFROM:-0500
TZOFFSETTO:-0400
TZNAME:EDT
DTSTART:20260308T070000
END:DAYLIGHT
BEGIN:STANDARD
TZOFFSETFROM:-0400
TZOFFSETTO:-0500
TZNAME:EST
DTSTART:20261101T060000
END:STANDARD
END:VTIMEZONE
BEGIN:VEVENT
DTSTART;TZID=America/New_York:20250817T133000
DTEND;TZID=America/New_York:20250817T153000
DTSTAMP:20260423T061111
CREATED:20250808T130305Z
LAST-MODIFIED:20250808T130305Z
UID:47147-1755437400-1755444600@livableraleigh.com
SUMMARY:Pop Up Roller Skating Event
DESCRIPTION:The Tarboro Road Community Center is excited to host a monthly Pop-up Roller Skating session!\nJoin us on Sunday\, Aug. 17\, from 1:30 to 3:30 p.m. for an afternoon of fun with a live DJ spinning the best old-school R&B\, hip-hop\, and funky beats for a perfect rhythm skate experience. This event is open to those 18 years and older\, and remember\, you’ll need to bring your own skates! \nStop by the Center to register at the front desk and enjoy a welcoming space for skaters of all skill levels. Whether you’re a beginner\, intermediate\, or advanced skater\, you will have a great time! \nWe’re building a safe\, inclusive roller skating community where everyone can have fun and help foster a vibrant\, healthy roller skating culture here in the Triangle! \nLocation: Tarboro Road Park\nAges: 18 and older\nCost: Free
URL:https://livableraleigh.com/event/pop-up-roller-skating-event/
LOCATION:Tarboro Road Community Center
CATEGORIES:Parks & Rec
END:VEVENT
BEGIN:VEVENT
DTSTART;TZID=America/New_York:20250817T170000
DTEND;TZID=America/New_York:20250817T190000
DTSTAMP:20260423T061111
CREATED:20250627T152111Z
LAST-MODIFIED:20250627T152111Z
UID:46313-1755450000-1755457200@livableraleigh.com
SUMMARY:Summer Concert Series
DESCRIPTION:2025 Summer Concert Series\nAug. 17 – Carpe Diem Sax Quartet\nFred Fletcher Park – 820 Clay Street\, Raleigh\, NC\nTime: 5 p.m.\nAges: All\nCost: Free \nKnow Before You Go\n\nPlease bring your own blanket or chair\nPerformers may change without notice\nConcerts are free\, but tips are encouraged\nAt Pullen Park\, food will be available for purchase at the cafe\nAt Fletcher Park\, please bring your own food and beverages\nPullen Park Amusements are open until 8 p.m.\nIt may be canceled for inclement weather. For updates\, contact 919-996-6468
URL:https://livableraleigh.com/event/summer-concert-series-20/
LOCATION:Fred Fletcher Park\, 820 Clay St\, Raleigh\, NC\, 27605
CATEGORIES:Parks & Rec
END:VEVENT
END:VCALENDAR