BEGIN:VCALENDAR
VERSION:2.0
PRODID:-//Livable Raleigh - ECPv6.15.20//NONSGML v1.0//EN
CALSCALE:GREGORIAN
METHOD:PUBLISH
X-WR-CALNAME:Livable Raleigh
X-ORIGINAL-URL:https://livableraleigh.com
X-WR-CALDESC:Events for Livable Raleigh
REFRESH-INTERVAL;VALUE=DURATION:PT1H
X-Robots-Tag:noindex
X-PUBLISHED-TTL:PT1H
BEGIN:VTIMEZONE
TZID:America/New_York
BEGIN:DAYLIGHT
TZOFFSETFROM:-0500
TZOFFSETTO:-0400
TZNAME:EDT
DTSTART:20240310T070000
END:DAYLIGHT
BEGIN:STANDARD
TZOFFSETFROM:-0400
TZOFFSETTO:-0500
TZNAME:EST
DTSTART:20241103T060000
END:STANDARD
BEGIN:DAYLIGHT
TZOFFSETFROM:-0500
TZOFFSETTO:-0400
TZNAME:EDT
DTSTART:20250309T070000
END:DAYLIGHT
BEGIN:STANDARD
TZOFFSETFROM:-0400
TZOFFSETTO:-0500
TZNAME:EST
DTSTART:20251102T060000
END:STANDARD
BEGIN:DAYLIGHT
TZOFFSETFROM:-0500
TZOFFSETTO:-0400
TZNAME:EDT
DTSTART:20260308T070000
END:DAYLIGHT
BEGIN:STANDARD
TZOFFSETFROM:-0400
TZOFFSETTO:-0500
TZNAME:EST
DTSTART:20261101T060000
END:STANDARD
END:VTIMEZONE
BEGIN:VEVENT
DTSTART;TZID=America/New_York:20250809T110000
DTEND;TZID=America/New_York:20250809T140000
DTSTAMP:20260421T092930
CREATED:20250718T195127Z
LAST-MODIFIED:20250718T195127Z
UID:46633-1754737200-1754748000@livableraleigh.com
SUMMARY:Scrap Exchange Family Fun Day
DESCRIPTION:https://raleighnc.gov/parks-and-recreation/events/scrap-exchange-family-fun-day
URL:https://livableraleigh.com/event/scrap-exchange-family-fun-day/
LOCATION:City of Raleigh Museum\, 220 Fayetteville St\, Raleigh\, NC\, 27601
CATEGORIES:Parks & Rec
END:VEVENT
BEGIN:VEVENT
DTSTART;TZID=America/New_York:20250809T130000
DTEND;TZID=America/New_York:20250809T160000
DTSTAMP:20260421T092930
CREATED:20250713T201327Z
LAST-MODIFIED:20250713T201327Z
UID:46571-1754744400-1754755200@livableraleigh.com
SUMMARY:Raleigh Teen Connect Back-to-School Pool Party
DESCRIPTION:Calling all Middle and High School Teens!\nFree Entry • Free Food • Free Sneaker Raffle • Music by DJ J-Will\nRaleigh Teen Connect will host a Pool Party on Saturday\, Aug. 9\, at Biltmore Pool\, 701 Crown Crossing Lane. \nCome out and have some fun with us! \nSneaker Raffle Details\nHow to get up to 3 chances to win a fresh pair of sneakers: \n\nShow up to the Pool Party—get 1 free raffle entry automatically.\nRegister for Raleigh Teen Connect (RTC)—earn 1 additional entry.\nSign up for Raleigh Youth Council (RYC)—earn another entry.\n\nImportant: After registering\, save your confirmation email\, print it\, or take a screenshot. You must show proof at the Pool Party to claim your extra entries. \nLocation: Biltmore Hills\nDate: Saturday\, Aug. 9\nTime: 1 – 4 p.m.\nAges: Middle and High School\nCost: Free
URL:https://livableraleigh.com/event/raleigh-teen-connect-back-to-school-pool-party/
LOCATION:Biltmore Pool\, 701 Crown Crossing Lane\, Raleigh\, NC\, 27610
CATEGORIES:Parks & Rec
END:VEVENT
END:VCALENDAR