BEGIN:VCALENDAR
VERSION:2.0
PRODID:-//Livable Raleigh - ECPv6.15.20//NONSGML v1.0//EN
CALSCALE:GREGORIAN
METHOD:PUBLISH
X-ORIGINAL-URL:https://livableraleigh.com
X-WR-CALDESC:Events for Livable Raleigh
REFRESH-INTERVAL;VALUE=DURATION:PT1H
X-Robots-Tag:noindex
X-PUBLISHED-TTL:PT1H
BEGIN:VTIMEZONE
TZID:America/New_York
BEGIN:DAYLIGHT
TZOFFSETFROM:-0500
TZOFFSETTO:-0400
TZNAME:EDT
DTSTART:20240310T070000
END:DAYLIGHT
BEGIN:STANDARD
TZOFFSETFROM:-0400
TZOFFSETTO:-0500
TZNAME:EST
DTSTART:20241103T060000
END:STANDARD
BEGIN:DAYLIGHT
TZOFFSETFROM:-0500
TZOFFSETTO:-0400
TZNAME:EDT
DTSTART:20250309T070000
END:DAYLIGHT
BEGIN:STANDARD
TZOFFSETFROM:-0400
TZOFFSETTO:-0500
TZNAME:EST
DTSTART:20251102T060000
END:STANDARD
BEGIN:DAYLIGHT
TZOFFSETFROM:-0500
TZOFFSETTO:-0400
TZNAME:EDT
DTSTART:20260308T070000
END:DAYLIGHT
BEGIN:STANDARD
TZOFFSETFROM:-0400
TZOFFSETTO:-0500
TZNAME:EST
DTSTART:20261101T060000
END:STANDARD
END:VTIMEZONE
BEGIN:VEVENT
DTSTART;TZID=America/New_York:20250803T150000
DTEND;TZID=America/New_York:20250803T180000
DTSTAMP:20260423T061346
CREATED:20250725T020655Z
LAST-MODIFIED:20250725T020655Z
UID:46907-1754233200-1754244000@livableraleigh.com
SUMMARY:Boots on the Ground Back to School Extravaganza
DESCRIPTION:Back to school is right around the corner\, so make sure to mark your calendars for the “Boots on the Ground Extravaganza” bookbag giveaway.\nThis exciting event is brought to you by Women Who Care. Come out and enjoy carnival games\, face painting\, delicious food\, arts & crafts\, and\, of course\, a bookbag giveaway while supplies last! \nLocation: Worthdale Community Center\nAges: 5 and up\nCost: Free – Registration is encouraged but not required\nRegister on RecLink
URL:https://livableraleigh.com/event/boots-on-the-ground-back-to-school-extravaganza/
LOCATION:Worthdale Park Community Center\, 1001 Cooper Road\, Raleigh\, 27610
CATEGORIES:Parks & Rec
END:VEVENT
BEGIN:VEVENT
DTSTART;TZID=America/New_York:20250803T180000
DTEND;TZID=America/New_York:20250803T200000
DTSTAMP:20260423T061346
CREATED:20250626T231317Z
LAST-MODIFIED:20250626T231317Z
UID:46273-1754244000-1754251200@livableraleigh.com
SUMMARY:Summer Concert Series
DESCRIPTION:2025 Summer Concert Series\n\n\n \nAug. 3 – Capital Transit\nFred Fletcher Park – 820 Clay Street\, Raleigh\, NC\nTime: 6 p.m.\nAges: All\nCost: Free \nKnow Before You Go\n\nPlease bring your own blanket or chair\nPerformers may change without notice\nConcerts are free\, but tips are encouraged\nAt Pullen Park\, food will be available for purchase at the cafe\nAt Fletcher Park\, please bring your own food and beverages\nPullen Park Amusements are open until 8 p.m.\nIt may be canceled for inclement weather. For updates\, contact 919-996-6468
URL:https://livableraleigh.com/event/summer-concert-series-18/
LOCATION:Fred Fletcher Park\, 820 Clay St\, Raleigh\, NC\, 27605
CATEGORIES:Parks & Rec
END:VEVENT
END:VCALENDAR