BEGIN:VCALENDAR
VERSION:2.0
PRODID:-//Livable Raleigh - ECPv6.15.20//NONSGML v1.0//EN
CALSCALE:GREGORIAN
METHOD:PUBLISH
X-ORIGINAL-URL:https://livableraleigh.com
X-WR-CALDESC:Events for Livable Raleigh
REFRESH-INTERVAL;VALUE=DURATION:PT1H
X-Robots-Tag:noindex
X-PUBLISHED-TTL:PT1H
BEGIN:VTIMEZONE
TZID:America/New_York
BEGIN:DAYLIGHT
TZOFFSETFROM:-0500
TZOFFSETTO:-0400
TZNAME:EDT
DTSTART:20240310T070000
END:DAYLIGHT
BEGIN:STANDARD
TZOFFSETFROM:-0400
TZOFFSETTO:-0500
TZNAME:EST
DTSTART:20241103T060000
END:STANDARD
BEGIN:DAYLIGHT
TZOFFSETFROM:-0500
TZOFFSETTO:-0400
TZNAME:EDT
DTSTART:20250309T070000
END:DAYLIGHT
BEGIN:STANDARD
TZOFFSETFROM:-0400
TZOFFSETTO:-0500
TZNAME:EST
DTSTART:20251102T060000
END:STANDARD
BEGIN:DAYLIGHT
TZOFFSETFROM:-0500
TZOFFSETTO:-0400
TZNAME:EDT
DTSTART:20260308T070000
END:DAYLIGHT
BEGIN:STANDARD
TZOFFSETFROM:-0400
TZOFFSETTO:-0500
TZNAME:EST
DTSTART:20261101T060000
END:STANDARD
END:VTIMEZONE
BEGIN:VEVENT
DTSTART;TZID=America/New_York:20250710T180000
DTEND;TZID=America/New_York:20250710T200000
DTSTAMP:20260420T033942
CREATED:20250621T012831Z
LAST-MODIFIED:20250621T012831Z
UID:46206-1752170400-1752177600@livableraleigh.com
SUMMARY:Help Design the Future Forestville Road Park
DESCRIPTION:Raleigh Parks is hosting our second public meeting for the Forestville Road Park Master Plan.\nJoin us to preview potential design concepts for the park and provide your feedback! Raleigh Parks is excited to create a Master Plan that reflects the unique needs and desires of the community. We welcome your input and look forward to collaborating with you! \nThis event is family-friendly and will include light refreshments and an art-making station for people of all ages. Accommodations and translation services are available upon request. Please contact ForestvilleRoadPark@PublicInput.com for requests and assistance. \nLearn more & participate in the planning process! \nLocation: Marsh Creek Community Center\nDate: Thursday\, July 10\nTime: 6 – 8 p.m.\nAges: All\nCost: Free
URL:https://livableraleigh.com/event/help-design-the-future-forestville-road-park/
LOCATION:Marsh Creek Community Center\, 3050 N. New Hope Rd.\, Raleigh\, NC\, 27604\, United States
CATEGORIES:Engagement Filter,Parks & Rec
END:VEVENT
END:VCALENDAR