BEGIN:VCALENDAR
VERSION:2.0
PRODID:-//Livable Raleigh - ECPv6.15.20//NONSGML v1.0//EN
CALSCALE:GREGORIAN
METHOD:PUBLISH
X-WR-CALNAME:Livable Raleigh
X-ORIGINAL-URL:https://livableraleigh.com
X-WR-CALDESC:Events for Livable Raleigh
REFRESH-INTERVAL;VALUE=DURATION:PT1H
X-Robots-Tag:noindex
X-PUBLISHED-TTL:PT1H
BEGIN:VTIMEZONE
TZID:America/New_York
BEGIN:DAYLIGHT
TZOFFSETFROM:-0500
TZOFFSETTO:-0400
TZNAME:EDT
DTSTART:20240310T070000
END:DAYLIGHT
BEGIN:STANDARD
TZOFFSETFROM:-0400
TZOFFSETTO:-0500
TZNAME:EST
DTSTART:20241103T060000
END:STANDARD
BEGIN:DAYLIGHT
TZOFFSETFROM:-0500
TZOFFSETTO:-0400
TZNAME:EDT
DTSTART:20250309T070000
END:DAYLIGHT
BEGIN:STANDARD
TZOFFSETFROM:-0400
TZOFFSETTO:-0500
TZNAME:EST
DTSTART:20251102T060000
END:STANDARD
BEGIN:DAYLIGHT
TZOFFSETFROM:-0500
TZOFFSETTO:-0400
TZNAME:EDT
DTSTART:20260308T070000
END:DAYLIGHT
BEGIN:STANDARD
TZOFFSETFROM:-0400
TZOFFSETTO:-0500
TZNAME:EST
DTSTART:20261101T060000
END:STANDARD
END:VTIMEZONE
BEGIN:VEVENT
DTSTART;TZID=America/New_York:20250626T120000
DTEND;TZID=America/New_York:20250626T130000
DTSTAMP:20260420T022326
CREATED:20250530T004539Z
LAST-MODIFIED:20250530T004539Z
UID:45789-1750939200-1750942800@livableraleigh.com
SUMMARY:Lunch Box Lectures at the City of Raleigh Museum
DESCRIPTION:Feed your belly and your brain!\nBring your lunch to the City of Raleigh Museum and listen to a captivating lecture every third Thursday of the month. \nTime: noon – 12:45 p.m.\nAges: All\nCost: Free \n\n \n\n\n\n\n\n\n\n\n\n\n\n\n\n\n\n\n\n\n\n\n\n\n\n\n\n\n\n\nPrevious slide\nNext slide\n\n1\n2\n\n\n\n\n\n\nErin Morton Pugh and Tania Tully\nThursday\, June 26 \nJoin Erin Morton Pugh and Tania Tully from the City of Raleigh’s Historic Preservation Unit. They have recently completed a project to learn about historic places important to the city’s LGBTQIA+ communities. Come hear about how the project got started\, the consultant’s research process\, highlights from the report\, and potential next steps.
URL:https://livableraleigh.com/event/lunch-box-lectures-at-the-city-of-raleigh-museum/
LOCATION:City of Raleigh Museum\, 220 Fayetteville St\, Raleigh\, NC\, 27601
CATEGORIES:Parks & Rec
END:VEVENT
BEGIN:VEVENT
DTSTART;TZID=America/New_York:20250626T170000
DTEND;TZID=America/New_York:20250626T190000
DTSTAMP:20260420T022326
CREATED:20250502T194657Z
LAST-MODIFIED:20250502T194657Z
UID:45168-1750957200-1750964400@livableraleigh.com
SUMMARY:Tarboro Road Park Project Open House
DESCRIPTION:Join us for a final open house on June 26\, from 5 – 7 p.m. at Tarboro Road Park Community Center (121 N. Tarboro Street\, Raleigh). The design team and Raleigh Parks will share the final schematic design plans. \nFollowing the June open house\, the Parks\, Recreation and Greenway Advisory Board and the City Council schematic design will review the project design for final approval later this year. \nLocation: Tarboro Road Community Center\nAges: All\nCost: Free\nNo Registration Required
URL:https://livableraleigh.com/event/tarboro-road-park-project-open-house/
LOCATION:Tarboro Road Community Center
CATEGORIES:Parks & Rec
END:VEVENT
END:VCALENDAR