BEGIN:VCALENDAR
VERSION:2.0
PRODID:-//Livable Raleigh - ECPv6.15.20//NONSGML v1.0//EN
CALSCALE:GREGORIAN
METHOD:PUBLISH
X-WR-CALNAME:Livable Raleigh
X-ORIGINAL-URL:https://livableraleigh.com
X-WR-CALDESC:Events for Livable Raleigh
REFRESH-INTERVAL;VALUE=DURATION:PT1H
X-Robots-Tag:noindex
X-PUBLISHED-TTL:PT1H
BEGIN:VTIMEZONE
TZID:America/New_York
BEGIN:DAYLIGHT
TZOFFSETFROM:-0500
TZOFFSETTO:-0400
TZNAME:EDT
DTSTART:20240310T070000
END:DAYLIGHT
BEGIN:STANDARD
TZOFFSETFROM:-0400
TZOFFSETTO:-0500
TZNAME:EST
DTSTART:20241103T060000
END:STANDARD
BEGIN:DAYLIGHT
TZOFFSETFROM:-0500
TZOFFSETTO:-0400
TZNAME:EDT
DTSTART:20250309T070000
END:DAYLIGHT
BEGIN:STANDARD
TZOFFSETFROM:-0400
TZOFFSETTO:-0500
TZNAME:EST
DTSTART:20251102T060000
END:STANDARD
BEGIN:DAYLIGHT
TZOFFSETFROM:-0500
TZOFFSETTO:-0400
TZNAME:EDT
DTSTART:20260308T070000
END:DAYLIGHT
BEGIN:STANDARD
TZOFFSETFROM:-0400
TZOFFSETTO:-0500
TZNAME:EST
DTSTART:20261101T060000
END:STANDARD
END:VTIMEZONE
BEGIN:VEVENT
DTSTART;TZID=America/New_York:20250621T110000
DTEND;TZID=America/New_York:20250621T150000
DTSTAMP:20260420T022348
CREATED:20250621T011407Z
LAST-MODIFIED:20250621T011407Z
UID:46189-1750503600-1750518000@livableraleigh.com
SUMMARY:Black History Trolley Tour
DESCRIPTION:In honor of Juneteenth\, come ride the Historic Raleigh Trolley for a special tour highlighting downtown Raleigh’s Black heritage. \nExplore the city aboard the Historic Raleigh Trolley to learn more about the historic homes\, schools\, churches\, and businesses important to the capital’s Black history. \nLocation: Mordecai Historic Park\nDate: Saturday\, June 21\nTour Times: 11 a.m.\, noon\, 1 p.m.\, and 2 p.m.\nAges: All\nCost: $10 for adults\, $6 for youth (ages 7 – 17) \nGet Tickets on RecLink
URL:https://livableraleigh.com/event/black-history-trolley-tour-6/
LOCATION:Mordecai Historic Park\, 1 Mimosa St\, Raleigh\, NC\, 27604
CATEGORIES:Parks & Rec
END:VEVENT
END:VCALENDAR