BEGIN:VCALENDAR
VERSION:2.0
PRODID:-//Livable Raleigh - ECPv6.15.20//NONSGML v1.0//EN
CALSCALE:GREGORIAN
METHOD:PUBLISH
X-WR-CALNAME:Livable Raleigh
X-ORIGINAL-URL:https://livableraleigh.com
X-WR-CALDESC:Events for Livable Raleigh
REFRESH-INTERVAL;VALUE=DURATION:PT1H
X-Robots-Tag:noindex
X-PUBLISHED-TTL:PT1H
BEGIN:VTIMEZONE
TZID:America/New_York
BEGIN:DAYLIGHT
TZOFFSETFROM:-0500
TZOFFSETTO:-0400
TZNAME:EDT
DTSTART:20240310T070000
END:DAYLIGHT
BEGIN:STANDARD
TZOFFSETFROM:-0400
TZOFFSETTO:-0500
TZNAME:EST
DTSTART:20241103T060000
END:STANDARD
BEGIN:DAYLIGHT
TZOFFSETFROM:-0500
TZOFFSETTO:-0400
TZNAME:EDT
DTSTART:20250309T070000
END:DAYLIGHT
BEGIN:STANDARD
TZOFFSETFROM:-0400
TZOFFSETTO:-0500
TZNAME:EST
DTSTART:20251102T060000
END:STANDARD
BEGIN:DAYLIGHT
TZOFFSETFROM:-0500
TZOFFSETTO:-0400
TZNAME:EDT
DTSTART:20260308T070000
END:DAYLIGHT
BEGIN:STANDARD
TZOFFSETFROM:-0400
TZOFFSETTO:-0500
TZNAME:EST
DTSTART:20261101T060000
END:STANDARD
END:VTIMEZONE
BEGIN:VEVENT
DTSTART;TZID=America/New_York:20250619T140000
DTEND;TZID=America/New_York:20250619T150000
DTSTAMP:20260419T232225
CREATED:20250530T004131Z
LAST-MODIFIED:20250530T004131Z
UID:45787-1750341600-1750345200@livableraleigh.com
SUMMARY:The Road From Emancipation to Freedom
DESCRIPTION:Join us for a special talk by Torrey Dixon on the legal implications of emancipation.\nMr. Dixon is the Vice Chair of the City of Raleigh Human Relations Commission and a Special Deputy Attorney General who is active in furthering Civil Rights legislation. \nThis event is in partnership with the Capital City Lawyers Association. \n\n\n\nLocation: City of Raleigh Museum\nDate: Thursday\, June 19\nTime: 2 – 3 p.m.\nAges: All\nCost: Free
URL:https://livableraleigh.com/event/the-road-from-emancipation-to-freedom/
LOCATION:City of Raleigh Museum\, 220 Fayetteville St\, Raleigh\, NC\, 27601
CATEGORIES:Parks & Rec
END:VEVENT
BEGIN:VEVENT
DTSTART;TZID=America/New_York:20250619T170000
DTEND;TZID=America/New_York:20250619T210000
DTSTAMP:20260419T232225
CREATED:20250523T020147Z
LAST-MODIFIED:20250523T020147Z
UID:45606-1750352400-1750366800@livableraleigh.com
SUMMARY:Juneteenth: A Chavis Celebration
DESCRIPTION:Join us at John Chavis Memorial Park for a vibrant Juneteenth celebration filled with joy\, culture\, and community!\nIt’s a day to come together\, honor history\, and create new memories with friends\, family\, and neighbors. \nWe’ve got something for everyone—so bring the whole crew! Enjoy a live DJ spinning feel-good tunes\, inflatables for the kids\, face painting\, hands-on crafts\, and a variety of fun activities that celebrate freedom and creativity. And don’t worry about snacks—we’ve got food trucks on site serving up delicious eats throughout the event. \nWhether you’re coming to dance\, relax\, connect\, or just soak in the atmosphere\, this is one event you won’t want to miss. Come celebrate with us! \nLocation: John Chavis Memorial Park\nAges: All\nCost: Free
URL:https://livableraleigh.com/event/juneteenth-a-chavis-celebration/
LOCATION:John Chavis Community Center\, 505 Martin Luther King Jr. Blvd.\, Raleigh\, NC\, 27601\, United States
CATEGORIES:Parks & Rec
END:VEVENT
END:VCALENDAR