BEGIN:VCALENDAR
VERSION:2.0
PRODID:-//Livable Raleigh - ECPv6.15.20//NONSGML v1.0//EN
CALSCALE:GREGORIAN
METHOD:PUBLISH
X-ORIGINAL-URL:https://livableraleigh.com
X-WR-CALDESC:Events for Livable Raleigh
REFRESH-INTERVAL;VALUE=DURATION:PT1H
X-Robots-Tag:noindex
X-PUBLISHED-TTL:PT1H
BEGIN:VTIMEZONE
TZID:America/New_York
BEGIN:DAYLIGHT
TZOFFSETFROM:-0500
TZOFFSETTO:-0400
TZNAME:EDT
DTSTART:20240310T070000
END:DAYLIGHT
BEGIN:STANDARD
TZOFFSETFROM:-0400
TZOFFSETTO:-0500
TZNAME:EST
DTSTART:20241103T060000
END:STANDARD
BEGIN:DAYLIGHT
TZOFFSETFROM:-0500
TZOFFSETTO:-0400
TZNAME:EDT
DTSTART:20250309T070000
END:DAYLIGHT
BEGIN:STANDARD
TZOFFSETFROM:-0400
TZOFFSETTO:-0500
TZNAME:EST
DTSTART:20251102T060000
END:STANDARD
BEGIN:DAYLIGHT
TZOFFSETFROM:-0500
TZOFFSETTO:-0400
TZNAME:EDT
DTSTART:20260308T070000
END:DAYLIGHT
BEGIN:STANDARD
TZOFFSETFROM:-0400
TZOFFSETTO:-0500
TZNAME:EST
DTSTART:20261101T060000
END:STANDARD
END:VTIMEZONE
BEGIN:VEVENT
DTSTART;TZID=America/New_York:20250618T100000
DTEND;TZID=America/New_York:20250618T120000
DTSTAMP:20260420T022639
CREATED:20250517T005700Z
LAST-MODIFIED:20250517T005700Z
UID:45521-1750240800-1750248000@livableraleigh.com
SUMMARY:Nature Play Day at Wilkerson Nature Preserve
DESCRIPTION:Join us to make time for playing in nature.\nChildren of all ages and the young at heart are welcome to join us for imaginative play in a natural setting.  Dig in the dirt\, build a fairy home from natural materials\, make mud pies\, and more!  We’ll provide the materials and guidance to get you started on a playful adventure. \nRegistration is appreciated\, but not required. Drop in anytime between 10 a.m. and 12 p.m. to join the fun! Adults must accompany their children. \nLocation: Annie Louise Wilkerson\, MD Nature Preserve Park\nAges: All\nCost: Free\nRegister on RecLink
URL:https://livableraleigh.com/event/nature-play-day-at-wilkerson-nature-preserve/
LOCATION:Annie Louise Wilkerson Nature Preserve Education Center\, 5229 Awls Haven Drive\, Raleigh\, 27614
CATEGORIES:Parks & Rec
END:VEVENT
BEGIN:VEVENT
DTSTART;TZID=America/New_York:20250618T180000
DTEND;TZID=America/New_York:20250618T210000
DTSTAMP:20260420T022639
CREATED:20250523T015942Z
LAST-MODIFIED:20250523T015942Z
UID:45604-1750269600-1750280400@livableraleigh.com
SUMMARY:Chavis Frolics
DESCRIPTION:Get ready to move\, groove\, and vibe all night long on the plaza!\nWe’re turning up the energy with old school classics and new school hits. A special musical guest will keep the vibe alive\, and local food trucks will be on-site serving up delicious bites to keep you fueled all night. This is a celebration of music\, movement\, and community you won’t want to miss. \nLet’s bring the groove back—Chavis style! Bring your crew\, hit the dance floor\, and let the good times roll—you do not want to miss this! \nLocation: John Chavis Memorial Park\nDate: Wednesday\, June 18\nTime: 6 – 9 p.m.\nAges: All\nCost: Free
URL:https://livableraleigh.com/event/chavis-frolics/
LOCATION:John Chavis Community Center\, 505 Martin Luther King Jr. Blvd.\, Raleigh\, NC\, 27601\, United States
CATEGORIES:Parks & Rec
END:VEVENT
END:VCALENDAR