BEGIN:VCALENDAR
VERSION:2.0
PRODID:-//Livable Raleigh - ECPv6.15.20//NONSGML v1.0//EN
CALSCALE:GREGORIAN
METHOD:PUBLISH
X-ORIGINAL-URL:https://livableraleigh.com
X-WR-CALDESC:Events for Livable Raleigh
REFRESH-INTERVAL;VALUE=DURATION:PT1H
X-Robots-Tag:noindex
X-PUBLISHED-TTL:PT1H
BEGIN:VTIMEZONE
TZID:America/New_York
BEGIN:DAYLIGHT
TZOFFSETFROM:-0500
TZOFFSETTO:-0400
TZNAME:EDT
DTSTART:20240310T070000
END:DAYLIGHT
BEGIN:STANDARD
TZOFFSETFROM:-0400
TZOFFSETTO:-0500
TZNAME:EST
DTSTART:20241103T060000
END:STANDARD
BEGIN:DAYLIGHT
TZOFFSETFROM:-0500
TZOFFSETTO:-0400
TZNAME:EDT
DTSTART:20250309T070000
END:DAYLIGHT
BEGIN:STANDARD
TZOFFSETFROM:-0400
TZOFFSETTO:-0500
TZNAME:EST
DTSTART:20251102T060000
END:STANDARD
BEGIN:DAYLIGHT
TZOFFSETFROM:-0500
TZOFFSETTO:-0400
TZNAME:EDT
DTSTART:20260308T070000
END:DAYLIGHT
BEGIN:STANDARD
TZOFFSETFROM:-0400
TZOFFSETTO:-0500
TZNAME:EST
DTSTART:20261101T060000
END:STANDARD
END:VTIMEZONE
BEGIN:VEVENT
DTSTART;TZID=America/New_York:20250616T110000
DTEND;TZID=America/New_York:20250616T130000
DTSTAMP:20260420T022655
CREATED:20250502T163026Z
LAST-MODIFIED:20250502T163026Z
UID:45125-1750071600-1750078800@livableraleigh.com
SUMMARY:Sertoma Public Art - Scratch Block Workshop 3
DESCRIPTION:Join artist\, Jim Gallucci\, for a scratch block workshop at Sertoma Arts Center. Participants will carve their own design into a sand mold that will be cast with molten iron during an iron pour event later this year. Jim will incorporate the completed iron blocks into his design for new art that will be a part of the Sertoma expansion. All materials will be provided. The activity involves scratching into sand\, so be prepared to get a little sandy. \n  \nRegister for the Scratch Block Workshop.
URL:https://livableraleigh.com/event/sertoma-public-art-scratch-block-workshop-3/
LOCATION:Sertoma Arts Center\, 1400 Millbrook Road\, Raleigh\, NC\, 27612\, United States
CATEGORIES:Parks & Rec
END:VEVENT
BEGIN:VEVENT
DTSTART;TZID=America/New_York:20250616T180000
DTEND;TZID=America/New_York:20250616T210000
DTSTAMP:20260420T022655
CREATED:20250523T015525Z
LAST-MODIFIED:20250523T015525Z
UID:45598-1750096800-1750107600@livableraleigh.com
SUMMARY:JCMP CommUNITY Stories
DESCRIPTION:How has community shaped the story of John Chavis Memorial Park over the years?\nJoin us for an evening filled with inspiration\, history\, and celebration to find out. Whether you’re a longtime visitor or stepping into the park for the first time\, you’ll have the chance to hear powerful stories from community members\, explore pop-up exhibits showcasing decades of Chavis history\, and take part in a guided walking tour that brings the park’s past to life. \nThere will be fun activities for kids\, delicious eats from local food trucks\, and plenty of opportunities to connect with others and celebrate the spirit of belonging. \nBe a part of the story—and help us grow the ever-evolving commUNITY at Chavis!\nLocation: John Chavis Memorial Park\nDate: Monday\, June 16\nTime: 6 – 9 p.m.\nAges: All\nCost: Free
URL:https://livableraleigh.com/event/jcmp-community-stories/
LOCATION:John Chavis Community Center\, 505 Martin Luther King Jr. Blvd.\, Raleigh\, NC\, 27601\, United States
CATEGORIES:Parks & Rec
END:VEVENT
END:VCALENDAR