BEGIN:VCALENDAR
VERSION:2.0
PRODID:-//Livable Raleigh - ECPv6.15.20//NONSGML v1.0//EN
CALSCALE:GREGORIAN
METHOD:PUBLISH
X-ORIGINAL-URL:https://livableraleigh.com
X-WR-CALDESC:Events for Livable Raleigh
REFRESH-INTERVAL;VALUE=DURATION:PT1H
X-Robots-Tag:noindex
X-PUBLISHED-TTL:PT1H
BEGIN:VTIMEZONE
TZID:America/New_York
BEGIN:DAYLIGHT
TZOFFSETFROM:-0500
TZOFFSETTO:-0400
TZNAME:EDT
DTSTART:20240310T070000
END:DAYLIGHT
BEGIN:STANDARD
TZOFFSETFROM:-0400
TZOFFSETTO:-0500
TZNAME:EST
DTSTART:20241103T060000
END:STANDARD
BEGIN:DAYLIGHT
TZOFFSETFROM:-0500
TZOFFSETTO:-0400
TZNAME:EDT
DTSTART:20250309T070000
END:DAYLIGHT
BEGIN:STANDARD
TZOFFSETFROM:-0400
TZOFFSETTO:-0500
TZNAME:EST
DTSTART:20251102T060000
END:STANDARD
BEGIN:DAYLIGHT
TZOFFSETFROM:-0500
TZOFFSETTO:-0400
TZNAME:EDT
DTSTART:20260308T070000
END:DAYLIGHT
BEGIN:STANDARD
TZOFFSETFROM:-0400
TZOFFSETTO:-0500
TZNAME:EST
DTSTART:20261101T060000
END:STANDARD
END:VTIMEZONE
BEGIN:VEVENT
DTSTART;TZID=America/New_York:20250613T190000
DTEND;TZID=America/New_York:20250613T200000
DTSTAMP:20260420T033931
CREATED:20250510T021443Z
LAST-MODIFIED:20250510T021443Z
UID:45335-1749841200-1749844800@livableraleigh.com
SUMMARY:After Emancipation: North Carolina Education\, Past\, Present\, and Future
DESCRIPTION:Explore the history of North Carolina’s Historically Black Colleges and Universities.\nLearn about the evolution of education and its political ties following emancipation\, as well as considerations for the future—presentation by Dr. Lesa Redmond and Representative Nasif Majeed. Sponsored by the Friends of the City of Raleigh Museum. \nLocation: City of Raleigh Museum\nDate: Friday\, June 13\nTime: 7 – 8 p.m.\nAges: 18 and up\nCost: Free\nNo Registration Required
URL:https://livableraleigh.com/event/after-emancipation-north-carolina-education-past-present-and-future/
LOCATION:City of Raleigh Museum\, 220 Fayetteville St\, Raleigh\, NC\, 27601
CATEGORIES:Parks & Rec
END:VEVENT
BEGIN:VEVENT
DTSTART;TZID=America/New_York:20250613T190000
DTEND;TZID=America/New_York:20250613T220000
DTSTAMP:20260420T033931
CREATED:20250517T005348Z
LAST-MODIFIED:20250517T005348Z
UID:45517-1749841200-1749852000@livableraleigh.com
SUMMARY:Juneteenth Celebration at The Pines
DESCRIPTION:Get ready for a night of good music\, good food\, and fun times at Carolina Pines!\nThere will be musical performances\, line dancing\, sing-a-longs\, and much more. Kidz Zone available at the facility with fun games\, activities\, and snacks for children ages 5-12. Parents will have to sign kids in and out to participate at Kidz Zone. \nWhat to Bring: Blankets\, Low-standing lawn chairs\, sunscreen\, bug spray and other outdoor essentials. \nAges: 18 and up\nKids Zone is available for children ages 5-12\nCost: Free
URL:https://livableraleigh.com/event/juneteenth-celebration-at-the-pines-2/
LOCATION:Carolina Pines Community Center\, 2305 Lake Wheeler Road\, Raleigh\, NC\, 27603\, United States
CATEGORIES:Parks & Rec
END:VEVENT
END:VCALENDAR