BEGIN:VCALENDAR
VERSION:2.0
PRODID:-//Livable Raleigh - ECPv6.15.20//NONSGML v1.0//EN
CALSCALE:GREGORIAN
METHOD:PUBLISH
X-ORIGINAL-URL:https://livableraleigh.com
X-WR-CALDESC:Events for Livable Raleigh
REFRESH-INTERVAL;VALUE=DURATION:PT1H
X-Robots-Tag:noindex
X-PUBLISHED-TTL:PT1H
BEGIN:VTIMEZONE
TZID:America/New_York
BEGIN:DAYLIGHT
TZOFFSETFROM:-0500
TZOFFSETTO:-0400
TZNAME:EDT
DTSTART:20240310T070000
END:DAYLIGHT
BEGIN:STANDARD
TZOFFSETFROM:-0400
TZOFFSETTO:-0500
TZNAME:EST
DTSTART:20241103T060000
END:STANDARD
BEGIN:DAYLIGHT
TZOFFSETFROM:-0500
TZOFFSETTO:-0400
TZNAME:EDT
DTSTART:20250309T070000
END:DAYLIGHT
BEGIN:STANDARD
TZOFFSETFROM:-0400
TZOFFSETTO:-0500
TZNAME:EST
DTSTART:20251102T060000
END:STANDARD
BEGIN:DAYLIGHT
TZOFFSETFROM:-0500
TZOFFSETTO:-0400
TZNAME:EDT
DTSTART:20260308T070000
END:DAYLIGHT
BEGIN:STANDARD
TZOFFSETFROM:-0400
TZOFFSETTO:-0500
TZNAME:EST
DTSTART:20261101T060000
END:STANDARD
END:VTIMEZONE
BEGIN:VEVENT
DTSTART;TZID=America/New_York:20250608T090000
DTEND;TZID=America/New_York:20250608T220000
DTSTAMP:20260420T033845
CREATED:20250530T003711Z
LAST-MODIFIED:20250530T003711Z
UID:45785-1749373200-1749420000@livableraleigh.com
SUMMARY:Gipson Play Plaza Grand Opening
DESCRIPTION:Date: Saturday June 7 – Sunday June 8\nLocation: 715 Biggs Drive\, Raleigh\, NC 27603 \nGet ready to play\, explore\, and celebrate—join us for the grand opening of Gipson Play Plaza at Dix Park\, where adventure begins! \nMore information: Gipson Play Plaza Grand Opening
URL:https://livableraleigh.com/event/gipson-play-plaza-grand-opening-2/
LOCATION:DIX Park\, 1030 Richardson Dr\, Raleigh\, NC\, 27603
CATEGORIES:Parks & Rec
END:VEVENT
BEGIN:VEVENT
DTSTART;TZID=America/New_York:20250608T130000
DTEND;TZID=America/New_York:20250608T160000
DTSTAMP:20260420T033845
CREATED:20250523T011032Z
LAST-MODIFIED:20250523T011032Z
UID:45592-1749387600-1749398400@livableraleigh.com
SUMMARY:Pride Ride: LGBTQ+ Trolley Tour
DESCRIPTION:Join Raleigh Historic Sites for a ‘Pride Ride’ celebrating the city’s LGBTQ+ history!\nThis tour will highlight historic locations\, neighborhoods\, businesses\, churches\, and other points of interest important to the evolution of Raleigh’s LGBTQ+ community. \nTickets are $12 per person. For questions or more information\, please call the Mordecai Historic Park Visitor Center at 919-996-4364. \nTimes: 1 p.m.\, 2 p.m.\, and 3 p.m.\nAges: All\nCost: $12 per person\nGet Tickets on RecLink
URL:https://livableraleigh.com/event/pride-ride-lgbtq-trolley-tour-2/
LOCATION:Mordecai Historic Park\, 1 Mimosa St\, Raleigh\, NC\, 27604
CATEGORIES:Parks & Rec
END:VEVENT
BEGIN:VEVENT
DTSTART;TZID=America/New_York:20250608T140000
DTEND;TZID=America/New_York:20250608T150000
DTSTAMP:20260420T033845
CREATED:20250523T011919Z
LAST-MODIFIED:20250523T011919Z
UID:45594-1749391200-1749394800@livableraleigh.com
SUMMARY:Prince Lunsford Lane's Return to Raleigh\, 1866 - A Talk with Dr. Craig Friend
DESCRIPTION:Join us for a talk by Craig Thompson Friend\, author & professor of history at North Carolina State University\, and celebrate Dr. Friend’s upcoming book “Becoming Lunsford Lane\, The Lives of an American Aeneas. \nLunsford Lane’s story is a biography for our times: a man searching to define life\, liberty\, and the pursuit of happiness in a changing American society scarred by contentious politics\, economic challenges\, class tensions\, loss of political rights\, and racial violence. \nDate: Sunday\, June 8\nTime: 2 – 3 p.m.\nAges: All\nCost: Free
URL:https://livableraleigh.com/event/prince-lunsford-lanes-return-to-raleigh-1866-a-talk-with-dr-craig-friend/
LOCATION:City of Raleigh Museum\, 220 Fayetteville St\, Raleigh\, NC\, 27601
CATEGORIES:Parks & Rec
END:VEVENT
END:VCALENDAR