BEGIN:VCALENDAR
VERSION:2.0
PRODID:-//Livable Raleigh - ECPv6.15.20//NONSGML v1.0//EN
CALSCALE:GREGORIAN
METHOD:PUBLISH
X-ORIGINAL-URL:https://livableraleigh.com
X-WR-CALDESC:Events for Livable Raleigh
REFRESH-INTERVAL;VALUE=DURATION:PT1H
X-Robots-Tag:noindex
X-PUBLISHED-TTL:PT1H
BEGIN:VTIMEZONE
TZID:America/New_York
BEGIN:DAYLIGHT
TZOFFSETFROM:-0500
TZOFFSETTO:-0400
TZNAME:EDT
DTSTART:20240310T070000
END:DAYLIGHT
BEGIN:STANDARD
TZOFFSETFROM:-0400
TZOFFSETTO:-0500
TZNAME:EST
DTSTART:20241103T060000
END:STANDARD
BEGIN:DAYLIGHT
TZOFFSETFROM:-0500
TZOFFSETTO:-0400
TZNAME:EDT
DTSTART:20250309T070000
END:DAYLIGHT
BEGIN:STANDARD
TZOFFSETFROM:-0400
TZOFFSETTO:-0500
TZNAME:EST
DTSTART:20251102T060000
END:STANDARD
BEGIN:DAYLIGHT
TZOFFSETFROM:-0500
TZOFFSETTO:-0400
TZNAME:EDT
DTSTART:20260308T070000
END:DAYLIGHT
BEGIN:STANDARD
TZOFFSETFROM:-0400
TZOFFSETTO:-0500
TZNAME:EST
DTSTART:20261101T060000
END:STANDARD
END:VTIMEZONE
BEGIN:VEVENT
DTSTART;TZID=America/New_York:20250606T160000
DTEND;TZID=America/New_York:20250606T220000
DTSTAMP:20260420T033837
CREATED:20250530T003340Z
LAST-MODIFIED:20250530T003340Z
UID:45781-1749225600-1749247200@livableraleigh.com
SUMMARY:Gipson Play Plaza Ribbon Cutting
DESCRIPTION:Get ready to play\, explore\, and celebrate—join us for the grand opening of Gipson Play Plaza at Dix Park\, where adventure begins! \nThe Gipson Play Plaza ribbon cutting event will take place on Friday\, June 6 from 4 to 10 p.m. with grand opening celebration events on Saturday\, June 7 and Sunday\, June 8. \nMore information: Gipson Play Plaza Grand Opening
URL:https://livableraleigh.com/event/gipson-play-plaza-ribbon-cutting/
LOCATION:DIX Park\, 1030 Richardson Dr\, Raleigh\, NC\, 27603
CATEGORIES:Parks & Rec
END:VEVENT
END:VCALENDAR