BEGIN:VCALENDAR
VERSION:2.0
PRODID:-//Livable Raleigh - ECPv6.15.20//NONSGML v1.0//EN
CALSCALE:GREGORIAN
METHOD:PUBLISH
X-ORIGINAL-URL:https://livableraleigh.com
X-WR-CALDESC:Events for Livable Raleigh
REFRESH-INTERVAL;VALUE=DURATION:PT1H
X-Robots-Tag:noindex
X-PUBLISHED-TTL:PT1H
BEGIN:VTIMEZONE
TZID:America/New_York
BEGIN:DAYLIGHT
TZOFFSETFROM:-0500
TZOFFSETTO:-0400
TZNAME:EDT
DTSTART:20240310T070000
END:DAYLIGHT
BEGIN:STANDARD
TZOFFSETFROM:-0400
TZOFFSETTO:-0500
TZNAME:EST
DTSTART:20241103T060000
END:STANDARD
BEGIN:DAYLIGHT
TZOFFSETFROM:-0500
TZOFFSETTO:-0400
TZNAME:EDT
DTSTART:20250309T070000
END:DAYLIGHT
BEGIN:STANDARD
TZOFFSETFROM:-0400
TZOFFSETTO:-0500
TZNAME:EST
DTSTART:20251102T060000
END:STANDARD
BEGIN:DAYLIGHT
TZOFFSETFROM:-0500
TZOFFSETTO:-0400
TZNAME:EDT
DTSTART:20260308T070000
END:DAYLIGHT
BEGIN:STANDARD
TZOFFSETFROM:-0400
TZOFFSETTO:-0500
TZNAME:EST
DTSTART:20261101T060000
END:STANDARD
END:VTIMEZONE
BEGIN:VEVENT
DTSTART;TZID=America/New_York:20250530T090000
DTEND;TZID=America/New_York:20250530T120000
DTSTAMP:20260419T215914
CREATED:20250510T020137Z
LAST-MODIFIED:20250510T020137Z
UID:45319-1748595600-1748606400@livableraleigh.com
SUMMARY:National Senior Health and Fitness Day Event
DESCRIPTION:Please join us for our National Senior Health and Fitness Day Event!\nHosted by Barwell Road Community Center\, Centerwell Senior Primary Care & Humana. Come out and learn about maintaining a healthy lifestyle. We will have an outdoor walk\, games\, presentations\, refreshments\, and fun for everyone! \nLocation: Barwell Road Community Center\nDate: Friday\, May 30\nTime: 9 a.m. – noon\nAges: 50 and older\nCost: Free\nRegistration is not required
URL:https://livableraleigh.com/event/national-senior-health-and-fitness-day-event/
LOCATION:Barwell Road Community Center\, 5857 Barwell Park Dr\, Raleigh\, NC\, 27610\, United States
CATEGORIES:Parks & Rec
END:VEVENT
END:VCALENDAR