BEGIN:VCALENDAR
VERSION:2.0
PRODID:-//Livable Raleigh - ECPv6.15.20//NONSGML v1.0//EN
CALSCALE:GREGORIAN
METHOD:PUBLISH
X-WR-CALNAME:Livable Raleigh
X-ORIGINAL-URL:https://livableraleigh.com
X-WR-CALDESC:Events for Livable Raleigh
REFRESH-INTERVAL;VALUE=DURATION:PT1H
X-Robots-Tag:noindex
X-PUBLISHED-TTL:PT1H
BEGIN:VTIMEZONE
TZID:America/New_York
BEGIN:DAYLIGHT
TZOFFSETFROM:-0500
TZOFFSETTO:-0400
TZNAME:EDT
DTSTART:20240310T070000
END:DAYLIGHT
BEGIN:STANDARD
TZOFFSETFROM:-0400
TZOFFSETTO:-0500
TZNAME:EST
DTSTART:20241103T060000
END:STANDARD
BEGIN:DAYLIGHT
TZOFFSETFROM:-0500
TZOFFSETTO:-0400
TZNAME:EDT
DTSTART:20250309T070000
END:DAYLIGHT
BEGIN:STANDARD
TZOFFSETFROM:-0400
TZOFFSETTO:-0500
TZNAME:EST
DTSTART:20251102T060000
END:STANDARD
BEGIN:DAYLIGHT
TZOFFSETFROM:-0500
TZOFFSETTO:-0400
TZNAME:EDT
DTSTART:20260308T070000
END:DAYLIGHT
BEGIN:STANDARD
TZOFFSETFROM:-0400
TZOFFSETTO:-0500
TZNAME:EST
DTSTART:20261101T060000
END:STANDARD
END:VTIMEZONE
BEGIN:VEVENT
DTSTART;TZID=America/New_York:20250525T133000
DTEND;TZID=America/New_York:20250525T150000
DTSTAMP:20260420T022253
CREATED:20250517T004649Z
LAST-MODIFIED:20250517T004649Z
UID:45511-1748179800-1748185200@livableraleigh.com
SUMMARY:Pudge the Frog's Birthday Party
DESCRIPTION:The Guinness Book of World Records doesn’t have a record for Oldest Cope’s Grey Tree Frog\, so we are celebrating our special friend and Animal Ambassador\, Pudge\, with a surprise 8th birthday party! \nJoin our staff naturalists and educators for an afternoon of frog-themed fun. Learn about how Pudge came to the Wetland Center\, talk about why frogs are so special\, and learn ways to be good friends to all the frogs in our lives. There will be crafts\, a story\, animal encounters\, and nature lessons. Please come prepared to spend some time in the outdoors and have a blast! \nLocation: Walnut Creek Wetland Center\nDate: Sunday\, May 25\nTime: 1:30 – 3 p.m.\nAges: 5 – 8\, families welcome\nCost: Free\nRegister on RecLink
URL:https://livableraleigh.com/event/pudge-the-frogs-birthday-party/
LOCATION:Walnut Terrace Center\, 1256 McCauley St.\, Suite 126\, Raleigh\, NC\, 27601
CATEGORIES:Parks & Rec
END:VEVENT
END:VCALENDAR