BEGIN:VCALENDAR
VERSION:2.0
PRODID:-//Livable Raleigh - ECPv6.15.20//NONSGML v1.0//EN
CALSCALE:GREGORIAN
METHOD:PUBLISH
X-ORIGINAL-URL:https://livableraleigh.com
X-WR-CALDESC:Events for Livable Raleigh
REFRESH-INTERVAL;VALUE=DURATION:PT1H
X-Robots-Tag:noindex
X-PUBLISHED-TTL:PT1H
BEGIN:VTIMEZONE
TZID:America/New_York
BEGIN:DAYLIGHT
TZOFFSETFROM:-0500
TZOFFSETTO:-0400
TZNAME:EDT
DTSTART:20240310T070000
END:DAYLIGHT
BEGIN:STANDARD
TZOFFSETFROM:-0400
TZOFFSETTO:-0500
TZNAME:EST
DTSTART:20241103T060000
END:STANDARD
BEGIN:DAYLIGHT
TZOFFSETFROM:-0500
TZOFFSETTO:-0400
TZNAME:EDT
DTSTART:20250309T070000
END:DAYLIGHT
BEGIN:STANDARD
TZOFFSETFROM:-0400
TZOFFSETTO:-0500
TZNAME:EST
DTSTART:20251102T060000
END:STANDARD
BEGIN:DAYLIGHT
TZOFFSETFROM:-0500
TZOFFSETTO:-0400
TZNAME:EDT
DTSTART:20260308T070000
END:DAYLIGHT
BEGIN:STANDARD
TZOFFSETFROM:-0400
TZOFFSETTO:-0500
TZNAME:EST
DTSTART:20261101T060000
END:STANDARD
END:VTIMEZONE
BEGIN:VEVENT
DTSTART;TZID=America/New_York:20250523T180000
DTEND;TZID=America/New_York:20250523T210000
DTSTAMP:20260420T010357
CREATED:20250418T204838Z
LAST-MODIFIED:20250418T204838Z
UID:44815-1748023200-1748034000@livableraleigh.com
SUMMARY:Beats and Eats: Country and BBQ
DESCRIPTION:Attention foodies and music lovers alike…\nJoin us for our first night of a series of evenings featuring curated pairings of music genres and delicious cuisines. Dance the night away while savoring yummy bites! \nLocation: John Chavis Memorial Park\nAges: All\nCost: Free
URL:https://livableraleigh.com/event/beats-and-eats-country-and-bbq/
LOCATION:John Chavis Community Center\, 505 Martin Luther King Jr. Blvd.\, Raleigh\, NC\, 27601\, United States
CATEGORIES:Parks & Rec
END:VEVENT
END:VCALENDAR