BEGIN:VCALENDAR
VERSION:2.0
PRODID:-//Livable Raleigh - ECPv6.15.20//NONSGML v1.0//EN
CALSCALE:GREGORIAN
METHOD:PUBLISH
X-WR-CALNAME:Livable Raleigh
X-ORIGINAL-URL:https://livableraleigh.com
X-WR-CALDESC:Events for Livable Raleigh
REFRESH-INTERVAL;VALUE=DURATION:PT1H
X-Robots-Tag:noindex
X-PUBLISHED-TTL:PT1H
BEGIN:VTIMEZONE
TZID:America/New_York
BEGIN:DAYLIGHT
TZOFFSETFROM:-0500
TZOFFSETTO:-0400
TZNAME:EDT
DTSTART:20240310T070000
END:DAYLIGHT
BEGIN:STANDARD
TZOFFSETFROM:-0400
TZOFFSETTO:-0500
TZNAME:EST
DTSTART:20241103T060000
END:STANDARD
BEGIN:DAYLIGHT
TZOFFSETFROM:-0500
TZOFFSETTO:-0400
TZNAME:EDT
DTSTART:20250309T070000
END:DAYLIGHT
BEGIN:STANDARD
TZOFFSETFROM:-0400
TZOFFSETTO:-0500
TZNAME:EST
DTSTART:20251102T060000
END:STANDARD
BEGIN:DAYLIGHT
TZOFFSETFROM:-0500
TZOFFSETTO:-0400
TZNAME:EDT
DTSTART:20260308T070000
END:DAYLIGHT
BEGIN:STANDARD
TZOFFSETFROM:-0400
TZOFFSETTO:-0500
TZNAME:EST
DTSTART:20261101T060000
END:STANDARD
END:VTIMEZONE
BEGIN:VEVENT
DTSTART;TZID=America/New_York:20250517T090000
DTEND;TZID=America/New_York:20250517T160000
DTSTAMP:20260420T010038
CREATED:20250517T004232Z
LAST-MODIFIED:20250517T004232Z
UID:45506-1747472400-1747497600@livableraleigh.com
SUMMARY:Introduction to Kayaking at Lake Johnson
DESCRIPTION:ACA (American Canoe Association) of North Carolina and the North Carolina State Parks are once again joining together to host their annual Kayaking 101 event on May 17 to kick off National Safe Boating Week. \nLearn more about Introduction to Kayaking at Lake Johnson \nLocation: Lake Johnson\nDate: Saturday\, May 17\nTime: 9 a.m. – 4 p.m.\nAges: 18 and older\nCost: Free\nLearn more and Register Today
URL:https://livableraleigh.com/event/introduction-to-kayaking-at-lake-johnson/
LOCATION:Lake Johnson Park\, 4601 Avent Ferry Road\, Raleigh\, NC\, 27606
CATEGORIES:Parks & Rec
END:VEVENT
BEGIN:VEVENT
DTSTART;TZID=America/New_York:20250517T100000
DTEND;TZID=America/New_York:20250517T130000
DTSTAMP:20260420T010038
CREATED:20250404T211528Z
LAST-MODIFIED:20250404T211528Z
UID:44603-1747476000-1747486800@livableraleigh.com
SUMMARY:Neighborhood Ecology Corps Open House
DESCRIPTION:Join us at Walnut Creek Wetland Park for an open house where you can:\n\nSee our program in action through hands-on activities\nMeet current NEC students and hear their experiences\nGet to know our instructors\nLearn more about our curriculum\n\nDetails\nLocation: Walnut Creek Wetland Park\nDate: Saturday\, May 17\nTime: 10 a.m. – 1 p.m.\nAges: Middle and High School Students\nCost: Free
URL:https://livableraleigh.com/event/neighborhood-ecology-corps-open-house/
LOCATION:Walnut Creek Wetland Center\, 950 Peterson St\, Raleigh\, NC\, 27610
CATEGORIES:Parks & Rec
END:VEVENT
BEGIN:VEVENT
DTSTART;TZID=America/New_York:20250517T100000
DTEND;TZID=America/New_York:20250517T140000
DTSTAMP:20260420T010038
CREATED:20250425T143905Z
LAST-MODIFIED:20250425T143905Z
UID:44910-1747476000-1747490400@livableraleigh.com
SUMMARY:Rootle Roadster Tour at Moore Square
DESCRIPTION:The Rootle Roadster Tour is back and rolling into Moore Square on Saturday\, May 17\, for a free\, fun-filled morning designed especially for young children and their families! \nFrom 10 a.m. to 2 p.m.\, the Square will transform into a vibrant hub of hands-on learning\, creativity\, and play. This unique\, on-the-go event supports early childhood education through joyful activities that foster curiosity and discovery. \nFamilies can look forward to:\n\nInteractive crafts and sensory play stations\nMusic and movement activities that get everyone grooving\nLiteracy and learning games to spark little imaginations\nCommunity resources from local partners and educators\nMeet-and-greets with favorite Rootle characters (while supplies last!)\n\nDesigned with children ages 2–8 in mind\, the Rootle Roadster Tour brings the trusted\, educational programming of PBS Kids off the screen and into your community. \nJoin us at Moore Square for a joyful celebration of learning\, family\, and fun—right in the heart of Downtown Raleigh! \nPresented by PBS North Carolina in partnership with Raleigh Parks and Marbles Kids Museum. \nDetails\nDate: Saturday\, May 17\nTime: 10 a.m. – 2 p.m.\nAges: All/Family-friendly\nCost: Free\nDoes not include admission to the Marbles Kids Museum.
URL:https://livableraleigh.com/event/rootle-roadster-tour-at-moore-square/
LOCATION:Moore Square\, 200 S. Blount St.\, Raleigh\, NC\, 27601
CATEGORIES:Parks & Rec
END:VEVENT
END:VCALENDAR