BEGIN:VCALENDAR
VERSION:2.0
PRODID:-//Livable Raleigh - ECPv6.15.20//NONSGML v1.0//EN
CALSCALE:GREGORIAN
METHOD:PUBLISH
X-ORIGINAL-URL:https://livableraleigh.com
X-WR-CALDESC:Events for Livable Raleigh
REFRESH-INTERVAL;VALUE=DURATION:PT1H
X-Robots-Tag:noindex
X-PUBLISHED-TTL:PT1H
BEGIN:VTIMEZONE
TZID:America/New_York
BEGIN:DAYLIGHT
TZOFFSETFROM:-0500
TZOFFSETTO:-0400
TZNAME:EDT
DTSTART:20240310T070000
END:DAYLIGHT
BEGIN:STANDARD
TZOFFSETFROM:-0400
TZOFFSETTO:-0500
TZNAME:EST
DTSTART:20241103T060000
END:STANDARD
BEGIN:DAYLIGHT
TZOFFSETFROM:-0500
TZOFFSETTO:-0400
TZNAME:EDT
DTSTART:20250309T070000
END:DAYLIGHT
BEGIN:STANDARD
TZOFFSETFROM:-0400
TZOFFSETTO:-0500
TZNAME:EST
DTSTART:20251102T060000
END:STANDARD
BEGIN:DAYLIGHT
TZOFFSETFROM:-0500
TZOFFSETTO:-0400
TZNAME:EDT
DTSTART:20260308T070000
END:DAYLIGHT
BEGIN:STANDARD
TZOFFSETFROM:-0400
TZOFFSETTO:-0500
TZNAME:EST
DTSTART:20261101T060000
END:STANDARD
END:VTIMEZONE
BEGIN:VEVENT
DTSTART;TZID=America/New_York:20250516T173000
DTEND;TZID=America/New_York:20250516T193000
DTSTAMP:20260420T010358
CREATED:20250510T015448Z
LAST-MODIFIED:20250510T015448Z
UID:45311-1747416600-1747423800@livableraleigh.com
SUMMARY:Five Points Spring Fling
DESCRIPTION:The Five Points Center for Active Adults invites the community to its Spring Fling on Friday\, May 16\, from 5:30 to 7:30 p.m. This free\, family-friendly event celebrates community\, creativity\, and connection. \nGuests can look forward to live music from the Raleigh Parks Band\, festival-style games\, program demonstrations\, and a variety of delicious local food trucks. Kids 12 and under eat free with pizza from Timber Pizza\, and additional food will be available from Party in a Pita\, Lee’s Kitchen\, and Jones Lemonade Slushy. \nAttendees are encouraged to bring lawn chairs and blankets for an evening on the lawn filled with fun activities\, cornhole\, and dancing. Inside\, enjoy interactive demos of popular center programs like yoga\, soul line dancing\, art classes\, and drumming. \nThe Spring Fling is a great opportunity for neighbors to reconnect and explore all that the Five Points Center has to offer. \nLocation: Five Points Center for Active Adults\nDate: Friday\, May 16\nTime: 5:30 – 7:30 p.m.\nAges: All\nCost: Free
URL:https://livableraleigh.com/event/five-points-spring-fling/
LOCATION:Five Points Center for Active Adults\, 2000 Noble Road\, Raleigh\, NC\, 27608\, United States
CATEGORIES:Parks & Rec
END:VEVENT
END:VCALENDAR