BEGIN:VCALENDAR
VERSION:2.0
PRODID:-//Livable Raleigh - ECPv6.15.20//NONSGML v1.0//EN
CALSCALE:GREGORIAN
METHOD:PUBLISH
X-WR-CALNAME:Livable Raleigh
X-ORIGINAL-URL:https://livableraleigh.com
X-WR-CALDESC:Events for Livable Raleigh
REFRESH-INTERVAL;VALUE=DURATION:PT1H
X-Robots-Tag:noindex
X-PUBLISHED-TTL:PT1H
BEGIN:VTIMEZONE
TZID:America/New_York
BEGIN:DAYLIGHT
TZOFFSETFROM:-0500
TZOFFSETTO:-0400
TZNAME:EDT
DTSTART:20240310T070000
END:DAYLIGHT
BEGIN:STANDARD
TZOFFSETFROM:-0400
TZOFFSETTO:-0500
TZNAME:EST
DTSTART:20241103T060000
END:STANDARD
BEGIN:DAYLIGHT
TZOFFSETFROM:-0500
TZOFFSETTO:-0400
TZNAME:EDT
DTSTART:20250309T070000
END:DAYLIGHT
BEGIN:STANDARD
TZOFFSETFROM:-0400
TZOFFSETTO:-0500
TZNAME:EST
DTSTART:20251102T060000
END:STANDARD
BEGIN:DAYLIGHT
TZOFFSETFROM:-0500
TZOFFSETTO:-0400
TZNAME:EDT
DTSTART:20260308T070000
END:DAYLIGHT
BEGIN:STANDARD
TZOFFSETFROM:-0400
TZOFFSETTO:-0500
TZNAME:EST
DTSTART:20261101T060000
END:STANDARD
END:VTIMEZONE
BEGIN:VEVENT
DTSTART;TZID=America/New_York:20250515T120000
DTEND;TZID=America/New_York:20250515T130000
DTSTAMP:20260420T063957
CREATED:20250510T015238Z
LAST-MODIFIED:20250510T015238Z
UID:45309-1747310400-1747314000@livableraleigh.com
SUMMARY:Lunch Box Lecture with Madison Phillips
DESCRIPTION:Feed your belly and your brain!\nBring your lunch to the City of Raleigh Museum and listen to a captivating lecture every third Thursday of the month. \nJoin us for a Lunch Box Lecture by Madison Phillips\, Assistant Director at Chavis Park. This will be a presentation on the Red-light district in Raleigh during the early 1900s. You will be led through time and space to uncover some of the most sensational stories of this city’s red-light district and how government officials of the Progressive Era worked to end this industry. Still\, the women you will hear about were clever and resilient forces to be reckoned with! \nDate: Thursday\, May 15\nTime: noon – 1 p.m.\nAges: All\nCost: Free
URL:https://livableraleigh.com/event/lunch-box-lecture-with-madison-phillips/
LOCATION:City of Raleigh Museum\, 220 Fayetteville St\, Raleigh\, NC\, 27601
CATEGORIES:Parks & Rec
END:VEVENT
END:VCALENDAR