BEGIN:VCALENDAR
VERSION:2.0
PRODID:-//Livable Raleigh - ECPv6.15.20//NONSGML v1.0//EN
CALSCALE:GREGORIAN
METHOD:PUBLISH
X-ORIGINAL-URL:https://livableraleigh.com
X-WR-CALDESC:Events for Livable Raleigh
REFRESH-INTERVAL;VALUE=DURATION:PT1H
X-Robots-Tag:noindex
X-PUBLISHED-TTL:PT1H
BEGIN:VTIMEZONE
TZID:America/New_York
BEGIN:DAYLIGHT
TZOFFSETFROM:-0500
TZOFFSETTO:-0400
TZNAME:EDT
DTSTART:20240310T070000
END:DAYLIGHT
BEGIN:STANDARD
TZOFFSETFROM:-0400
TZOFFSETTO:-0500
TZNAME:EST
DTSTART:20241103T060000
END:STANDARD
BEGIN:DAYLIGHT
TZOFFSETFROM:-0500
TZOFFSETTO:-0400
TZNAME:EDT
DTSTART:20250309T070000
END:DAYLIGHT
BEGIN:STANDARD
TZOFFSETFROM:-0400
TZOFFSETTO:-0500
TZNAME:EST
DTSTART:20251102T060000
END:STANDARD
BEGIN:DAYLIGHT
TZOFFSETFROM:-0500
TZOFFSETTO:-0400
TZNAME:EDT
DTSTART:20260308T070000
END:DAYLIGHT
BEGIN:STANDARD
TZOFFSETFROM:-0400
TZOFFSETTO:-0500
TZNAME:EST
DTSTART:20261101T060000
END:STANDARD
END:VTIMEZONE
BEGIN:VEVENT
DTSTART;TZID=America/New_York:20250502T170000
DTEND;TZID=America/New_York:20250502T210000
DTSTAMP:20260420T022537
CREATED:20250425T142342Z
LAST-MODIFIED:20250425T142342Z
UID:44894-1746205200-1746219600@livableraleigh.com
SUMMARY:The Endless Grind - An Archive Photo Exhibit of Raleigh’s Skate History
DESCRIPTION:In partnership with the City of Raleigh Museum and as part of Downtown Raleigh Alliance’s First Friday events for May\, we’re hosting a one-night preview of select items from the Archive’s collection\, ahead of a bigger project on Raleigh’s skate history. \nStarting at 7 p.m.\,  we’ll hear the stories behind some of the new and old photos from photographers Pete Thompson\, Chris Facey\, and Chris Seward.  Due to limited space\, this will be a free but ticketed event. \nLocation: City of Raleigh Museum\nAges: All\nCost: Free\nRegister for Tickets
URL:https://livableraleigh.com/event/the-endless-grind-an-archive-photo-exhibit-of-raleighs-skate-history/
LOCATION:City of Raleigh Museum\, 220 Fayetteville St\, Raleigh\, NC\, 27601
CATEGORIES:Parks & Rec
END:VEVENT
END:VCALENDAR