BEGIN:VCALENDAR
VERSION:2.0
PRODID:-//Livable Raleigh - ECPv6.15.20//NONSGML v1.0//EN
CALSCALE:GREGORIAN
METHOD:PUBLISH
X-ORIGINAL-URL:https://livableraleigh.com
X-WR-CALDESC:Events for Livable Raleigh
REFRESH-INTERVAL;VALUE=DURATION:PT1H
X-Robots-Tag:noindex
X-PUBLISHED-TTL:PT1H
BEGIN:VTIMEZONE
TZID:America/New_York
BEGIN:DAYLIGHT
TZOFFSETFROM:-0500
TZOFFSETTO:-0400
TZNAME:EDT
DTSTART:20240310T070000
END:DAYLIGHT
BEGIN:STANDARD
TZOFFSETFROM:-0400
TZOFFSETTO:-0500
TZNAME:EST
DTSTART:20241103T060000
END:STANDARD
BEGIN:DAYLIGHT
TZOFFSETFROM:-0500
TZOFFSETTO:-0400
TZNAME:EDT
DTSTART:20250309T070000
END:DAYLIGHT
BEGIN:STANDARD
TZOFFSETFROM:-0400
TZOFFSETTO:-0500
TZNAME:EST
DTSTART:20251102T060000
END:STANDARD
BEGIN:DAYLIGHT
TZOFFSETFROM:-0500
TZOFFSETTO:-0400
TZNAME:EDT
DTSTART:20260308T070000
END:DAYLIGHT
BEGIN:STANDARD
TZOFFSETFROM:-0400
TZOFFSETTO:-0500
TZNAME:EST
DTSTART:20261101T060000
END:STANDARD
END:VTIMEZONE
BEGIN:VEVENT
DTSTART;TZID=America/New_York:20250411T100000
DTEND;TZID=America/New_York:20250411T180000
DTSTAMP:20260420T051556
CREATED:20250321T161300Z
LAST-MODIFIED:20250321T161300Z
UID:44303-1744365600-1744394400@livableraleigh.com
SUMMARY:Game On!
DESCRIPTION:Enjoy a fun variety of giant lawn games\, board games and MOORE! \nAvailable activities for Game On! include: \nSoccer balls\nHula hoops\nJenga\nChess (giant and regular)\nCornhole\nFrisbee\nBoard and card games\n(Please see Parks staff for game availability.)
URL:https://livableraleigh.com/event/game-on-5/
LOCATION:Moore Square\, 200 S. Blount St.\, Raleigh\, NC\, 27601
CATEGORIES:Parks & Rec
END:VEVENT
BEGIN:VEVENT
DTSTART;TZID=America/New_York:20250411T190000
DTEND;TZID=America/New_York:20250411T210000
DTSTAMP:20260420T051556
CREATED:20250302T004032Z
LAST-MODIFIED:20250302T004032Z
UID:43899-1744398000-1744405200@livableraleigh.com
SUMMARY:SRIS Spring Fling Dance
DESCRIPTION:Spring has sprung\, let’s dance!\nThis dance is for youth and adults with disabilities. Volunteer chaperones\, DJ\, and refreshments are provided. Participants needing more support\, supervision\, or assistance are welcome to attend with a chaperone or personal assistant. \nPre-registration is strongly encouraged but walk-up registration with $5 cash will be accepted. For more information\, call (919) 996-2147 or email SRIS@raleighnc.gov. \nLocation: Laurel Hills Community Center\nAge: 15 and up\nCost: $5
URL:https://livableraleigh.com/event/sris-spring-fling-dance/
LOCATION:Laurel Hills Community Center\, 3808 Edwards Mill Road\, 27612
CATEGORIES:Parks & Rec
END:VEVENT
END:VCALENDAR