BEGIN:VCALENDAR
VERSION:2.0
PRODID:-//Livable Raleigh - ECPv6.15.20//NONSGML v1.0//EN
CALSCALE:GREGORIAN
METHOD:PUBLISH
X-WR-CALNAME:Livable Raleigh
X-ORIGINAL-URL:https://livableraleigh.com
X-WR-CALDESC:Events for Livable Raleigh
REFRESH-INTERVAL;VALUE=DURATION:PT1H
X-Robots-Tag:noindex
X-PUBLISHED-TTL:PT1H
BEGIN:VTIMEZONE
TZID:America/New_York
BEGIN:DAYLIGHT
TZOFFSETFROM:-0500
TZOFFSETTO:-0400
TZNAME:EDT
DTSTART:20240310T070000
END:DAYLIGHT
BEGIN:STANDARD
TZOFFSETFROM:-0400
TZOFFSETTO:-0500
TZNAME:EST
DTSTART:20241103T060000
END:STANDARD
BEGIN:DAYLIGHT
TZOFFSETFROM:-0500
TZOFFSETTO:-0400
TZNAME:EDT
DTSTART:20250309T070000
END:DAYLIGHT
BEGIN:STANDARD
TZOFFSETFROM:-0400
TZOFFSETTO:-0500
TZNAME:EST
DTSTART:20251102T060000
END:STANDARD
BEGIN:DAYLIGHT
TZOFFSETFROM:-0500
TZOFFSETTO:-0400
TZNAME:EDT
DTSTART:20260308T070000
END:DAYLIGHT
BEGIN:STANDARD
TZOFFSETFROM:-0400
TZOFFSETTO:-0500
TZNAME:EST
DTSTART:20261101T060000
END:STANDARD
END:VTIMEZONE
BEGIN:VEVENT
DTSTART;TZID=America/New_York:20250404T170000
DTEND;TZID=America/New_York:20250404T210000
DTSTAMP:20260419T215649
CREATED:20250403T230757Z
LAST-MODIFIED:20250403T230757Z
UID:44523-1743786000-1743800400@livableraleigh.com
SUMMARY:First Friday Market and Movie - Wall-E
DESCRIPTION:Spring is here\, and that means First Friday Market & Movies are back at Moore Square!\nJoin us Friday\, April 4\, for an evening of fun\, community\, and entertainment. \nDetails\nMovie: Wall-E at 7:30 p.m.\nVendor Market: 5 – 9 p.m.\nFood Trucks and Kids Programming \nThis free\, family-friendly event is in partnership with Get 2 Know Raleigh\, with movies and programs sponsored by Downtown Raleigh Alliance. \nDon’t miss an evening under the stars in the heart of downtown!
URL:https://livableraleigh.com/event/first-friday-market-and-movie-wall-e/
LOCATION:Moore Square\, 200 S. Blount St.\, Raleigh\, NC\, 27601
CATEGORIES:Parks & Rec
END:VEVENT
END:VCALENDAR