BEGIN:VCALENDAR
VERSION:2.0
PRODID:-//Livable Raleigh - ECPv6.15.20//NONSGML v1.0//EN
CALSCALE:GREGORIAN
METHOD:PUBLISH
X-WR-CALNAME:Livable Raleigh
X-ORIGINAL-URL:https://livableraleigh.com
X-WR-CALDESC:Events for Livable Raleigh
REFRESH-INTERVAL;VALUE=DURATION:PT1H
X-Robots-Tag:noindex
X-PUBLISHED-TTL:PT1H
BEGIN:VTIMEZONE
TZID:America/New_York
BEGIN:DAYLIGHT
TZOFFSETFROM:-0500
TZOFFSETTO:-0400
TZNAME:EDT
DTSTART:20240310T070000
END:DAYLIGHT
BEGIN:STANDARD
TZOFFSETFROM:-0400
TZOFFSETTO:-0500
TZNAME:EST
DTSTART:20241103T060000
END:STANDARD
BEGIN:DAYLIGHT
TZOFFSETFROM:-0500
TZOFFSETTO:-0400
TZNAME:EDT
DTSTART:20250309T070000
END:DAYLIGHT
BEGIN:STANDARD
TZOFFSETFROM:-0400
TZOFFSETTO:-0500
TZNAME:EST
DTSTART:20251102T060000
END:STANDARD
BEGIN:DAYLIGHT
TZOFFSETFROM:-0500
TZOFFSETTO:-0400
TZNAME:EDT
DTSTART:20260308T070000
END:DAYLIGHT
BEGIN:STANDARD
TZOFFSETFROM:-0400
TZOFFSETTO:-0500
TZNAME:EST
DTSTART:20261101T060000
END:STANDARD
END:VTIMEZONE
BEGIN:VEVENT
DTSTART;TZID=America/New_York:20250328T100000
DTEND;TZID=America/New_York:20250328T113000
DTSTAMP:20260419T160920
CREATED:20250301T231426Z
LAST-MODIFIED:20250301T231426Z
UID:43845-1743156000-1743161400@livableraleigh.com
SUMMARY:The Hoppiest Egg Hunt Ever
DESCRIPTION:Hop on out to our preschool egg hunt!\nWe will have games\, crafts\, and special characters to help us celebrate! Sunny the Fun Fairy will be there to fly\, dance\, and take photos with everyone. She will also be having a special story time at 10:45 a.m. \nThe egg hunt will be at 11 a.m. for the 0-2-year-olds and 11:15 a.m. for the 3-5-year-olds. Please pre-register each child who plans to participate and bring a basket or bag for the hunt. Who else is egg-cited?! \nLocation: Pullen Community Center\nAges: 0-5\nCost: Free\nRegister on RecLink
URL:https://livableraleigh.com/event/the-hoppiest-egg-hunt-ever-2/
LOCATION:Pullen Arts Center\, 105 Pullen Rd.\, Raleigh\, NC\, 27607\, United States
CATEGORIES:Parks & Rec
END:VEVENT
BEGIN:VEVENT
DTSTART;TZID=America/New_York:20250328T180000
DTEND;TZID=America/New_York:20250328T200000
DTSTAMP:20260419T160920
CREATED:20250301T231538Z
LAST-MODIFIED:20250301T231538Z
UID:43847-1743184800-1743192000@livableraleigh.com
SUMMARY:The Egg-Mazing Race
DESCRIPTION:It’s the most daring competition ever attempted\, teams bound by friendship\, love\, or family\, will race around the entirety of Pullen Park.\nThey have no idea where they’re going\, what dangers they may encounter\, or how the journey will affect their lives. But the team that collects the most points within an hour\, will win a special prize. \nThis is a race like no other in history. This… is the Egg-Mazing Race! Teams will be made up of 2 people. Please register each person for the team. Please note this event will require a good amount of physical activity. \nLocation: Pullen Community Center\nAges: 18 and up\nCost: Free\nRegister on RecLink
URL:https://livableraleigh.com/event/the-egg-mazing-race/
LOCATION:Pullen Arts Center\, 105 Pullen Rd.\, Raleigh\, NC\, 27607\, United States
CATEGORIES:Parks & Rec
END:VEVENT
BEGIN:VEVENT
DTSTART;TZID=America/New_York:20250328T183000
DTEND;TZID=America/New_York:20250328T210000
DTSTAMP:20260419T160920
CREATED:20250301T231647Z
LAST-MODIFIED:20250301T231647Z
UID:43849-1743186600-1743195600@livableraleigh.com
SUMMARY:Green Road's Teen Hang Night
DESCRIPTION:If you’re looking for a place to hang out with your friends for the night\, Green Road’s Teen Hang Night is the place to be.\nThe night will be filled with lots of free fun\, which consists of making Tik Tok videos\, video game competitions\, basketball games\, DJ\, and other activities. Bring a friend to come have a great time! \nLocation: Green Road Community Center\nAges: 12-17\nCost: Free\nRegister on RecLink
URL:https://livableraleigh.com/event/green-roads-teen-hang-night/
LOCATION:Green Road Community Center
CATEGORIES:Parks & Rec
END:VEVENT
END:VCALENDAR