BEGIN:VCALENDAR
VERSION:2.0
PRODID:-//Livable Raleigh - ECPv6.15.20//NONSGML v1.0//EN
CALSCALE:GREGORIAN
METHOD:PUBLISH
X-ORIGINAL-URL:https://livableraleigh.com
X-WR-CALDESC:Events for Livable Raleigh
REFRESH-INTERVAL;VALUE=DURATION:PT1H
X-Robots-Tag:noindex
X-PUBLISHED-TTL:PT1H
BEGIN:VTIMEZONE
TZID:America/New_York
BEGIN:DAYLIGHT
TZOFFSETFROM:-0500
TZOFFSETTO:-0400
TZNAME:EDT
DTSTART:20240310T070000
END:DAYLIGHT
BEGIN:STANDARD
TZOFFSETFROM:-0400
TZOFFSETTO:-0500
TZNAME:EST
DTSTART:20241103T060000
END:STANDARD
BEGIN:DAYLIGHT
TZOFFSETFROM:-0500
TZOFFSETTO:-0400
TZNAME:EDT
DTSTART:20250309T070000
END:DAYLIGHT
BEGIN:STANDARD
TZOFFSETFROM:-0400
TZOFFSETTO:-0500
TZNAME:EST
DTSTART:20251102T060000
END:STANDARD
BEGIN:DAYLIGHT
TZOFFSETFROM:-0500
TZOFFSETTO:-0400
TZNAME:EDT
DTSTART:20260308T070000
END:DAYLIGHT
BEGIN:STANDARD
TZOFFSETFROM:-0400
TZOFFSETTO:-0500
TZNAME:EST
DTSTART:20261101T060000
END:STANDARD
END:VTIMEZONE
BEGIN:VEVENT
DTSTART;TZID=America/New_York:20250327T160000
DTEND;TZID=America/New_York:20250327T190000
DTSTAMP:20260419T161131
CREATED:20250221T154513Z
LAST-MODIFIED:20250221T154513Z
UID:43750-1743091200-1743102000@livableraleigh.com
SUMMARY:Sertoma Arts Center Expansion Project Open House
DESCRIPTION:Join us at our Sertoma Arts Center Expansion Project Update Open House on Thursday\, March 27 from 4 to 7 p.m. \nLocation: Sertoma Arts Center\nAges: All\nCost: Free
URL:https://livableraleigh.com/event/sertoma-arts-center-expansion-project-open-house/
LOCATION:Sertoma Arts Center\, 1400 Millbrook Road\, Raleigh\, NC\, 27612\, United States
CATEGORIES:Engagement Filter,Parks & Rec
END:VEVENT
END:VCALENDAR