BEGIN:VCALENDAR
VERSION:2.0
PRODID:-//Livable Raleigh - ECPv6.15.20//NONSGML v1.0//EN
CALSCALE:GREGORIAN
METHOD:PUBLISH
X-WR-CALNAME:Livable Raleigh
X-ORIGINAL-URL:https://livableraleigh.com
X-WR-CALDESC:Events for Livable Raleigh
REFRESH-INTERVAL;VALUE=DURATION:PT1H
X-Robots-Tag:noindex
X-PUBLISHED-TTL:PT1H
BEGIN:VTIMEZONE
TZID:America/New_York
BEGIN:DAYLIGHT
TZOFFSETFROM:-0500
TZOFFSETTO:-0400
TZNAME:EDT
DTSTART:20240310T070000
END:DAYLIGHT
BEGIN:STANDARD
TZOFFSETFROM:-0400
TZOFFSETTO:-0500
TZNAME:EST
DTSTART:20241103T060000
END:STANDARD
BEGIN:DAYLIGHT
TZOFFSETFROM:-0500
TZOFFSETTO:-0400
TZNAME:EDT
DTSTART:20250309T070000
END:DAYLIGHT
BEGIN:STANDARD
TZOFFSETFROM:-0400
TZOFFSETTO:-0500
TZNAME:EST
DTSTART:20251102T060000
END:STANDARD
BEGIN:DAYLIGHT
TZOFFSETFROM:-0500
TZOFFSETTO:-0400
TZNAME:EDT
DTSTART:20260308T070000
END:DAYLIGHT
BEGIN:STANDARD
TZOFFSETFROM:-0400
TZOFFSETTO:-0500
TZNAME:EST
DTSTART:20261101T060000
END:STANDARD
END:VTIMEZONE
BEGIN:VEVENT
DTSTART;TZID=America/New_York:20250322T100000
DTEND;TZID=America/New_York:20250322T123000
DTSTAMP:20260420T010122
CREATED:20250221T153802Z
LAST-MODIFIED:20250221T153802Z
UID:43740-1742637600-1742646600@livableraleigh.com
SUMMARY:Stormwater Wildlife Paper Mosaic Workshop at Lions Park
DESCRIPTION:Join the City of Raleigh Stormwater team to learn more about how art and nature connect in our community at Lions Park. Create your own colorful paper mosaic inspired by native animal and plant species. This family-friendly\, hands-on workshop is perfect for beginners and guided by a local artist\, Jeannette Brossart\, who will share tips and techniques to help you craft a take-home masterpiece featuring the Neuse River Waterdog\, Box Turtle\, or Leopard Frog. Use vibrant paper shapes to bring your design to life. All ages and skill levels welcome! \nLearn more about Public Art at Lions Park Community Center. \n\nLearn more about Lions Park Green Stormwater Infrastructure Installation Project. \n\n\n\nSaturday\, March 22 from 10 a.m. – 12:30 p.m.  \nLocation: Lions Park Community Center\nAges: All\nCost: Free
URL:https://livableraleigh.com/event/stormwater-wildlife-paper-mosaic-workshop-at-lions-park/
LOCATION:Lions Park Community Center\, 516 Dennis Avenue\, Raleigh\, 27604
CATEGORIES:Parks & Rec
END:VEVENT
END:VCALENDAR