BEGIN:VCALENDAR
VERSION:2.0
PRODID:-//Livable Raleigh - ECPv6.15.20//NONSGML v1.0//EN
CALSCALE:GREGORIAN
METHOD:PUBLISH
X-ORIGINAL-URL:https://livableraleigh.com
X-WR-CALDESC:Events for Livable Raleigh
REFRESH-INTERVAL;VALUE=DURATION:PT1H
X-Robots-Tag:noindex
X-PUBLISHED-TTL:PT1H
BEGIN:VTIMEZONE
TZID:America/New_York
BEGIN:DAYLIGHT
TZOFFSETFROM:-0500
TZOFFSETTO:-0400
TZNAME:EDT
DTSTART:20240310T070000
END:DAYLIGHT
BEGIN:STANDARD
TZOFFSETFROM:-0400
TZOFFSETTO:-0500
TZNAME:EST
DTSTART:20241103T060000
END:STANDARD
BEGIN:DAYLIGHT
TZOFFSETFROM:-0500
TZOFFSETTO:-0400
TZNAME:EDT
DTSTART:20250309T070000
END:DAYLIGHT
BEGIN:STANDARD
TZOFFSETFROM:-0400
TZOFFSETTO:-0500
TZNAME:EST
DTSTART:20251102T060000
END:STANDARD
BEGIN:DAYLIGHT
TZOFFSETFROM:-0500
TZOFFSETTO:-0400
TZNAME:EDT
DTSTART:20260308T070000
END:DAYLIGHT
BEGIN:STANDARD
TZOFFSETFROM:-0400
TZOFFSETTO:-0500
TZNAME:EST
DTSTART:20261101T060000
END:STANDARD
END:VTIMEZONE
BEGIN:VEVENT
DTSTART;TZID=America/New_York:20250321T150000
DTEND;TZID=America/New_York:20250321T170000
DTSTAMP:20260419T191208
CREATED:20250301T231144Z
LAST-MODIFIED:20250301T231144Z
UID:43842-1742569200-1742576400@livableraleigh.com
SUMMARY:World Water Day 2025
DESCRIPTION:Join us at Lake Johnson Park to Celebrate World Water Day 2025!\nRaleigh Parks is partnering with NC State University to bring you Trailside Science: Celebrating  World Water Day. Together\, we will explore water quality\, algae blooms and ecosystem health. \nWhat is World Water Day?\nWorld Water Day is an annual United Nations Observance\, focusing on the importance of freshwater and inspiring action to tackle the global water challenges. \nAbout the Event\nJump into an exciting water-filled adventure! Discover how water quality\, algae\, and algae blooms affect pets\, wildlife\, and humans! Learn through fun\, hands-on citizen science activities with experts and partner organizations. This trailside event is perfect for curious minds of all ages who want to learn how water connects and sustains life! No advanced registration is required. \n\nEvent Details\nLocation: Lake Johnson Park Waterfront Program Center\nAges: All\nCost: Free
URL:https://livableraleigh.com/event/world-water-day-2025/
LOCATION:Thomas G. Crowder Woodland Center\, 5611 Jaguar Park Drive\, Raleigh\, NC\, 27606\, United States
CATEGORIES:Parks & Rec
END:VEVENT
END:VCALENDAR