BEGIN:VCALENDAR
VERSION:2.0
PRODID:-//Livable Raleigh - ECPv6.15.20//NONSGML v1.0//EN
CALSCALE:GREGORIAN
METHOD:PUBLISH
X-ORIGINAL-URL:https://livableraleigh.com
X-WR-CALDESC:Events for Livable Raleigh
REFRESH-INTERVAL;VALUE=DURATION:PT1H
X-Robots-Tag:noindex
X-PUBLISHED-TTL:PT1H
BEGIN:VTIMEZONE
TZID:America/New_York
BEGIN:DAYLIGHT
TZOFFSETFROM:-0500
TZOFFSETTO:-0400
TZNAME:EDT
DTSTART:20240310T070000
END:DAYLIGHT
BEGIN:STANDARD
TZOFFSETFROM:-0400
TZOFFSETTO:-0500
TZNAME:EST
DTSTART:20241103T060000
END:STANDARD
BEGIN:DAYLIGHT
TZOFFSETFROM:-0500
TZOFFSETTO:-0400
TZNAME:EDT
DTSTART:20250309T070000
END:DAYLIGHT
BEGIN:STANDARD
TZOFFSETFROM:-0400
TZOFFSETTO:-0500
TZNAME:EST
DTSTART:20251102T060000
END:STANDARD
BEGIN:DAYLIGHT
TZOFFSETFROM:-0500
TZOFFSETTO:-0400
TZNAME:EDT
DTSTART:20260308T070000
END:DAYLIGHT
BEGIN:STANDARD
TZOFFSETFROM:-0400
TZOFFSETTO:-0500
TZNAME:EST
DTSTART:20261101T060000
END:STANDARD
END:VTIMEZONE
BEGIN:VEVENT
DTSTART;TZID=America/New_York:20250315T100000
DTEND;TZID=America/New_York:20250315T130000
DTSTAMP:20260419T161056
CREATED:20250221T153405Z
LAST-MODIFIED:20250221T153405Z
UID:43735-1742032800-1742043600@livableraleigh.com
SUMMARY:Celebrate Public Art on Atlantic Ave & Green Road Park
DESCRIPTION:Join the City of Raleigh Public Art team in celebrating the public art coming to Atlantic Ave and Green Road Park! All ages  welcome! \nLearn more about Public Art at Atlantic Avenue. \n\nLearn more about Public Art at Green Road Park. \n\n\n\nSaturday\, March 15\, 2025 from 10 a.m. to 1 p.m.  \nLocation: Brentwood Park Picnic Shelter\nAges: All\nCost: Free
URL:https://livableraleigh.com/event/celebrate-public-art-on-atlantic-ave-green-road-park/
LOCATION:Brentwood Park\, 3315 Vinson Court\, Raleigh\, NC\, 27604
CATEGORIES:Parks & Rec
END:VEVENT
BEGIN:VEVENT
DTSTART;TZID=America/New_York:20250315T100000
DTEND;TZID=America/New_York:20250315T150000
DTSTAMP:20260419T161056
CREATED:20250208T002610Z
LAST-MODIFIED:20250208T002610Z
UID:43507-1742032800-1742050800@livableraleigh.com
SUMMARY:Away with the Fairies
DESCRIPTION:Join us for a whimsical world of fun at Away with the Fairies!\nShop for treasures at enchanting vendors and explore a garden where fairies frequent. You can make magical crafts and even meet some playful fairies. Watch performers bring stories to life with interactive shows. Bring the children in your life to celebrate a day filled with imagination\, creativity\, great food\, and fun. Come dressed as your favorite wizard\, pixie\, or elf. All magical creatures are welcome at this free family-friendly festival! \nFor questions or more information\, please call the Mordecai Historic Park Visitor Center at 919-996-4364. Presented in collaboration with Paper & Stars Studio. \nLocation: Mordecai Historic Park\nAges: All\nCost: Free
URL:https://livableraleigh.com/event/away-with-the-fairies-2/
LOCATION:Mordecai Historic Park\, 1 Mimosa St\, Raleigh\, NC\, 27604
CATEGORIES:Parks & Rec
END:VEVENT
END:VCALENDAR