BEGIN:VCALENDAR
VERSION:2.0
PRODID:-//Livable Raleigh - ECPv6.15.20//NONSGML v1.0//EN
CALSCALE:GREGORIAN
METHOD:PUBLISH
X-ORIGINAL-URL:https://livableraleigh.com
X-WR-CALDESC:Events for Livable Raleigh
REFRESH-INTERVAL;VALUE=DURATION:PT1H
X-Robots-Tag:noindex
X-PUBLISHED-TTL:PT1H
BEGIN:VTIMEZONE
TZID:America/New_York
BEGIN:DAYLIGHT
TZOFFSETFROM:-0500
TZOFFSETTO:-0400
TZNAME:EDT
DTSTART:20240310T070000
END:DAYLIGHT
BEGIN:STANDARD
TZOFFSETFROM:-0400
TZOFFSETTO:-0500
TZNAME:EST
DTSTART:20241103T060000
END:STANDARD
BEGIN:DAYLIGHT
TZOFFSETFROM:-0500
TZOFFSETTO:-0400
TZNAME:EDT
DTSTART:20250309T070000
END:DAYLIGHT
BEGIN:STANDARD
TZOFFSETFROM:-0400
TZOFFSETTO:-0500
TZNAME:EST
DTSTART:20251102T060000
END:STANDARD
BEGIN:DAYLIGHT
TZOFFSETFROM:-0500
TZOFFSETTO:-0400
TZNAME:EDT
DTSTART:20260308T070000
END:DAYLIGHT
BEGIN:STANDARD
TZOFFSETFROM:-0400
TZOFFSETTO:-0500
TZNAME:EST
DTSTART:20261101T060000
END:STANDARD
END:VTIMEZONE
BEGIN:VEVENT
DTSTART;TZID=America/New_York:20250228T180000
DTEND;TZID=America/New_York:20250228T190000
DTSTAMP:20260419T215913
CREATED:20250215T172550Z
LAST-MODIFIED:20250215T172550Z
UID:43640-1740765600-1740769200@livableraleigh.com
SUMMARY:Black History Month Superhero Gallery
DESCRIPTION:All for one and One for all!\nSuperheroes come in all hues and have incredible abilities! Join Grady Bussey\, an African American historian and the Vice Chair of the Friends of the City of Raleigh Museum\, for a discussion on the history of African American superheroes in comics and films. \nLearn the history of African American comic book superheroes from then and now. Participants are encouraged to come dressed as their favorite superhero! \nLocation: John P. “Top” Green Community Center\nAge: All Ages\nCost: Free\nNo Registration Required
URL:https://livableraleigh.com/event/black-history-month-superhero-gallery/
LOCATION:John P. (Top) Greene\, 401 MLK Jr Blvd\, Raleigh
CATEGORIES:Parks & Rec
END:VEVENT
END:VCALENDAR