BEGIN:VCALENDAR
VERSION:2.0
PRODID:-//Livable Raleigh - ECPv6.15.20//NONSGML v1.0//EN
CALSCALE:GREGORIAN
METHOD:PUBLISH
X-ORIGINAL-URL:https://livableraleigh.com
X-WR-CALDESC:Events for Livable Raleigh
REFRESH-INTERVAL;VALUE=DURATION:PT1H
X-Robots-Tag:noindex
X-PUBLISHED-TTL:PT1H
BEGIN:VTIMEZONE
TZID:America/New_York
BEGIN:DAYLIGHT
TZOFFSETFROM:-0500
TZOFFSETTO:-0400
TZNAME:EDT
DTSTART:20240310T070000
END:DAYLIGHT
BEGIN:STANDARD
TZOFFSETFROM:-0400
TZOFFSETTO:-0500
TZNAME:EST
DTSTART:20241103T060000
END:STANDARD
BEGIN:DAYLIGHT
TZOFFSETFROM:-0500
TZOFFSETTO:-0400
TZNAME:EDT
DTSTART:20250309T070000
END:DAYLIGHT
BEGIN:STANDARD
TZOFFSETFROM:-0400
TZOFFSETTO:-0500
TZNAME:EST
DTSTART:20251102T060000
END:STANDARD
BEGIN:DAYLIGHT
TZOFFSETFROM:-0500
TZOFFSETTO:-0400
TZNAME:EDT
DTSTART:20260308T070000
END:DAYLIGHT
BEGIN:STANDARD
TZOFFSETFROM:-0400
TZOFFSETTO:-0500
TZNAME:EST
DTSTART:20261101T060000
END:STANDARD
END:VTIMEZONE
BEGIN:VEVENT
DTSTART;TZID=America/New_York:20250220T130000
DTEND;TZID=America/New_York:20250220T150000
DTSTAMP:20260420T010247
CREATED:20250201T022539Z
LAST-MODIFIED:20250201T022539Z
UID:43296-1740056400-1740063600@livableraleigh.com
SUMMARY:John P. “Top” Greene Community Center Hosts Senior Resource Fair
DESCRIPTION:The John P. “Top” Greene Community Center is thrilled to announce the upcoming Senior Resource Fair\, an event dedicated to empowering older adults with valuable information\, resources\, and opportunities for engagement.\nThis event will bring together a variety of local organizations\, service providers\, and community leaders who specialize in serving the needs of seniors. Attendees can explore resources related to healthcare\, wellness\, technology\, and nutrition—all designed to support an active and fulfilling lifestyle. \nEvent Highlights Include: \n\nFood Demonstrations and Nutritional Advice: Learn how to prepare healthy\, delicious meals and gain tips for balanced nutrition.\n Senior Primary Care Advisory: Expert guidance on managing chronic conditions and navigating healthcare options.\nHealth Benefits Specialist: Assistance in understanding and maximizing health benefits.\nSenior Technology Seminar: Learn how to use smartphones\, tablets\, and other technologies to stay connected and informed.\nCommunity Connections: Opportunities to network with local support groups and senior-focused organizations.\n\nThe Senior Resource Fair ensures that older adults in our community have access to the tools and knowledge they need to thrive! We invite all seniors\, their families\, and caregivers to join us for this enriching and supportive event. This free event is open to the public\, and no prior registration is required. \nLocation: John P. “Top” Greene Community Center\nAges: 55 and older\nCost: Free\nNo Registration is Required
URL:https://livableraleigh.com/event/john-p-top-greene-community-center-hosts-senior-resource-fair/
LOCATION:John P. (Top) Greene\, 401 MLK Jr Blvd\, Raleigh
CATEGORIES:Parks & Rec
END:VEVENT
END:VCALENDAR