BEGIN:VCALENDAR
VERSION:2.0
PRODID:-//Livable Raleigh - ECPv6.15.20//NONSGML v1.0//EN
CALSCALE:GREGORIAN
METHOD:PUBLISH
X-WR-CALNAME:Livable Raleigh
X-ORIGINAL-URL:https://livableraleigh.com
X-WR-CALDESC:Events for Livable Raleigh
REFRESH-INTERVAL;VALUE=DURATION:PT1H
X-Robots-Tag:noindex
X-PUBLISHED-TTL:PT1H
BEGIN:VTIMEZONE
TZID:America/New_York
BEGIN:DAYLIGHT
TZOFFSETFROM:-0500
TZOFFSETTO:-0400
TZNAME:EDT
DTSTART:20240310T070000
END:DAYLIGHT
BEGIN:STANDARD
TZOFFSETFROM:-0400
TZOFFSETTO:-0500
TZNAME:EST
DTSTART:20241103T060000
END:STANDARD
BEGIN:DAYLIGHT
TZOFFSETFROM:-0500
TZOFFSETTO:-0400
TZNAME:EDT
DTSTART:20250309T070000
END:DAYLIGHT
BEGIN:STANDARD
TZOFFSETFROM:-0400
TZOFFSETTO:-0500
TZNAME:EST
DTSTART:20251102T060000
END:STANDARD
BEGIN:DAYLIGHT
TZOFFSETFROM:-0500
TZOFFSETTO:-0400
TZNAME:EDT
DTSTART:20260308T070000
END:DAYLIGHT
BEGIN:STANDARD
TZOFFSETFROM:-0400
TZOFFSETTO:-0500
TZNAME:EST
DTSTART:20261101T060000
END:STANDARD
END:VTIMEZONE
BEGIN:VEVENT
DTSTART;TZID=America/New_York:20250207T183000
DTEND;TZID=America/New_York:20250207T203000
DTSTAMP:20260420T022212
CREATED:20250111T160536Z
LAST-MODIFIED:20250111T160536Z
UID:42974-1738953000-1738960200@livableraleigh.com
SUMMARY:My Best Gal/Guy & Me Red Carpet Dance
DESCRIPTION:Get dressed up and celebrate with your favorite role model(s)!\nThe Laurel Hills Community Center is having a night of dancing\, refreshments\, games\, and great entertainment! \nIt’s a celebration of family in all its wonderful forms! This event is not limited to specific family dynamics! Whether you’re a parent\, guardian\, grandparent\, aunt\, uncle\, or cousin\, everyone is invited to share in the festivities. \nThe fee includes hors d’oeuvres and door prizes. Register early because space is limited! The cost is per person. \nLocation: Laurel Hills Community Center\nAges: 6-15 (with an adult)\nCost: $25 per person\nRegister on RecLink
URL:https://livableraleigh.com/event/my-best-gal-guy-me-red-carpet-dance/
LOCATION:Laurel Hills Community Center\, 3808 Edwards Mill Road\, 27612
CATEGORIES:Parks & Rec
END:VEVENT
END:VCALENDAR